BEGIN:VCALENDAR
VERSION:2.0
PRODID:-//Freestyle Martial Arts - ECPv6.15.20//NONSGML v1.0//EN
CALSCALE:GREGORIAN
METHOD:PUBLISH
X-ORIGINAL-URL:https://freestylesd.com
X-WR-CALDESC:Events for Freestyle Martial Arts
REFRESH-INTERVAL;VALUE=DURATION:PT1H
X-Robots-Tag:noindex
X-PUBLISHED-TTL:PT1H
BEGIN:VTIMEZONE
TZID:America/Los_Angeles
BEGIN:DAYLIGHT
TZOFFSETFROM:-0800
TZOFFSETTO:-0700
TZNAME:PDT
DTSTART:20200308T100000
END:DAYLIGHT
BEGIN:STANDARD
TZOFFSETFROM:-0700
TZOFFSETTO:-0800
TZNAME:PST
DTSTART:20201101T090000
END:STANDARD
BEGIN:DAYLIGHT
TZOFFSETFROM:-0800
TZOFFSETTO:-0700
TZNAME:PDT
DTSTART:20210314T100000
END:DAYLIGHT
BEGIN:STANDARD
TZOFFSETFROM:-0700
TZOFFSETTO:-0800
TZNAME:PST
DTSTART:20211107T090000
END:STANDARD
BEGIN:DAYLIGHT
TZOFFSETFROM:-0800
TZOFFSETTO:-0700
TZNAME:PDT
DTSTART:20220313T100000
END:DAYLIGHT
BEGIN:STANDARD
TZOFFSETFROM:-0700
TZOFFSETTO:-0800
TZNAME:PST
DTSTART:20221106T090000
END:STANDARD
END:VTIMEZONE
BEGIN:VEVENT
DTSTART;TZID=America/Los_Angeles:20211030T110000
DTEND;TZID=America/Los_Angeles:20211030T120000
DTSTAMP:20260423T015549
CREATED:20210929T013652Z
LAST-MODIFIED:20210929T013652Z
UID:7469-1635591600-1635595200@freestylesd.com
SUMMARY:11am BBC Advanced Kicking & Stretching
DESCRIPTION:
URL:https://freestylesd.com/event/11am-bbc-advanced-kicking-stretching-22/
CATEGORIES:Black Belt Club
END:VEVENT
BEGIN:VEVENT
DTSTART;TZID=America/Los_Angeles:20211030T101500
DTEND;TZID=America/Los_Angeles:20211030T110000
DTSTAMP:20260423T015549
CREATED:20210929T013442Z
LAST-MODIFIED:20210929T013442Z
UID:7459-1635588900-1635591600@freestylesd.com
SUMMARY:10:15am BBC Advanced Weapons
DESCRIPTION:
URL:https://freestylesd.com/event/1015am-bbc-advanced-weapons-38/
CATEGORIES:Black Belt Club
END:VEVENT
BEGIN:VEVENT
DTSTART;TZID=America/Los_Angeles:20211029T173000
DTEND;TZID=America/Los_Angeles:20211029T181500
DTSTAMP:20260423T015549
CREATED:20210929T012420Z
LAST-MODIFIED:20210929T012420Z
UID:7419-1635528600-1635531300@freestylesd.com
SUMMARY:5:30 BBC Weapons
DESCRIPTION:
URL:https://freestylesd.com/event/530-bbc-weapons-5/
CATEGORIES:Black Belt Club
END:VEVENT
BEGIN:VEVENT
DTSTART;TZID=America/Los_Angeles:20211029T164500
DTEND;TZID=America/Los_Angeles:20211029T173000
DTSTAMP:20260423T015549
CREATED:20210929T012204Z
LAST-MODIFIED:20210929T012204Z
UID:7409-1635525900-1635528600@freestylesd.com
SUMMARY:4:45 BBC Sparring
DESCRIPTION:
URL:https://freestylesd.com/event/445-bbc-sparring-5/
CATEGORIES:Black Belt Club
END:VEVENT
BEGIN:VEVENT
DTSTART;TZID=America/Los_Angeles:20211023T110000
DTEND;TZID=America/Los_Angeles:20211023T120000
DTSTAMP:20260423T015549
CREATED:20210929T013632Z
LAST-MODIFIED:20210929T013632Z
UID:7467-1634986800-1634990400@freestylesd.com
SUMMARY:11am BBC Advanced Kicking & Stretching
DESCRIPTION:
URL:https://freestylesd.com/event/11am-bbc-advanced-kicking-stretching-21/
CATEGORIES:Black Belt Club
END:VEVENT
BEGIN:VEVENT
DTSTART;TZID=America/Los_Angeles:20211023T101500
DTEND;TZID=America/Los_Angeles:20211023T110000
DTSTAMP:20260423T015549
CREATED:20210929T013338Z
LAST-MODIFIED:20210929T013338Z
UID:7455-1634984100-1634986800@freestylesd.com
SUMMARY:10:15am BBC Advanced Weapons
DESCRIPTION:
URL:https://freestylesd.com/event/1015am-bbc-advanced-weapons-36/
CATEGORIES:Black Belt Club
END:VEVENT
BEGIN:VEVENT
DTSTART;TZID=America/Los_Angeles:20211022T173000
DTEND;TZID=America/Los_Angeles:20211022T181500
DTSTAMP:20260423T015549
CREATED:20210929T012357Z
LAST-MODIFIED:20210929T012357Z
UID:7417-1634923800-1634926500@freestylesd.com
SUMMARY:5:30 BBC Weapons
DESCRIPTION:
URL:https://freestylesd.com/event/530-bbc-weapons-4/
CATEGORIES:Black Belt Club
END:VEVENT
BEGIN:VEVENT
DTSTART;TZID=America/Los_Angeles:20211022T164500
DTEND;TZID=America/Los_Angeles:20211022T173000
DTSTAMP:20260423T015549
CREATED:20210929T012143Z
LAST-MODIFIED:20210929T012143Z
UID:7407-1634921100-1634923800@freestylesd.com
SUMMARY:4:45 BBC Sparring
DESCRIPTION:
URL:https://freestylesd.com/event/445-bbc-sparring-4/
CATEGORIES:Black Belt Club
END:VEVENT
BEGIN:VEVENT
DTSTART;TZID=America/Los_Angeles:20211016T110000
DTEND;TZID=America/Los_Angeles:20211016T120000
DTSTAMP:20260423T015549
CREATED:20210929T013609Z
LAST-MODIFIED:20210929T013609Z
UID:7465-1634382000-1634385600@freestylesd.com
SUMMARY:11am BBC Advanced Kicking & Stretching
DESCRIPTION:
URL:https://freestylesd.com/event/11am-bbc-advanced-kicking-stretching-20/
CATEGORIES:Black Belt Club
END:VEVENT
BEGIN:VEVENT
DTSTART;TZID=America/Los_Angeles:20211016T101500
DTEND;TZID=America/Los_Angeles:20211016T110000
DTSTAMP:20260423T015549
CREATED:20210929T013409Z
LAST-MODIFIED:20210929T013409Z
UID:7457-1634379300-1634382000@freestylesd.com
SUMMARY:10:15am BBC Advanced Weapons
DESCRIPTION:
URL:https://freestylesd.com/event/1015am-bbc-advanced-weapons-37/
CATEGORIES:Black Belt Club
END:VEVENT
BEGIN:VEVENT
DTSTART;TZID=America/Los_Angeles:20211015T173000
DTEND;TZID=America/Los_Angeles:20211015T181500
DTSTAMP:20260423T015549
CREATED:20210929T012333Z
LAST-MODIFIED:20210929T012333Z
UID:7415-1634319000-1634321700@freestylesd.com
SUMMARY:5:30 BBC Weapons
DESCRIPTION:
URL:https://freestylesd.com/event/530-bbc-weapons-3/
CATEGORIES:Black Belt Club
END:VEVENT
BEGIN:VEVENT
DTSTART;TZID=America/Los_Angeles:20211015T164500
DTEND;TZID=America/Los_Angeles:20211015T173000
DTSTAMP:20260423T015549
CREATED:20210929T012114Z
LAST-MODIFIED:20210929T012114Z
UID:7405-1634316300-1634319000@freestylesd.com
SUMMARY:4:45 BBC Sparring
DESCRIPTION:
URL:https://freestylesd.com/event/445-bbc-sparring-3/
CATEGORIES:Black Belt Club
END:VEVENT
BEGIN:VEVENT
DTSTART;TZID=America/Los_Angeles:20211009T110000
DTEND;TZID=America/Los_Angeles:20211009T120000
DTSTAMP:20260423T015549
CREATED:20210929T013547Z
LAST-MODIFIED:20210929T013547Z
UID:7463-1633777200-1633780800@freestylesd.com
SUMMARY:11am BBC Advanced Kicking & Stretching
DESCRIPTION:
URL:https://freestylesd.com/event/11am-bbc-advanced-kicking-stretching-19/
CATEGORIES:Black Belt Club
END:VEVENT
BEGIN:VEVENT
DTSTART;TZID=America/Los_Angeles:20211009T101500
DTEND;TZID=America/Los_Angeles:20211009T110000
DTSTAMP:20260423T015549
CREATED:20210929T013317Z
LAST-MODIFIED:20210929T013317Z
UID:7453-1633774500-1633777200@freestylesd.com
SUMMARY:10:15am BBC Advanced Weapons
DESCRIPTION:
URL:https://freestylesd.com/event/1015am-bbc-advanced-weapons-35/
CATEGORIES:Black Belt Club
END:VEVENT
BEGIN:VEVENT
DTSTART;TZID=America/Los_Angeles:20211008T173000
DTEND;TZID=America/Los_Angeles:20211008T181500
DTSTAMP:20260423T015549
CREATED:20210929T012312Z
LAST-MODIFIED:20210929T012312Z
UID:7413-1633714200-1633716900@freestylesd.com
SUMMARY:5:30 BBC Weapons
DESCRIPTION:
URL:https://freestylesd.com/event/530-bbc-weapons-2/
CATEGORIES:Black Belt Club
END:VEVENT
BEGIN:VEVENT
DTSTART;TZID=America/Los_Angeles:20211008T164500
DTEND;TZID=America/Los_Angeles:20211008T173000
DTSTAMP:20260423T015549
CREATED:20210929T012053Z
LAST-MODIFIED:20210929T012053Z
UID:7403-1633711500-1633714200@freestylesd.com
SUMMARY:4:45 BBC Sparring
DESCRIPTION:
URL:https://freestylesd.com/event/445-bbc-sparring-2/
CATEGORIES:Black Belt Club
END:VEVENT
BEGIN:VEVENT
DTSTART;TZID=America/Los_Angeles:20211002T110000
DTEND;TZID=America/Los_Angeles:20211002T120000
DTSTAMP:20260423T015549
CREATED:20210929T013524Z
LAST-MODIFIED:20210929T013524Z
UID:7461-1633172400-1633176000@freestylesd.com
SUMMARY:11am BBC Advanced Kicking & Stretching
DESCRIPTION:
URL:https://freestylesd.com/event/11am-bbc-advanced-kicking-stretching-18/
CATEGORIES:Black Belt Club
END:VEVENT
BEGIN:VEVENT
DTSTART;TZID=America/Los_Angeles:20211002T101500
DTEND;TZID=America/Los_Angeles:20211002T110000
DTSTAMP:20260423T015549
CREATED:20210929T013253Z
LAST-MODIFIED:20210929T013253Z
UID:7451-1633169700-1633172400@freestylesd.com
SUMMARY:10:15am BBC Advanced Weapons
DESCRIPTION:
URL:https://freestylesd.com/event/1015am-bbc-advanced-weapons-34/
CATEGORIES:Black Belt Club
END:VEVENT
BEGIN:VEVENT
DTSTART;TZID=America/Los_Angeles:20211001T173000
DTEND;TZID=America/Los_Angeles:20211001T181500
DTSTAMP:20260423T015549
CREATED:20210929T012251Z
LAST-MODIFIED:20210929T012251Z
UID:7411-1633109400-1633112100@freestylesd.com
SUMMARY:5:30 BBC Weapons
DESCRIPTION:
URL:https://freestylesd.com/event/530-bbc-weapons/
CATEGORIES:Black Belt Club
END:VEVENT
BEGIN:VEVENT
DTSTART;TZID=America/Los_Angeles:20211001T164500
DTEND;TZID=America/Los_Angeles:20211001T173000
DTSTAMP:20260423T015549
CREATED:20210929T012031Z
LAST-MODIFIED:20210929T012031Z
UID:7401-1633106700-1633109400@freestylesd.com
SUMMARY:4:45 BBC Sparring
DESCRIPTION:
URL:https://freestylesd.com/event/445-bbc-sparring/
CATEGORIES:Black Belt Club
END:VEVENT
BEGIN:VEVENT
DTSTART;TZID=America/Los_Angeles:20210925T110000
DTEND;TZID=America/Los_Angeles:20210925T120000
DTSTAMP:20260423T015549
CREATED:20210825T001907Z
LAST-MODIFIED:20210825T001916Z
UID:7070-1632567600-1632571200@freestylesd.com
SUMMARY:11am BBC Advanced Kicking & Stretching
DESCRIPTION:
URL:https://freestylesd.com/event/11am-bbc-advanced-kicking-stretching-17/
CATEGORIES:Black Belt Club
END:VEVENT
BEGIN:VEVENT
DTSTART;TZID=America/Los_Angeles:20210925T101500
DTEND;TZID=America/Los_Angeles:20210925T110000
DTSTAMP:20260423T015549
CREATED:20210825T002949Z
LAST-MODIFIED:20210825T002949Z
UID:7078-1632564900-1632567600@freestylesd.com
SUMMARY:10:15am BBC Advanced Weapons
DESCRIPTION:
URL:https://freestylesd.com/event/1015am-bbc-advanced-weapons-33/
CATEGORIES:Black Belt Club
END:VEVENT
BEGIN:VEVENT
DTSTART;TZID=America/Los_Angeles:20210924T173000
DTEND;TZID=America/Los_Angeles:20210924T181500
DTSTAMP:20260423T015549
CREATED:20210825T001700Z
LAST-MODIFIED:20210825T001700Z
UID:7062-1632504600-1632507300@freestylesd.com
SUMMARY:5:30pm BBC Weapons
DESCRIPTION:
URL:https://freestylesd.com/event/530pm-bbc-weapons-4/
CATEGORIES:Black Belt Club
END:VEVENT
BEGIN:VEVENT
DTSTART;TZID=America/Los_Angeles:20210924T164500
DTEND;TZID=America/Los_Angeles:20210924T173000
DTSTAMP:20260423T015549
CREATED:20210825T001520Z
LAST-MODIFIED:20210825T001520Z
UID:7054-1632501900-1632504600@freestylesd.com
SUMMARY:4:45pm BBC Sparring
DESCRIPTION:
URL:https://freestylesd.com/event/445pm-bbc-sparring-11/
CATEGORIES:Black Belt Club
END:VEVENT
BEGIN:VEVENT
DTSTART;TZID=America/Los_Angeles:20210918T110000
DTEND;TZID=America/Los_Angeles:20210918T120000
DTSTAMP:20260423T015549
CREATED:20210825T001844Z
LAST-MODIFIED:20210825T001844Z
UID:7068-1631962800-1631966400@freestylesd.com
SUMMARY:11am BBC Advanced Kicking & Stretching
DESCRIPTION:
URL:https://freestylesd.com/event/11am-bbc-advanced-kicking-stretching-16/
CATEGORIES:Black Belt Club
END:VEVENT
BEGIN:VEVENT
DTSTART;TZID=America/Los_Angeles:20210918T101500
DTEND;TZID=America/Los_Angeles:20210918T110000
DTSTAMP:20260423T015549
CREATED:20210825T002928Z
LAST-MODIFIED:20210825T002928Z
UID:7076-1631960100-1631962800@freestylesd.com
SUMMARY:10:15am BBC Advanced Weapons
DESCRIPTION:
URL:https://freestylesd.com/event/1015am-bbc-advanced-weapons-32/
CATEGORIES:Black Belt Club
END:VEVENT
BEGIN:VEVENT
DTSTART;TZID=America/Los_Angeles:20210917T173000
DTEND;TZID=America/Los_Angeles:20210917T181500
DTSTAMP:20260423T015549
CREATED:20210825T001639Z
LAST-MODIFIED:20210825T001639Z
UID:7060-1631899800-1631902500@freestylesd.com
SUMMARY:5:30pm BBC Weapons
DESCRIPTION:
URL:https://freestylesd.com/event/530pm-bbc-weapons-3/
CATEGORIES:Black Belt Club
END:VEVENT
BEGIN:VEVENT
DTSTART;TZID=America/Los_Angeles:20210917T164500
DTEND;TZID=America/Los_Angeles:20210917T173000
DTSTAMP:20260423T015549
CREATED:20210825T001413Z
LAST-MODIFIED:20210825T001413Z
UID:7050-1631897100-1631899800@freestylesd.com
SUMMARY:4:45pm BBC Sparring
DESCRIPTION:
URL:https://freestylesd.com/event/445pm-bbc-sparring-9/
CATEGORIES:Black Belt Club
END:VEVENT
BEGIN:VEVENT
DTSTART;TZID=America/Los_Angeles:20210911T110000
DTEND;TZID=America/Los_Angeles:20210911T120000
DTSTAMP:20260423T015549
CREATED:20210825T001824Z
LAST-MODIFIED:20210825T001824Z
UID:7066-1631358000-1631361600@freestylesd.com
SUMMARY:11am BBC Advanced Kicking & Stretching
DESCRIPTION:
URL:https://freestylesd.com/event/11am-bbc-advanced-kicking-stretching-15/
CATEGORIES:Black Belt Club
END:VEVENT
BEGIN:VEVENT
DTSTART;TZID=America/Los_Angeles:20210911T101500
DTEND;TZID=America/Los_Angeles:20210911T110000
DTSTAMP:20260423T015549
CREATED:20210825T002906Z
LAST-MODIFIED:20210825T002906Z
UID:7074-1631355300-1631358000@freestylesd.com
SUMMARY:10:15am BBC Advanced Weapons
DESCRIPTION:
URL:https://freestylesd.com/event/1015am-bbc-advanced-weapons-31/
CATEGORIES:Black Belt Club
END:VEVENT
END:VCALENDAR