BEGIN:VCALENDAR
VERSION:2.0
PRODID:-//Freestyle Martial Arts - ECPv6.15.20//NONSGML v1.0//EN
CALSCALE:GREGORIAN
METHOD:PUBLISH
X-ORIGINAL-URL:https://freestylesd.com
X-WR-CALDESC:Events for Freestyle Martial Arts
REFRESH-INTERVAL;VALUE=DURATION:PT1H
X-Robots-Tag:noindex
X-PUBLISHED-TTL:PT1H
BEGIN:VTIMEZONE
TZID:America/Los_Angeles
BEGIN:DAYLIGHT
TZOFFSETFROM:-0800
TZOFFSETTO:-0700
TZNAME:PDT
DTSTART:20200308T100000
END:DAYLIGHT
BEGIN:STANDARD
TZOFFSETFROM:-0700
TZOFFSETTO:-0800
TZNAME:PST
DTSTART:20201101T090000
END:STANDARD
BEGIN:DAYLIGHT
TZOFFSETFROM:-0800
TZOFFSETTO:-0700
TZNAME:PDT
DTSTART:20210314T100000
END:DAYLIGHT
BEGIN:STANDARD
TZOFFSETFROM:-0700
TZOFFSETTO:-0800
TZNAME:PST
DTSTART:20211107T090000
END:STANDARD
BEGIN:DAYLIGHT
TZOFFSETFROM:-0800
TZOFFSETTO:-0700
TZNAME:PDT
DTSTART:20220313T100000
END:DAYLIGHT
BEGIN:STANDARD
TZOFFSETFROM:-0700
TZOFFSETTO:-0800
TZNAME:PST
DTSTART:20221106T090000
END:STANDARD
END:VTIMEZONE
BEGIN:VEVENT
DTSTART;TZID=America/Los_Angeles:20210910T173000
DTEND;TZID=America/Los_Angeles:20210910T181500
DTSTAMP:20260423T140344
CREATED:20210825T001617Z
LAST-MODIFIED:20210825T001617Z
UID:7058-1631295000-1631297700@freestylesd.com
SUMMARY:5:30pm BBC Weapons
DESCRIPTION:
URL:https://freestylesd.com/event/530pm-bbc-weapons-2/
LOCATION:CA
CATEGORIES:Black Belt Club
END:VEVENT
BEGIN:VEVENT
DTSTART;TZID=America/Los_Angeles:20210910T164500
DTEND;TZID=America/Los_Angeles:20210910T173000
DTSTAMP:20260423T140344
CREATED:20210825T001343Z
LAST-MODIFIED:20210825T001343Z
UID:7048-1631292300-1631295000@freestylesd.com
SUMMARY:4:45pm BBC Sparring
DESCRIPTION:
URL:https://freestylesd.com/event/445pm-bbc-sparring-8/
LOCATION:CA
CATEGORIES:Black Belt Club
END:VEVENT
BEGIN:VEVENT
DTSTART;TZID=America/Los_Angeles:20210828T110000
DTEND;TZID=America/Los_Angeles:20210828T120000
DTSTAMP:20260423T140344
CREATED:20210825T001802Z
LAST-MODIFIED:20210825T001802Z
UID:7064-1630148400-1630152000@freestylesd.com
SUMMARY:11am BBC Advanced Kicking & Stretching
DESCRIPTION:
URL:https://freestylesd.com/event/11am-bbc-advanced-kicking-stretching-14/
LOCATION:CA
CATEGORIES:Black Belt Club
END:VEVENT
BEGIN:VEVENT
DTSTART;TZID=America/Los_Angeles:20210828T101500
DTEND;TZID=America/Los_Angeles:20210828T110000
DTSTAMP:20260423T140344
CREATED:20210825T002840Z
LAST-MODIFIED:20210825T002840Z
UID:7072-1630145700-1630148400@freestylesd.com
SUMMARY:10:15am BBC Advanced Weapons
DESCRIPTION:
URL:https://freestylesd.com/event/1015am-bbc-advanced-weapons-28/
LOCATION:CA
CATEGORIES:Black Belt Club
END:VEVENT
BEGIN:VEVENT
DTSTART;TZID=America/Los_Angeles:20210827T173000
DTEND;TZID=America/Los_Angeles:20210827T181500
DTSTAMP:20260423T140344
CREATED:20210825T001554Z
LAST-MODIFIED:20210825T001554Z
UID:7056-1630085400-1630088100@freestylesd.com
SUMMARY:5:30pm BBC Weapons
DESCRIPTION:
URL:https://freestylesd.com/event/530pm-bbc-weapons/
LOCATION:CA
CATEGORIES:Black Belt Club
END:VEVENT
BEGIN:VEVENT
DTSTART;TZID=America/Los_Angeles:20210827T164500
DTEND;TZID=America/Los_Angeles:20210827T173000
DTSTAMP:20260423T140344
CREATED:20210825T001244Z
LAST-MODIFIED:20210825T001306Z
UID:7045-1630082700-1630085400@freestylesd.com
SUMMARY:4:45pm BBC Sparring
DESCRIPTION:
URL:https://freestylesd.com/event/bbc-sparring-445/
LOCATION:CA
CATEGORIES:Black Belt Club
END:VEVENT
BEGIN:VEVENT
DTSTART;TZID=America/Los_Angeles:20210821T110000
DTEND;TZID=America/Los_Angeles:20210821T120000
DTSTAMP:20260423T140344
CREATED:20210720T002926Z
LAST-MODIFIED:20210720T002926Z
UID:6978-1629543600-1629547200@freestylesd.com
SUMMARY:11am BBC Advanced Kicking & Stretching (inside)
DESCRIPTION:
URL:https://freestylesd.com/event/11am-bbc-advanced-kicking-stretching-inside-9/
LOCATION:CA
CATEGORIES:Black Belt Club
END:VEVENT
BEGIN:VEVENT
DTSTART;TZID=America/Los_Angeles:20210821T101500
DTEND;TZID=America/Los_Angeles:20210821T110000
DTSTAMP:20260423T140344
CREATED:20210720T002317Z
LAST-MODIFIED:20210720T002317Z
UID:6964-1629540900-1629543600@freestylesd.com
SUMMARY:10:15am BBC Advanced Weapons (inside)
DESCRIPTION:
URL:https://freestylesd.com/event/1015am-bbc-advanced-weapons-inside-10/
LOCATION:CA
CATEGORIES:Black Belt Club
END:VEVENT
BEGIN:VEVENT
DTSTART;TZID=America/Los_Angeles:20210820T173000
DTEND;TZID=America/Los_Angeles:20210820T181500
DTSTAMP:20260423T140344
CREATED:20210719T235954Z
LAST-MODIFIED:20210719T235954Z
UID:6892-1629480600-1629483300@freestylesd.com
SUMMARY:5:30pm BBC Beginner Weapons (kamas)
DESCRIPTION:
URL:https://freestylesd.com/event/530pm-bbc-beginner-weapons-kamas-6/
LOCATION:CA
CATEGORIES:Black Belt Club
END:VEVENT
BEGIN:VEVENT
DTSTART;TZID=America/Los_Angeles:20210820T164500
DTEND;TZID=America/Los_Angeles:20210820T173000
DTSTAMP:20260423T140344
CREATED:20210720T000242Z
LAST-MODIFIED:20210720T000242Z
UID:6906-1629477900-1629480600@freestylesd.com
SUMMARY:4:45pm BBC Sparring
DESCRIPTION:
URL:https://freestylesd.com/event/445pm-bbc-sparring-6/
LOCATION:CA
CATEGORIES:Black Belt Club
END:VEVENT
BEGIN:VEVENT
DTSTART;TZID=America/Los_Angeles:20210814T110000
DTEND;TZID=America/Los_Angeles:20210814T120000
DTSTAMP:20260423T140344
CREATED:20210720T002908Z
LAST-MODIFIED:20210720T002908Z
UID:6976-1628938800-1628942400@freestylesd.com
SUMMARY:11am BBC Advanced Kicking & Stretching (inside)
DESCRIPTION:
URL:https://freestylesd.com/event/11am-bbc-advanced-kicking-stretching-inside-8/
LOCATION:CA
CATEGORIES:Black Belt Club
END:VEVENT
BEGIN:VEVENT
DTSTART;TZID=America/Los_Angeles:20210814T101500
DTEND;TZID=America/Los_Angeles:20210814T110000
DTSTAMP:20260423T140344
CREATED:20210720T002253Z
LAST-MODIFIED:20210720T002253Z
UID:6962-1628936100-1628938800@freestylesd.com
SUMMARY:10:15am BBC Advanced Weapons (inside)
DESCRIPTION:
URL:https://freestylesd.com/event/1015am-bbc-advanced-weapons-inside-9/
LOCATION:CA
CATEGORIES:Black Belt Club
END:VEVENT
BEGIN:VEVENT
DTSTART;TZID=America/Los_Angeles:20210813T173000
DTEND;TZID=America/Los_Angeles:20210813T181500
DTSTAMP:20260423T140344
CREATED:20210719T235931Z
LAST-MODIFIED:20210719T235931Z
UID:6890-1628875800-1628878500@freestylesd.com
SUMMARY:5:30pm BBC Beginner Weapons (kamas)
DESCRIPTION:
URL:https://freestylesd.com/event/530pm-bbc-beginner-weapons-kamas-5/
LOCATION:CA
CATEGORIES:Black Belt Club
END:VEVENT
BEGIN:VEVENT
DTSTART;TZID=America/Los_Angeles:20210813T164500
DTEND;TZID=America/Los_Angeles:20210813T173000
DTSTAMP:20260423T140344
CREATED:20210720T000222Z
LAST-MODIFIED:20210720T000222Z
UID:6904-1628873100-1628875800@freestylesd.com
SUMMARY:4:45pm BBC Sparring
DESCRIPTION:
URL:https://freestylesd.com/event/445pm-bbc-sparring-5/
LOCATION:CA
CATEGORIES:Black Belt Club
END:VEVENT
BEGIN:VEVENT
DTSTART;TZID=America/Los_Angeles:20210807T110000
DTEND;TZID=America/Los_Angeles:20210807T120000
DTSTAMP:20260423T140344
CREATED:20210720T002702Z
LAST-MODIFIED:20210720T002702Z
UID:6974-1628334000-1628337600@freestylesd.com
SUMMARY:11am BBC Advanced Kicking & Stretching (inside)
DESCRIPTION:
URL:https://freestylesd.com/event/11am-bbc-advanced-kicking-stretching-inside-7/
LOCATION:CA
CATEGORIES:Black Belt Club
END:VEVENT
BEGIN:VEVENT
DTSTART;TZID=America/Los_Angeles:20210807T101500
DTEND;TZID=America/Los_Angeles:20210807T110000
DTSTAMP:20260423T140344
CREATED:20210720T002042Z
LAST-MODIFIED:20210720T002042Z
UID:6960-1628331300-1628334000@freestylesd.com
SUMMARY:10:15am BBC Advanced Weapons (inside)
DESCRIPTION:
URL:https://freestylesd.com/event/1015am-bbc-advanced-weapons-inside-8/
LOCATION:CA
CATEGORIES:Black Belt Club
END:VEVENT
BEGIN:VEVENT
DTSTART;TZID=America/Los_Angeles:20210806T173000
DTEND;TZID=America/Los_Angeles:20210806T181500
DTSTAMP:20260423T140344
CREATED:20210719T235907Z
LAST-MODIFIED:20210719T235907Z
UID:6888-1628271000-1628273700@freestylesd.com
SUMMARY:5:30pm BBC Beginner Weapons (kamas)
DESCRIPTION:
URL:https://freestylesd.com/event/530pm-bbc-beginner-weapons-kamas-4/
LOCATION:CA
CATEGORIES:Black Belt Club
END:VEVENT
BEGIN:VEVENT
DTSTART;TZID=America/Los_Angeles:20210806T164500
DTEND;TZID=America/Los_Angeles:20210806T173000
DTSTAMP:20260423T140344
CREATED:20210720T000201Z
LAST-MODIFIED:20210720T000201Z
UID:6902-1628268300-1628271000@freestylesd.com
SUMMARY:4:45pm BBC Sparring
DESCRIPTION:
URL:https://freestylesd.com/event/445pm-bbc-sparring-4/
LOCATION:CA
CATEGORIES:Black Belt Club
END:VEVENT
BEGIN:VEVENT
DTSTART;TZID=America/Los_Angeles:20210731T110000
DTEND;TZID=America/Los_Angeles:20210731T120000
DTSTAMP:20260423T140344
CREATED:20210720T002638Z
LAST-MODIFIED:20210720T002638Z
UID:6972-1627729200-1627732800@freestylesd.com
SUMMARY:11am BBC Advanced Kicking & Stretching (inside)
DESCRIPTION:
URL:https://freestylesd.com/event/11am-bbc-advanced-kicking-stretching-inside-6/
LOCATION:CA
CATEGORIES:Black Belt Club
END:VEVENT
BEGIN:VEVENT
DTSTART;TZID=America/Los_Angeles:20210731T101500
DTEND;TZID=America/Los_Angeles:20210731T110000
DTSTAMP:20260423T140344
CREATED:20210720T002019Z
LAST-MODIFIED:20210720T002019Z
UID:6958-1627726500-1627729200@freestylesd.com
SUMMARY:10:15am BBC Advanced Weapons (inside)
DESCRIPTION:
URL:https://freestylesd.com/event/1015am-bbc-advanced-weapons-inside-7/
LOCATION:CA
CATEGORIES:Black Belt Club
END:VEVENT
BEGIN:VEVENT
DTSTART;TZID=America/Los_Angeles:20210730T173000
DTEND;TZID=America/Los_Angeles:20210730T181500
DTSTAMP:20260423T140344
CREATED:20210719T235844Z
LAST-MODIFIED:20210719T235844Z
UID:6886-1627666200-1627668900@freestylesd.com
SUMMARY:5:30pm BBC Beginner Weapons (kamas)
DESCRIPTION:
URL:https://freestylesd.com/event/530pm-bbc-beginner-weapons-kamas-3/
LOCATION:CA
CATEGORIES:Black Belt Club
END:VEVENT
BEGIN:VEVENT
DTSTART;TZID=America/Los_Angeles:20210730T164500
DTEND;TZID=America/Los_Angeles:20210730T173000
DTSTAMP:20260423T140344
CREATED:20210720T000141Z
LAST-MODIFIED:20210720T000141Z
UID:6900-1627663500-1627666200@freestylesd.com
SUMMARY:4:45pm BBC Sparring
DESCRIPTION:
URL:https://freestylesd.com/event/445pm-bbc-sparring-3/
LOCATION:CA
CATEGORIES:Black Belt Club
END:VEVENT
BEGIN:VEVENT
DTSTART;TZID=America/Los_Angeles:20210724T110000
DTEND;TZID=America/Los_Angeles:20210724T120000
DTSTAMP:20260423T140344
CREATED:20210720T002619Z
LAST-MODIFIED:20210720T002619Z
UID:6970-1627124400-1627128000@freestylesd.com
SUMMARY:11am BBC Advanced Kicking & Stretching (inside)
DESCRIPTION:
URL:https://freestylesd.com/event/11am-bbc-advanced-kicking-stretching-inside-5/
LOCATION:CA
CATEGORIES:Black Belt Club
END:VEVENT
BEGIN:VEVENT
DTSTART;TZID=America/Los_Angeles:20210724T101500
DTEND;TZID=America/Los_Angeles:20210724T110000
DTSTAMP:20260423T140344
CREATED:20210720T001953Z
LAST-MODIFIED:20210720T001953Z
UID:6956-1627121700-1627124400@freestylesd.com
SUMMARY:10:15am BBC Advanced Weapons (inside)
DESCRIPTION:
URL:https://freestylesd.com/event/1015am-bbc-advanced-weapons-inside-6/
LOCATION:CA
CATEGORIES:Black Belt Club
END:VEVENT
BEGIN:VEVENT
DTSTART;TZID=America/Los_Angeles:20210723T173000
DTEND;TZID=America/Los_Angeles:20210723T181500
DTSTAMP:20260423T140344
CREATED:20210719T235819Z
LAST-MODIFIED:20210719T235819Z
UID:6884-1627061400-1627064100@freestylesd.com
SUMMARY:5:30pm BBC Beginner Weapons (kamas)
DESCRIPTION:
URL:https://freestylesd.com/event/530pm-bbc-beginner-weapons-kamas-2/
LOCATION:CA
CATEGORIES:Black Belt Club
END:VEVENT
BEGIN:VEVENT
DTSTART;TZID=America/Los_Angeles:20210723T164500
DTEND;TZID=America/Los_Angeles:20210723T173000
DTSTAMP:20260423T140344
CREATED:20210720T000121Z
LAST-MODIFIED:20210720T000121Z
UID:6898-1627058700-1627061400@freestylesd.com
SUMMARY:4:45pm BBC Sparring
DESCRIPTION:
URL:https://freestylesd.com/event/445pm-bbc-sparring-2/
LOCATION:CA
CATEGORIES:Black Belt Club
END:VEVENT
BEGIN:VEVENT
DTSTART;TZID=America/Los_Angeles:20210717T110000
DTEND;TZID=America/Los_Angeles:20210717T120000
DTSTAMP:20260423T140344
CREATED:20210720T002600Z
LAST-MODIFIED:20210720T002600Z
UID:6968-1626519600-1626523200@freestylesd.com
SUMMARY:11am BBC Advanced Kicking & Stretching (inside)
DESCRIPTION:
URL:https://freestylesd.com/event/11am-bbc-advanced-kicking-stretching-inside-4/
LOCATION:CA
CATEGORIES:Black Belt Club
END:VEVENT
BEGIN:VEVENT
DTSTART;TZID=America/Los_Angeles:20210717T101500
DTEND;TZID=America/Los_Angeles:20210717T110000
DTSTAMP:20260423T140344
CREATED:20210720T001934Z
LAST-MODIFIED:20210720T001934Z
UID:6954-1626516900-1626519600@freestylesd.com
SUMMARY:10:15am BBC Advanced Weapons (inside)
DESCRIPTION:
URL:https://freestylesd.com/event/1015am-bbc-advanced-weapons-inside-5/
LOCATION:CA
CATEGORIES:Black Belt Club
END:VEVENT
BEGIN:VEVENT
DTSTART;TZID=America/Los_Angeles:20210716T173000
DTEND;TZID=America/Los_Angeles:20210716T181500
DTSTAMP:20260423T140344
CREATED:20210719T235756Z
LAST-MODIFIED:20210719T235756Z
UID:6882-1626456600-1626459300@freestylesd.com
SUMMARY:5:30pm BBC Beginner Weapons (kamas)
DESCRIPTION:
URL:https://freestylesd.com/event/530pm-bbc-beginner-weapons-kamas/
LOCATION:CA
CATEGORIES:Black Belt Club
END:VEVENT
BEGIN:VEVENT
DTSTART;TZID=America/Los_Angeles:20210716T164500
DTEND;TZID=America/Los_Angeles:20210716T173000
DTSTAMP:20260423T140344
CREATED:20210720T000100Z
LAST-MODIFIED:20210720T000100Z
UID:6896-1626453900-1626456600@freestylesd.com
SUMMARY:4:45pm BBC Sparring
DESCRIPTION:
URL:https://freestylesd.com/event/445pm-bbc-sparring/
LOCATION:CA
CATEGORIES:Black Belt Club
END:VEVENT
END:VCALENDAR