BEGIN:VCALENDAR
VERSION:2.0
PRODID:-//Freestyle Martial Arts - ECPv6.15.20//NONSGML v1.0//EN
CALSCALE:GREGORIAN
METHOD:PUBLISH
X-WR-CALNAME:Freestyle Martial Arts
X-ORIGINAL-URL:https://freestylesd.com
X-WR-CALDESC:Events for Freestyle Martial Arts
REFRESH-INTERVAL;VALUE=DURATION:PT1H
X-Robots-Tag:noindex
X-PUBLISHED-TTL:PT1H
BEGIN:VTIMEZONE
TZID:America/Los_Angeles
BEGIN:DAYLIGHT
TZOFFSETFROM:-0800
TZOFFSETTO:-0700
TZNAME:PDT
DTSTART:20200308T100000
END:DAYLIGHT
BEGIN:STANDARD
TZOFFSETFROM:-0700
TZOFFSETTO:-0800
TZNAME:PST
DTSTART:20201101T090000
END:STANDARD
BEGIN:DAYLIGHT
TZOFFSETFROM:-0800
TZOFFSETTO:-0700
TZNAME:PDT
DTSTART:20210314T100000
END:DAYLIGHT
BEGIN:STANDARD
TZOFFSETFROM:-0700
TZOFFSETTO:-0800
TZNAME:PST
DTSTART:20211107T090000
END:STANDARD
BEGIN:DAYLIGHT
TZOFFSETFROM:-0800
TZOFFSETTO:-0700
TZNAME:PDT
DTSTART:20220313T100000
END:DAYLIGHT
BEGIN:STANDARD
TZOFFSETFROM:-0700
TZOFFSETTO:-0800
TZNAME:PST
DTSTART:20221106T090000
END:STANDARD
END:VTIMEZONE
BEGIN:VEVENT
DTSTART;TZID=America/Los_Angeles:20211027T163000
DTEND;TZID=America/Los_Angeles:20211027T171500
DTSTAMP:20260423T160545
CREATED:20210929T222615Z
LAST-MODIFIED:20210929T222615Z
UID:7533-1635352200-1635354900@freestylesd.com
SUMMARY:4:30pm Green-Blue I (outside)
DESCRIPTION:
URL:https://freestylesd.com/event/430pm-green-blue-i-outside-30/
CATEGORIES:Dojo Schedule
END:VEVENT
BEGIN:VEVENT
DTSTART;TZID=America/Los_Angeles:20211027T163000
DTEND;TZID=America/Los_Angeles:20211027T171500
DTSTAMP:20260423T160545
CREATED:20210929T222331Z
LAST-MODIFIED:20210929T222331Z
UID:7517-1635352200-1635354900@freestylesd.com
SUMMARY:4:30pm White-Orange I (inside)
DESCRIPTION:
URL:https://freestylesd.com/event/430pm-white-orange-i-inside-30/
CATEGORIES:Dojo Schedule
END:VEVENT
BEGIN:VEVENT
DTSTART;TZID=America/Los_Angeles:20211027T160000
DTEND;TZID=America/Los_Angeles:20211027T163000
DTSTAMP:20260423T160545
CREATED:20210929T222003Z
LAST-MODIFIED:20210929T222003Z
UID:7501-1635350400-1635352200@freestylesd.com
SUMMARY:4pm Cool Cats (inside)
DESCRIPTION:
URL:https://freestylesd.com/event/4pm-cool-cats-inside-28/
CATEGORIES:Dojo Schedule
END:VEVENT
BEGIN:VEVENT
DTSTART;TZID=America/Los_Angeles:20211026T180000
DTEND;TZID=America/Los_Angeles:20211026T190000
DTSTAMP:20260423T160545
CREATED:20210929T231054Z
LAST-MODIFIED:20210929T231054Z
UID:7683-1635271200-1635274800@freestylesd.com
SUMMARY:6pm Jr Black Belts (inside)
DESCRIPTION:
URL:https://freestylesd.com/event/6pm-jr-black-belts-inside-29/
CATEGORIES:Dojo Schedule
END:VEVENT
BEGIN:VEVENT
DTSTART;TZID=America/Los_Angeles:20211026T171500
DTEND;TZID=America/Los_Angeles:20211026T180000
DTSTAMP:20260423T160545
CREATED:20210929T230729Z
LAST-MODIFIED:20210929T230729Z
UID:7667-1635268500-1635271200@freestylesd.com
SUMMARY:5:15 Youth White-Brown I (inside)
DESCRIPTION:
URL:https://freestylesd.com/event/515-youth-white-brown-i-inside-31/
CATEGORIES:Dojo Schedule
END:VEVENT
BEGIN:VEVENT
DTSTART;TZID=America/Los_Angeles:20211026T163000
DTEND;TZID=America/Los_Angeles:20211026T171500
DTSTAMP:20260423T160545
CREATED:20210929T230134Z
LAST-MODIFIED:20210929T230134Z
UID:7651-1635265800-1635268500@freestylesd.com
SUMMARY:4:30pm White-Orange I (outside)
DESCRIPTION:
URL:https://freestylesd.com/event/430pm-white-orange-i-outside-31/
CATEGORIES:Dojo Schedule
END:VEVENT
BEGIN:VEVENT
DTSTART;TZID=America/Los_Angeles:20211026T163000
DTEND;TZID=America/Los_Angeles:20211026T171500
DTSTAMP:20260423T160545
CREATED:20210929T225749Z
LAST-MODIFIED:20210929T225749Z
UID:7635-1635265800-1635268500@freestylesd.com
SUMMARY:4:30 Green-Blue I (inside)
DESCRIPTION:
URL:https://freestylesd.com/event/430-green-blue-i-inside-17/
CATEGORIES:Dojo Schedule
END:VEVENT
BEGIN:VEVENT
DTSTART;TZID=America/Los_Angeles:20211026T160000
DTEND;TZID=America/Los_Angeles:20211026T163000
DTSTAMP:20260423T160545
CREATED:20210929T225357Z
LAST-MODIFIED:20210929T225357Z
UID:7619-1635264000-1635265800@freestylesd.com
SUMMARY:4pm Cool Cat (outside)
DESCRIPTION:
URL:https://freestylesd.com/event/4pm-cool-cat-outside-15/
CATEGORIES:Dojo Schedule
END:VEVENT
BEGIN:VEVENT
DTSTART;TZID=America/Los_Angeles:20211025T190000
DTEND;TZID=America/Los_Angeles:20211025T200000
DTSTAMP:20260423T160545
CREATED:20210929T224912Z
LAST-MODIFIED:20210929T224912Z
UID:7595-1635188400-1635192000@freestylesd.com
SUMMARY:7pm Adults
DESCRIPTION:
URL:https://freestylesd.com/event/7pm-adults-30/
CATEGORIES:Dojo Schedule
END:VEVENT
BEGIN:VEVENT
DTSTART;TZID=America/Los_Angeles:20211025T180000
DTEND;TZID=America/Los_Angeles:20211025T184500
DTSTAMP:20260423T160545
CREATED:20210929T223536Z
LAST-MODIFIED:20210929T223536Z
UID:7579-1635184800-1635187500@freestylesd.com
SUMMARY:6pm Red I-BBC (inside)
DESCRIPTION:
URL:https://freestylesd.com/event/6pm-red-i-bbc-inside-29/
CATEGORIES:Dojo Schedule
END:VEVENT
BEGIN:VEVENT
DTSTART;TZID=America/Los_Angeles:20211025T171500
DTEND;TZID=America/Los_Angeles:20211025T180000
DTSTAMP:20260423T160545
CREATED:20210929T223238Z
LAST-MODIFIED:20210929T223238Z
UID:7563-1635182100-1635184800@freestylesd.com
SUMMARY:5:15pm Brown-JrBB (outside)
DESCRIPTION:
URL:https://freestylesd.com/event/515pm-brown-jrbb-outside-7/
CATEGORIES:Dojo Schedule
END:VEVENT
BEGIN:VEVENT
DTSTART;TZID=America/Los_Angeles:20211025T171500
DTEND;TZID=America/Los_Angeles:20211025T180000
DTSTAMP:20260423T160545
CREATED:20210929T222928Z
LAST-MODIFIED:20210929T222928Z
UID:7547-1635182100-1635184800@freestylesd.com
SUMMARY:5:15pm Brown-Red (inside)
DESCRIPTION:
URL:https://freestylesd.com/event/515pm-brown-red-inside-22/
CATEGORIES:Dojo Schedule
END:VEVENT
BEGIN:VEVENT
DTSTART;TZID=America/Los_Angeles:20211025T163000
DTEND;TZID=America/Los_Angeles:20211025T171500
DTSTAMP:20260423T160545
CREATED:20210929T222555Z
LAST-MODIFIED:20210929T222555Z
UID:7531-1635179400-1635182100@freestylesd.com
SUMMARY:4:30pm Green-Blue I (outside)
DESCRIPTION:
URL:https://freestylesd.com/event/430pm-green-blue-i-outside-29/
CATEGORIES:Dojo Schedule
END:VEVENT
BEGIN:VEVENT
DTSTART;TZID=America/Los_Angeles:20211025T163000
DTEND;TZID=America/Los_Angeles:20211025T171500
DTSTAMP:20260423T160545
CREATED:20210929T222311Z
LAST-MODIFIED:20210929T222311Z
UID:7515-1635179400-1635182100@freestylesd.com
SUMMARY:4:30pm White-Orange I (inside)
DESCRIPTION:
URL:https://freestylesd.com/event/430pm-white-orange-i-inside-29/
CATEGORIES:Dojo Schedule
END:VEVENT
BEGIN:VEVENT
DTSTART;TZID=America/Los_Angeles:20211025T160000
DTEND;TZID=America/Los_Angeles:20211025T163000
DTSTAMP:20260423T160545
CREATED:20210929T221946Z
LAST-MODIFIED:20210929T221946Z
UID:7499-1635177600-1635179400@freestylesd.com
SUMMARY:4pm Cool Cats (inside)
DESCRIPTION:
URL:https://freestylesd.com/event/4pm-cool-cats-inside-27/
CATEGORIES:Dojo Schedule
END:VEVENT
BEGIN:VEVENT
DTSTART;TZID=America/Los_Angeles:20211023T093000
DTEND;TZID=America/Los_Angeles:20211023T100000
DTSTAMP:20260423T160545
CREATED:20210929T013148Z
LAST-MODIFIED:20210929T013148Z
UID:7447-1634981400-1634983200@freestylesd.com
SUMMARY:9:30am Tiger Tots
DESCRIPTION:
URL:https://freestylesd.com/event/930am-tiger-tots-7/
CATEGORIES:Dojo Schedule
END:VEVENT
BEGIN:VEVENT
DTSTART;TZID=America/Los_Angeles:20211023T090000
DTEND;TZID=America/Los_Angeles:20211023T093000
DTSTAMP:20260423T160545
CREATED:20210929T012936Z
LAST-MODIFIED:20210929T012936Z
UID:7437-1634979600-1634981400@freestylesd.com
SUMMARY:9am Cool Cats
DESCRIPTION:
URL:https://freestylesd.com/event/9am-cool-cats-7/
CATEGORIES:Dojo Schedule
END:VEVENT
BEGIN:VEVENT
DTSTART;TZID=America/Los_Angeles:20211023T080000
DTEND;TZID=America/Los_Angeles:20211023T090000
DTSTAMP:20260423T160545
CREATED:20210929T012721Z
LAST-MODIFIED:20210929T012721Z
UID:7427-1634976000-1634979600@freestylesd.com
SUMMARY:8am Black Belt Candidate/JrBB/Adult forms
DESCRIPTION:
URL:https://freestylesd.com/event/8am-black-belt-candidate-jrbb-adult-forms-7/
CATEGORIES:Dojo Schedule
END:VEVENT
BEGIN:VEVENT
DTSTART;TZID=America/Los_Angeles:20211021T180000
DTEND;TZID=America/Los_Angeles:20211021T190000
DTSTAMP:20260423T160545
CREATED:20210929T231035Z
LAST-MODIFIED:20210929T231303Z
UID:7681-1634839200-1634842800@freestylesd.com
SUMMARY:6pm Jr Black Belts (inside) PRE-EXAM
DESCRIPTION:
URL:https://freestylesd.com/event/6pm-jr-black-belts-inside-28/
CATEGORIES:Dojo Schedule
END:VEVENT
BEGIN:VEVENT
DTSTART;TZID=America/Los_Angeles:20211021T171500
DTEND;TZID=America/Los_Angeles:20211021T180000
DTSTAMP:20260423T160545
CREATED:20210929T230706Z
LAST-MODIFIED:20210929T231319Z
UID:7665-1634836500-1634839200@freestylesd.com
SUMMARY:5:15 Youth White-Brown I (inside) PRE-EXAM
DESCRIPTION:
URL:https://freestylesd.com/event/515-youth-white-brown-i-inside-30/
CATEGORIES:Dojo Schedule
END:VEVENT
BEGIN:VEVENT
DTSTART;TZID=America/Los_Angeles:20211021T163000
DTEND;TZID=America/Los_Angeles:20211021T171500
DTSTAMP:20260423T160545
CREATED:20210929T230115Z
LAST-MODIFIED:20210929T231338Z
UID:7649-1634833800-1634836500@freestylesd.com
SUMMARY:4:30pm White-Orange I (outside) PRE-EXAM
DESCRIPTION:
URL:https://freestylesd.com/event/430pm-white-orange-i-outside-30/
CATEGORIES:Dojo Schedule
END:VEVENT
BEGIN:VEVENT
DTSTART;TZID=America/Los_Angeles:20211021T163000
DTEND;TZID=America/Los_Angeles:20211021T171500
DTSTAMP:20260423T160545
CREATED:20210929T225729Z
LAST-MODIFIED:20210929T231353Z
UID:7633-1634833800-1634836500@freestylesd.com
SUMMARY:4:30 Green-Blue I (inside) PRE-EXAM
DESCRIPTION:
URL:https://freestylesd.com/event/430-green-blue-i-inside-16/
CATEGORIES:Dojo Schedule
END:VEVENT
BEGIN:VEVENT
DTSTART;TZID=America/Los_Angeles:20211021T160000
DTEND;TZID=America/Los_Angeles:20211021T163000
DTSTAMP:20260423T160545
CREATED:20210929T225338Z
LAST-MODIFIED:20210929T225338Z
UID:7617-1634832000-1634833800@freestylesd.com
SUMMARY:4pm Cool Cat (outside)
DESCRIPTION:
URL:https://freestylesd.com/event/4pm-cool-cat-outside-14/
CATEGORIES:Dojo Schedule
END:VEVENT
BEGIN:VEVENT
DTSTART;TZID=America/Los_Angeles:20211021T160000
DTEND;TZID=America/Los_Angeles:20211021T163000
DTSTAMP:20260423T160545
CREATED:20210929T225102Z
LAST-MODIFIED:20210929T225102Z
UID:7603-1634832000-1634833800@freestylesd.com
SUMMARY:4pm Tiger Tots (inside)
DESCRIPTION:
URL:https://freestylesd.com/event/4pm-tiger-tots-inside-11/
CATEGORIES:Dojo Schedule
END:VEVENT
BEGIN:VEVENT
DTSTART;TZID=America/Los_Angeles:20211020T190000
DTEND;TZID=America/Los_Angeles:20211020T200000
DTSTAMP:20260423T160545
CREATED:20210929T224856Z
LAST-MODIFIED:20210929T231410Z
UID:7593-1634756400-1634760000@freestylesd.com
SUMMARY:7pm Adults PRE-EXAM
DESCRIPTION:
URL:https://freestylesd.com/event/7pm-adults-29/
CATEGORIES:Dojo Schedule
END:VEVENT
BEGIN:VEVENT
DTSTART;TZID=America/Los_Angeles:20211020T180000
DTEND;TZID=America/Los_Angeles:20211020T184500
DTSTAMP:20260423T160545
CREATED:20210929T223516Z
LAST-MODIFIED:20210929T231420Z
UID:7577-1634752800-1634755500@freestylesd.com
SUMMARY:6pm Red I-BBC (inside) PRE-EXAM
DESCRIPTION:
URL:https://freestylesd.com/event/6pm-red-i-bbc-inside-28/
CATEGORIES:Dojo Schedule
END:VEVENT
BEGIN:VEVENT
DTSTART;TZID=America/Los_Angeles:20211020T171500
DTEND;TZID=America/Los_Angeles:20211020T180000
DTSTAMP:20260423T160545
CREATED:20210929T223214Z
LAST-MODIFIED:20210929T231429Z
UID:7561-1634750100-1634752800@freestylesd.com
SUMMARY:5:15pm Brown-JrBB (outside) PRE-EXAM
DESCRIPTION:
URL:https://freestylesd.com/event/515pm-brown-jrbb-outside-6/
CATEGORIES:Dojo Schedule
END:VEVENT
BEGIN:VEVENT
DTSTART;TZID=America/Los_Angeles:20211020T171500
DTEND;TZID=America/Los_Angeles:20211020T180000
DTSTAMP:20260423T160545
CREATED:20210929T222909Z
LAST-MODIFIED:20210929T231437Z
UID:7545-1634750100-1634752800@freestylesd.com
SUMMARY:5:15pm Brown-Red (inside) PRE-EXAM
DESCRIPTION:
URL:https://freestylesd.com/event/515pm-brown-red-inside-21/
CATEGORIES:Dojo Schedule
END:VEVENT
BEGIN:VEVENT
DTSTART;TZID=America/Los_Angeles:20211020T163000
DTEND;TZID=America/Los_Angeles:20211020T171500
DTSTAMP:20260423T160545
CREATED:20210929T222536Z
LAST-MODIFIED:20210929T231450Z
UID:7529-1634747400-1634750100@freestylesd.com
SUMMARY:4:30pm Green-Blue I (outside) PRE-EXAM
DESCRIPTION:
URL:https://freestylesd.com/event/430pm-green-blue-i-outside-28/
CATEGORIES:Dojo Schedule
END:VEVENT
BEGIN:VEVENT
DTSTART;TZID=America/Los_Angeles:20211020T163000
DTEND;TZID=America/Los_Angeles:20211020T171500
DTSTAMP:20260423T160545
CREATED:20210929T222253Z
LAST-MODIFIED:20210929T231459Z
UID:7513-1634747400-1634750100@freestylesd.com
SUMMARY:4:30pm White-Orange I (inside) PRE-EXAM
DESCRIPTION:
URL:https://freestylesd.com/event/430pm-white-orange-i-inside-28/
CATEGORIES:Dojo Schedule
END:VEVENT
END:VCALENDAR