BEGIN:VCALENDAR
VERSION:2.0
PRODID:-//Freestyle Martial Arts - ECPv6.15.20//NONSGML v1.0//EN
CALSCALE:GREGORIAN
METHOD:PUBLISH
X-ORIGINAL-URL:https://freestylesd.com
X-WR-CALDESC:Events for Freestyle Martial Arts
REFRESH-INTERVAL;VALUE=DURATION:PT1H
X-Robots-Tag:noindex
X-PUBLISHED-TTL:PT1H
BEGIN:VTIMEZONE
TZID:America/Los_Angeles
BEGIN:DAYLIGHT
TZOFFSETFROM:-0800
TZOFFSETTO:-0700
TZNAME:PDT
DTSTART:20200308T100000
END:DAYLIGHT
BEGIN:STANDARD
TZOFFSETFROM:-0700
TZOFFSETTO:-0800
TZNAME:PST
DTSTART:20201101T090000
END:STANDARD
BEGIN:DAYLIGHT
TZOFFSETFROM:-0800
TZOFFSETTO:-0700
TZNAME:PDT
DTSTART:20210314T100000
END:DAYLIGHT
BEGIN:STANDARD
TZOFFSETFROM:-0700
TZOFFSETTO:-0800
TZNAME:PST
DTSTART:20211107T090000
END:STANDARD
BEGIN:DAYLIGHT
TZOFFSETFROM:-0800
TZOFFSETTO:-0700
TZNAME:PDT
DTSTART:20220313T100000
END:DAYLIGHT
BEGIN:STANDARD
TZOFFSETFROM:-0700
TZOFFSETTO:-0800
TZNAME:PST
DTSTART:20221106T090000
END:STANDARD
BEGIN:DAYLIGHT
TZOFFSETFROM:-0800
TZOFFSETTO:-0700
TZNAME:PDT
DTSTART:20230312T100000
END:DAYLIGHT
BEGIN:STANDARD
TZOFFSETFROM:-0700
TZOFFSETTO:-0800
TZNAME:PST
DTSTART:20231105T090000
END:STANDARD
BEGIN:DAYLIGHT
TZOFFSETFROM:-0800
TZOFFSETTO:-0700
TZNAME:PDT
DTSTART:20240310T100000
END:DAYLIGHT
BEGIN:STANDARD
TZOFFSETFROM:-0700
TZOFFSETTO:-0800
TZNAME:PST
DTSTART:20241103T090000
END:STANDARD
END:VTIMEZONE
BEGIN:VEVENT
DTSTART;TZID=America/Los_Angeles:20230920T163000
DTEND;TZID=America/Los_Angeles:20230921T190000
DTSTAMP:20260422T153041
CREATED:20230908T045318Z
LAST-MODIFIED:20230908T045318Z
UID:9150-1695227400-1695322800@freestylesd.com
SUMMARY:Karate Kid Pre-Exams in class
DESCRIPTION:Karate Kids Pre-Exam in class \nSeptember 20th & 21st \nBeginners be prepared to do: \nJab\, Cross\, Hook\, Hook \nRoundhouse Kick \nFront Roll \nAmericana
URL:https://freestylesd.com/event/karate-kid-pre-exams-in-class-3/
LOCATION:Freestyle Martial Arts\, 3760 Sports Arena Blvd. #1\, San Diego\, CA\, 92110\, United States
CATEGORIES:In Class Events,Pre-Exams
END:VEVENT
BEGIN:VEVENT
DTSTART;TZID=America/Los_Angeles:20230913T160000
DTEND;TZID=America/Los_Angeles:20230914T190000
DTSTAMP:20260422T153041
CREATED:20230908T050327Z
LAST-MODIFIED:20230908T050327Z
UID:9153-1694620800-1694718000@freestylesd.com
SUMMARY:Buddy Days\, Wed. Sept 13 & Thurs. Sept 14
DESCRIPTION:Buddy Day \nWed. Sept 13th & Thurs. Sept 14th \nGive your Golden Ticket to your friend\, have their parent fills it out and brings them to class. \nThey’ll join you in class and you both earn a prize! It’s fun to do martial arts with your buddy!
URL:https://freestylesd.com/event/buddy-days-wed-sept-13-thurs-sept-14/
LOCATION:Freestyle Martial Arts\, 3760 Sports Arena Blvd. #1\, San Diego\, CA\, 92110\, United States
CATEGORIES:In Class Events,Special Events
END:VEVENT
BEGIN:VEVENT
DTSTART;VALUE=DATE:20221121
DTEND;VALUE=DATE:20221123
DTSTAMP:20260422T153041
CREATED:20221012T013752Z
LAST-MODIFIED:20221012T013752Z
UID:8538-1668988800-1669161599@freestylesd.com
SUMMARY:Parent Workout
DESCRIPTION:Wear something comfortable and join your student in class! Go at your own pace\nHave fun and learn how to help your student become a better martial artist
URL:https://freestylesd.com/event/parent-workout-8/
LOCATION:CA
CATEGORIES:Dojo Schedule,In Class Events
END:VEVENT
BEGIN:VEVENT
DTSTART;TZID=America/Los_Angeles:20210429T173000
DTEND;TZID=America/Los_Angeles:20210429T184500
DTSTAMP:20260422T153041
CREATED:20210310T011743Z
LAST-MODIFIED:20210310T011743Z
UID:5683-1619717400-1619721900@freestylesd.com
SUMMARY:5:30 In Person Jr Black Belt
DESCRIPTION:
URL:https://freestylesd.com/event/530-in-person-jr-black-belt-5/
LOCATION:Freestyle Martial Arts\, 3760 Sports Arena Blvd. #1\, San Diego\, CA\, 92110\, United States
CATEGORIES:Dojo Schedule,In Class Events
END:VEVENT
BEGIN:VEVENT
DTSTART;TZID=America/Los_Angeles:20210429T164500
DTEND;TZID=America/Los_Angeles:20210429T173000
DTSTAMP:20260422T153041
CREATED:20210310T010901Z
LAST-MODIFIED:20210310T010901Z
UID:5661-1619714700-1619717400@freestylesd.com
SUMMARY:4:45 In Person Green – Blue
DESCRIPTION:
URL:https://freestylesd.com/event/445-in-person-green-blue-6/
LOCATION:Freestyle Martial Arts\, 3760 Sports Arena Blvd. #1\, San Diego\, CA\, 92110\, United States
CATEGORIES:Dojo Schedule,In Class Events
END:VEVENT
BEGIN:VEVENT
DTSTART;TZID=America/Los_Angeles:20210429T160000
DTEND;TZID=America/Los_Angeles:20210429T163000
DTSTAMP:20260422T153041
CREATED:20210309T235718Z
LAST-MODIFIED:20210309T235718Z
UID:5641-1619712000-1619713800@freestylesd.com
SUMMARY:4pm In Person Cool Cats
DESCRIPTION:
URL:https://freestylesd.com/event/4pm-in-person-cool-cats-7/
LOCATION:Freestyle Martial Arts\, 3760 Sports Arena Blvd. #1\, San Diego\, CA\, 92110\, United States
CATEGORIES:Dojo Schedule,In Class Events
END:VEVENT
BEGIN:VEVENT
DTSTART;TZID=America/Los_Angeles:20210428T173000
DTEND;TZID=America/Los_Angeles:20210428T181500
DTSTAMP:20260422T153041
CREATED:20210310T014904Z
LAST-MODIFIED:20210310T014904Z
UID:5729-1619631000-1619633700@freestylesd.com
SUMMARY:5:30 In Person Red – BBC
DESCRIPTION:
URL:https://freestylesd.com/event/530-in-person-red-bbc-5/
LOCATION:Freestyle Martial Arts\, 3760 Sports Arena Blvd. #1\, San Diego\, CA\, 92110\, United States
CATEGORIES:Dojo Schedule,In Class Events
END:VEVENT
BEGIN:VEVENT
DTSTART;TZID=America/Los_Angeles:20210428T164500
DTEND;TZID=America/Los_Angeles:20210428T173000
DTSTAMP:20260422T153041
CREATED:20210310T013548Z
LAST-MODIFIED:20210310T013548Z
UID:5713-1619628300-1619631000@freestylesd.com
SUMMARY:4:45 In Person Blue I – Brown I
DESCRIPTION:
URL:https://freestylesd.com/event/445-in-person-blue-i-brown-i-6/
LOCATION:Freestyle Martial Arts\, 3760 Sports Arena Blvd. #1\, San Diego\, CA\, 92110\, United States
CATEGORIES:Dojo Schedule,In Class Events
END:VEVENT
BEGIN:VEVENT
DTSTART;TZID=America/Los_Angeles:20210428T160000
DTEND;TZID=America/Los_Angeles:20210428T164500
DTSTAMP:20260422T153041
CREATED:20210310T012914Z
LAST-MODIFIED:20210310T012914Z
UID:5697-1619625600-1619628300@freestylesd.com
SUMMARY:4pm In Person White – Orange I
DESCRIPTION:
URL:https://freestylesd.com/event/4pm-in-person-white-orange-i-3/
LOCATION:Freestyle Martial Arts\, 3760 Sports Arena Blvd. #1\, San Diego\, CA\, 92110\, United States
CATEGORIES:Dojo Schedule,In Class Events
END:VEVENT
BEGIN:VEVENT
DTSTART;TZID=America/Los_Angeles:20210422T173000
DTEND;TZID=America/Los_Angeles:20210422T181500
DTSTAMP:20260422T153041
CREATED:20210310T011536Z
LAST-MODIFIED:20210310T011536Z
UID:5675-1619112600-1619115300@freestylesd.com
SUMMARY:5:30 In Person PRE EXAM Jr Black Belt
DESCRIPTION:
URL:https://freestylesd.com/event/530-in-person-pre-exam-jr-black-belt-2/
LOCATION:Freestyle Martial Arts\, 3760 Sports Arena Blvd. #1\, San Diego\, CA\, 92110\, United States
CATEGORIES:Dojo Schedule,In Class Events,Pre-Exams,Testing and Pre-Exams
END:VEVENT
BEGIN:VEVENT
DTSTART;TZID=America/Los_Angeles:20210422T164500
DTEND;TZID=America/Los_Angeles:20210422T173000
DTSTAMP:20260422T153041
CREATED:20210310T011002Z
LAST-MODIFIED:20210310T011002Z
UID:5663-1619109900-1619112600@freestylesd.com
SUMMARY:4:45 In Person PRE EXAM Green – Blue
DESCRIPTION:
URL:https://freestylesd.com/event/445-in-person-pre-exam-green-blue-2/
LOCATION:Freestyle Martial Arts\, 3760 Sports Arena Blvd. #1\, San Diego\, CA\, 92110\, United States
CATEGORIES:Dojo Schedule,In Class Events,Pre-Exams,Testing and Pre-Exams
END:VEVENT
BEGIN:VEVENT
DTSTART;TZID=America/Los_Angeles:20210422T160000
DTEND;TZID=America/Los_Angeles:20210422T163000
DTSTAMP:20260422T153041
CREATED:20210309T235650Z
LAST-MODIFIED:20210309T235650Z
UID:5639-1619107200-1619109000@freestylesd.com
SUMMARY:4pm In Person Cool Cats
DESCRIPTION:
URL:https://freestylesd.com/event/4pm-in-person-cool-cats-6/
LOCATION:Freestyle Martial Arts\, 3760 Sports Arena Blvd. #1\, San Diego\, CA\, 92110\, United States
CATEGORIES:Dojo Schedule,In Class Events
END:VEVENT
BEGIN:VEVENT
DTSTART;TZID=America/Los_Angeles:20210421T173000
DTEND;TZID=America/Los_Angeles:20210421T181500
DTSTAMP:20260422T153041
CREATED:20210310T014959Z
LAST-MODIFIED:20210310T014959Z
UID:5731-1619026200-1619028900@freestylesd.com
SUMMARY:5:30 In Person PRE EXAM Red – BBC
DESCRIPTION:
URL:https://freestylesd.com/event/530-in-person-pre-exam-red-bbc-2/
LOCATION:Freestyle Martial Arts\, 3760 Sports Arena Blvd. #1\, San Diego\, CA\, 92110\, United States
CATEGORIES:Dojo Schedule,In Class Events,Pre-Exams,Testing and Pre-Exams
END:VEVENT
BEGIN:VEVENT
DTSTART;TZID=America/Los_Angeles:20210421T164500
DTEND;TZID=America/Los_Angeles:20210421T173000
DTSTAMP:20260422T153041
CREATED:20210310T013625Z
LAST-MODIFIED:20210310T013625Z
UID:5715-1619023500-1619026200@freestylesd.com
SUMMARY:4:45 In Person PRE EXAM Blue I – Brown I
DESCRIPTION:
URL:https://freestylesd.com/event/445-in-person-pre-exam-blue-i-brown-i/
LOCATION:Freestyle Martial Arts\, 3760 Sports Arena Blvd. #1\, San Diego\, CA\, 92110\, United States
CATEGORIES:Dojo Schedule,In Class Events,Pre-Exams,Testing and Pre-Exams
END:VEVENT
BEGIN:VEVENT
DTSTART;TZID=America/Los_Angeles:20210421T160000
DTEND;TZID=America/Los_Angeles:20210421T164500
DTSTAMP:20260422T153041
CREATED:20210310T012955Z
LAST-MODIFIED:20210310T012955Z
UID:5699-1619020800-1619023500@freestylesd.com
SUMMARY:4pm In Person PRE EXAM White – Orange I
DESCRIPTION:
URL:https://freestylesd.com/event/4pm-in-person-pre-exam-white-orange-i/
LOCATION:Freestyle Martial Arts\, 3760 Sports Arena Blvd. #1\, San Diego\, CA\, 92110\, United States
CATEGORIES:Dojo Schedule,In Class Events,Pre-Exams,Testing and Pre-Exams
END:VEVENT
BEGIN:VEVENT
DTSTART;TZID=America/Los_Angeles:20210415T173000
DTEND;TZID=America/Los_Angeles:20210415T181500
DTSTAMP:20260422T153041
CREATED:20210310T011717Z
LAST-MODIFIED:20210310T011717Z
UID:5681-1618507800-1618510500@freestylesd.com
SUMMARY:5:30 In Person Jr Black Belt
DESCRIPTION:
URL:https://freestylesd.com/event/530-in-person-jr-black-belt-4/
LOCATION:Freestyle Martial Arts\, 3760 Sports Arena Blvd. #1\, San Diego\, CA\, 92110\, United States
CATEGORIES:Dojo Schedule,In Class Events
END:VEVENT
BEGIN:VEVENT
DTSTART;TZID=America/Los_Angeles:20210415T164500
DTEND;TZID=America/Los_Angeles:20210415T173000
DTSTAMP:20260422T153041
CREATED:20210310T010823Z
LAST-MODIFIED:20210310T010823Z
UID:5658-1618505100-1618507800@freestylesd.com
SUMMARY:4:45 In Person Green – Blue
DESCRIPTION:
URL:https://freestylesd.com/event/445-in-person-green-blue-5/
LOCATION:Freestyle Martial Arts\, 3760 Sports Arena Blvd. #1\, San Diego\, CA\, 92110\, United States
CATEGORIES:Dojo Schedule,In Class Events
END:VEVENT
BEGIN:VEVENT
DTSTART;TZID=America/Los_Angeles:20210415T160000
DTEND;TZID=America/Los_Angeles:20210415T163000
DTSTAMP:20260422T153041
CREATED:20210309T235621Z
LAST-MODIFIED:20210309T235621Z
UID:5637-1618502400-1618504200@freestylesd.com
SUMMARY:4pm In Person Cool Cats
DESCRIPTION:
URL:https://freestylesd.com/event/4pm-in-person-cool-cats-5/
LOCATION:Freestyle Martial Arts\, 3760 Sports Arena Blvd. #1\, San Diego\, CA\, 92110\, United States
CATEGORIES:Dojo Schedule,In Class Events
END:VEVENT
BEGIN:VEVENT
DTSTART;TZID=America/Los_Angeles:20210414T173000
DTEND;TZID=America/Los_Angeles:20210414T181500
DTSTAMP:20260422T153041
CREATED:20210310T014810Z
LAST-MODIFIED:20210310T014810Z
UID:5727-1618421400-1618424100@freestylesd.com
SUMMARY:5:30 In Person Red – BBC
DESCRIPTION:
URL:https://freestylesd.com/event/530-in-person-red-bbc-4/
LOCATION:Freestyle Martial Arts\, 3760 Sports Arena Blvd. #1\, San Diego\, CA\, 92110\, United States
CATEGORIES:Dojo Schedule,In Class Events
END:VEVENT
BEGIN:VEVENT
DTSTART;TZID=America/Los_Angeles:20210414T164500
DTEND;TZID=America/Los_Angeles:20210414T173000
DTSTAMP:20260422T153041
CREATED:20210310T013515Z
LAST-MODIFIED:20210310T013515Z
UID:5711-1618418700-1618421400@freestylesd.com
SUMMARY:4:45 In Person Blue I – Brown I
DESCRIPTION:
URL:https://freestylesd.com/event/445-in-person-blue-i-brown-i-5/
LOCATION:Freestyle Martial Arts\, 3760 Sports Arena Blvd. #1\, San Diego\, CA\, 92110\, United States
CATEGORIES:Dojo Schedule,In Class Events
END:VEVENT
BEGIN:VEVENT
DTSTART;TZID=America/Los_Angeles:20210414T160000
DTEND;TZID=America/Los_Angeles:20210414T164500
DTSTAMP:20260422T153041
CREATED:20210310T012844Z
LAST-MODIFIED:20210310T012844Z
UID:5695-1618416000-1618418700@freestylesd.com
SUMMARY:4pm In Person White – Orange I
DESCRIPTION:
URL:https://freestylesd.com/event/4pm-in-person-white-orange-i-2/
LOCATION:Freestyle Martial Arts\, 3760 Sports Arena Blvd. #1\, San Diego\, CA\, 92110\, United States
CATEGORIES:Dojo Schedule,In Class Events
END:VEVENT
BEGIN:VEVENT
DTSTART;TZID=America/Los_Angeles:20210408T173000
DTEND;TZID=America/Los_Angeles:20210408T181500
DTSTAMP:20260422T153041
CREATED:20210310T011649Z
LAST-MODIFIED:20210310T011649Z
UID:5679-1617903000-1617905700@freestylesd.com
SUMMARY:5:30 In Person Jr Black Belt
DESCRIPTION:
URL:https://freestylesd.com/event/530-in-person-jr-black-belt-3/
LOCATION:Freestyle Martial Arts\, 3760 Sports Arena Blvd. #1\, San Diego\, CA\, 92110\, United States
CATEGORIES:Dojo Schedule,In Class Events
END:VEVENT
BEGIN:VEVENT
DTSTART;TZID=America/Los_Angeles:20210408T164500
DTEND;TZID=America/Los_Angeles:20210408T173000
DTSTAMP:20260422T153041
CREATED:20210310T010708Z
LAST-MODIFIED:20210310T010708Z
UID:5656-1617900300-1617903000@freestylesd.com
SUMMARY:4:45 In Person Green – Blue
DESCRIPTION:
URL:https://freestylesd.com/event/445-in-person-green-blue-4/
LOCATION:Freestyle Martial Arts\, 3760 Sports Arena Blvd. #1\, San Diego\, CA\, 92110\, United States
CATEGORIES:Dojo Schedule,In Class Events
END:VEVENT
BEGIN:VEVENT
DTSTART;TZID=America/Los_Angeles:20210408T160000
DTEND;TZID=America/Los_Angeles:20210408T163000
DTSTAMP:20260422T153041
CREATED:20210309T235558Z
LAST-MODIFIED:20210309T235558Z
UID:5635-1617897600-1617899400@freestylesd.com
SUMMARY:4pm In Person Cool Cats
DESCRIPTION:
URL:https://freestylesd.com/event/4pm-in-person-cool-cats-4/
LOCATION:Freestyle Martial Arts\, 3760 Sports Arena Blvd. #1\, San Diego\, CA\, 92110\, United States
CATEGORIES:Dojo Schedule,In Class Events
END:VEVENT
BEGIN:VEVENT
DTSTART;TZID=America/Los_Angeles:20210407T173000
DTEND;TZID=America/Los_Angeles:20210407T181500
DTSTAMP:20260422T153041
CREATED:20210310T014734Z
LAST-MODIFIED:20210310T014734Z
UID:5725-1617816600-1617819300@freestylesd.com
SUMMARY:5:30 In Person Red – BBC
DESCRIPTION:
URL:https://freestylesd.com/event/530-in-person-red-bbc-3/
LOCATION:Freestyle Martial Arts\, 3760 Sports Arena Blvd. #1\, San Diego\, CA\, 92110\, United States
CATEGORIES:Dojo Schedule,In Class Events
END:VEVENT
BEGIN:VEVENT
DTSTART;TZID=America/Los_Angeles:20210407T164500
DTEND;TZID=America/Los_Angeles:20210407T173000
DTSTAMP:20260422T153041
CREATED:20210310T013442Z
LAST-MODIFIED:20210310T013442Z
UID:5709-1617813900-1617816600@freestylesd.com
SUMMARY:4:45 In Person Blue I – Brown I
DESCRIPTION:
URL:https://freestylesd.com/event/445-in-person-blue-i-brown-i-4/
LOCATION:Freestyle Martial Arts\, 3760 Sports Arena Blvd. #1\, San Diego\, CA\, 92110\, United States
CATEGORIES:Dojo Schedule,In Class Events
END:VEVENT
BEGIN:VEVENT
DTSTART;TZID=America/Los_Angeles:20210401T173000
DTEND;TZID=America/Los_Angeles:20210401T181500
DTSTAMP:20260422T153041
CREATED:20210310T011614Z
LAST-MODIFIED:20210310T011614Z
UID:5677-1617298200-1617300900@freestylesd.com
SUMMARY:5:30 In Person Jr Black Belt
DESCRIPTION:
URL:https://freestylesd.com/event/530-in-person-jr-black-belt-2/
LOCATION:Freestyle Martial Arts\, 3760 Sports Arena Blvd. #1\, San Diego\, CA\, 92110\, United States
CATEGORIES:Dojo Schedule,In Class Events
END:VEVENT
BEGIN:VEVENT
DTSTART;TZID=America/Los_Angeles:20210401T164500
DTEND;TZID=America/Los_Angeles:20210401T173000
DTSTAMP:20260422T153041
CREATED:20210310T000443Z
LAST-MODIFIED:20210310T000443Z
UID:5654-1617295500-1617298200@freestylesd.com
SUMMARY:4:45 In Person Green – Blue
DESCRIPTION:
URL:https://freestylesd.com/event/445-in-person-green-blue-3/
LOCATION:Freestyle Martial Arts\, 3760 Sports Arena Blvd. #1\, San Diego\, CA\, 92110\, United States
CATEGORIES:Dojo Schedule,In Class Events
END:VEVENT
BEGIN:VEVENT
DTSTART;TZID=America/Los_Angeles:20210401T160000
DTEND;TZID=America/Los_Angeles:20210401T163000
DTSTAMP:20260422T153041
CREATED:20210309T235534Z
LAST-MODIFIED:20210309T235534Z
UID:5633-1617292800-1617294600@freestylesd.com
SUMMARY:4pm In Person Cool Cats
DESCRIPTION:
URL:https://freestylesd.com/event/4pm-in-person-cool-cats-3/
LOCATION:Freestyle Martial Arts\, 3760 Sports Arena Blvd. #1\, San Diego\, CA\, 92110\, United States
CATEGORIES:Dojo Schedule,In Class Events
END:VEVENT
BEGIN:VEVENT
DTSTART;TZID=America/Los_Angeles:20210331T173000
DTEND;TZID=America/Los_Angeles:20210331T181500
DTSTAMP:20260422T153041
CREATED:20210303T020538Z
LAST-MODIFIED:20210303T020538Z
UID:5538-1617211800-1617214500@freestylesd.com
SUMMARY:5:30 In Person Red - BBC
DESCRIPTION:
URL:https://freestylesd.com/event/530-in-person-red-bbc-2/
LOCATION:Freestyle Martial Arts\, 3760 Sports Arena Blvd. #1\, San Diego\, CA\, 92110\, United States
CATEGORIES:Dojo Schedule,In Class Events
END:VEVENT
END:VCALENDAR