BEGIN:VCALENDAR
VERSION:2.0
PRODID:-//Freestyle Martial Arts - ECPv6.15.20//NONSGML v1.0//EN
CALSCALE:GREGORIAN
METHOD:PUBLISH
X-WR-CALNAME:Freestyle Martial Arts
X-ORIGINAL-URL:https://freestylesd.com
X-WR-CALDESC:Events for Freestyle Martial Arts
REFRESH-INTERVAL;VALUE=DURATION:PT1H
X-Robots-Tag:noindex
X-PUBLISHED-TTL:PT1H
BEGIN:VTIMEZONE
TZID:America/Los_Angeles
BEGIN:DAYLIGHT
TZOFFSETFROM:-0800
TZOFFSETTO:-0700
TZNAME:PDT
DTSTART:20190310T100000
END:DAYLIGHT
BEGIN:STANDARD
TZOFFSETFROM:-0700
TZOFFSETTO:-0800
TZNAME:PST
DTSTART:20191103T090000
END:STANDARD
BEGIN:DAYLIGHT
TZOFFSETFROM:-0800
TZOFFSETTO:-0700
TZNAME:PDT
DTSTART:20200308T100000
END:DAYLIGHT
BEGIN:STANDARD
TZOFFSETFROM:-0700
TZOFFSETTO:-0800
TZNAME:PST
DTSTART:20201101T090000
END:STANDARD
BEGIN:DAYLIGHT
TZOFFSETFROM:-0800
TZOFFSETTO:-0700
TZNAME:PDT
DTSTART:20210314T100000
END:DAYLIGHT
BEGIN:STANDARD
TZOFFSETFROM:-0700
TZOFFSETTO:-0800
TZNAME:PST
DTSTART:20211107T090000
END:STANDARD
BEGIN:DAYLIGHT
TZOFFSETFROM:-0800
TZOFFSETTO:-0700
TZNAME:PDT
DTSTART:20220313T100000
END:DAYLIGHT
BEGIN:STANDARD
TZOFFSETFROM:-0700
TZOFFSETTO:-0800
TZNAME:PST
DTSTART:20221106T090000
END:STANDARD
BEGIN:DAYLIGHT
TZOFFSETFROM:-0800
TZOFFSETTO:-0700
TZNAME:PDT
DTSTART:20230312T100000
END:DAYLIGHT
BEGIN:STANDARD
TZOFFSETFROM:-0700
TZOFFSETTO:-0800
TZNAME:PST
DTSTART:20231105T090000
END:STANDARD
BEGIN:DAYLIGHT
TZOFFSETFROM:-0800
TZOFFSETTO:-0700
TZNAME:PDT
DTSTART:20240310T100000
END:DAYLIGHT
BEGIN:STANDARD
TZOFFSETFROM:-0700
TZOFFSETTO:-0800
TZNAME:PST
DTSTART:20241103T090000
END:STANDARD
END:VTIMEZONE
BEGIN:VEVENT
DTSTART;TZID=America/Los_Angeles:20230908T160000
DTEND;TZID=America/Los_Angeles:20230908T170000
DTSTAMP:20260422T214319
CREATED:20230908T050711Z
LAST-MODIFIED:20230908T050711Z
UID:9155-1694188800-1694192400@freestylesd.com
SUMMARY:Karate Kid Leadership Meeting
DESCRIPTION:Leadership Meeting \nFriday\, September 8th 4pm \nAt the dojo
URL:https://freestylesd.com/event/karate-kid-leadership-meeting/
LOCATION:Freestyle Martial Arts\, 3760 Sports Arena Blvd. #1\, San Diego\, CA\, 92110\, United States
CATEGORIES:Leadership Team Meetings
END:VEVENT
BEGIN:VEVENT
DTSTART;TZID=America/Los_Angeles:20221202T160000
DTEND;TZID=America/Los_Angeles:20221202T163000
DTSTAMP:20260422T214319
CREATED:20220719T005038Z
LAST-MODIFIED:20220719T005038Z
UID:8377-1669996800-1669998600@freestylesd.com
SUMMARY:4pm Leadership Meeting
DESCRIPTION:
URL:https://freestylesd.com/event/4pm-leadership-meeting-20/
CATEGORIES:Leadership Team Meetings
END:VEVENT
BEGIN:VEVENT
DTSTART;TZID=America/Los_Angeles:20221104T160000
DTEND;TZID=America/Los_Angeles:20221104T163000
DTSTAMP:20260422T214319
CREATED:20220719T005009Z
LAST-MODIFIED:20220719T005009Z
UID:8375-1667577600-1667579400@freestylesd.com
SUMMARY:4pm Leadership Meeting
DESCRIPTION:
URL:https://freestylesd.com/event/4pm-leadership-meeting-19/
CATEGORIES:Leadership Team Meetings
END:VEVENT
BEGIN:VEVENT
DTSTART;TZID=America/Los_Angeles:20221007T160000
DTEND;TZID=America/Los_Angeles:20221007T163000
DTSTAMP:20260422T214319
CREATED:20220719T004936Z
LAST-MODIFIED:20220719T004936Z
UID:8373-1665158400-1665160200@freestylesd.com
SUMMARY:4pm Leadership Meeting
DESCRIPTION:
URL:https://freestylesd.com/event/4pm-leadership-meeting-18/
CATEGORIES:Leadership Team Meetings
END:VEVENT
BEGIN:VEVENT
DTSTART;TZID=America/Los_Angeles:20220909T160000
DTEND;TZID=America/Los_Angeles:20220909T163000
DTSTAMP:20260422T214319
CREATED:20220719T002811Z
LAST-MODIFIED:20220719T004520Z
UID:8363-1662739200-1662741000@freestylesd.com
SUMMARY:4pm Leadership Meeting
DESCRIPTION:
URL:https://freestylesd.com/event/4pm-leadership-meeting-17/
CATEGORIES:Leadership Team Meetings
END:VEVENT
BEGIN:VEVENT
DTSTART;TZID=America/Los_Angeles:20220805T160000
DTEND;TZID=America/Los_Angeles:20220805T163000
DTSTAMP:20260422T214319
CREATED:20220617T001027Z
LAST-MODIFIED:20220617T001027Z
UID:8275-1659715200-1659717000@freestylesd.com
SUMMARY:4pm Leadership Meeting
DESCRIPTION:
URL:https://freestylesd.com/event/4pm-leadership-meeting-16/
CATEGORIES:Leadership Team Meetings
END:VEVENT
BEGIN:VEVENT
DTSTART;TZID=America/Los_Angeles:20220708T160000
DTEND;TZID=America/Los_Angeles:20220708T163000
DTSTAMP:20260422T214319
CREATED:20220617T000535Z
LAST-MODIFIED:20220617T000535Z
UID:8266-1657296000-1657297800@freestylesd.com
SUMMARY:4pm Leadership Meeting
DESCRIPTION:
URL:https://freestylesd.com/event/4pm-leadership-meeting-15/
CATEGORIES:Leadership Team Meetings
END:VEVENT
BEGIN:VEVENT
DTSTART;TZID=America/Los_Angeles:20220603T160000
DTEND;TZID=America/Los_Angeles:20220603T170000
DTSTAMP:20260422T214319
CREATED:20220510T232103Z
LAST-MODIFIED:20220510T232103Z
UID:8181-1654272000-1654275600@freestylesd.com
SUMMARY:4pm Leadership Meeting
DESCRIPTION:
URL:https://freestylesd.com/event/4pm-leadership-meeting-14/
CATEGORIES:Dojo Schedule,Leadership Team Meetings
END:VEVENT
BEGIN:VEVENT
DTSTART;TZID=America/Los_Angeles:20220506T160000
DTEND;TZID=America/Los_Angeles:20220506T163000
DTSTAMP:20260422T214319
CREATED:20220413T004603Z
LAST-MODIFIED:20220413T004603Z
UID:8087-1651852800-1651854600@freestylesd.com
SUMMARY:4pm Leadership Meeting
DESCRIPTION:
URL:https://freestylesd.com/event/4pm-leadership-meeting-13/
CATEGORIES:Leadership Team Meetings
END:VEVENT
BEGIN:VEVENT
DTSTART;TZID=America/Los_Angeles:20220401T160000
DTEND;TZID=America/Los_Angeles:20220401T163000
DTSTAMP:20260422T214319
CREATED:20220316T014059Z
LAST-MODIFIED:20220316T014059Z
UID:8031-1648828800-1648830600@freestylesd.com
SUMMARY:4pm Leadership Meeting
DESCRIPTION:
URL:https://freestylesd.com/event/4pm-leadership-meeting-12/
CATEGORIES:Leadership Team Meetings
END:VEVENT
BEGIN:VEVENT
DTSTART;TZID=America/Los_Angeles:20220311T160000
DTEND;TZID=America/Los_Angeles:20220311T170000
DTSTAMP:20260422T214319
CREATED:20220306T192045Z
LAST-MODIFIED:20220306T192045Z
UID:7998-1647014400-1647018000@freestylesd.com
SUMMARY:4pm Leadership Meeting
DESCRIPTION:
URL:https://freestylesd.com/event/4pm-leadership-meeting-11/
CATEGORIES:Leadership Team Meetings
END:VEVENT
BEGIN:VEVENT
DTSTART;TZID=America/Los_Angeles:20220204T160000
DTEND;TZID=America/Los_Angeles:20220204T170000
DTSTAMP:20260422T214319
CREATED:20220119T023748Z
LAST-MODIFIED:20220119T023748Z
UID:7883-1643990400-1643994000@freestylesd.com
SUMMARY:4pm Leadership Meeting
DESCRIPTION:
URL:https://freestylesd.com/event/4pm-leadership-meeting-10/
CATEGORIES:Leadership Team Meetings
END:VEVENT
BEGIN:VEVENT
DTSTART;TZID=America/Los_Angeles:20220107T160000
DTEND;TZID=America/Los_Angeles:20220107T164500
DTSTAMP:20260422T214319
CREATED:20211203T015700Z
LAST-MODIFIED:20211203T015700Z
UID:7816-1641571200-1641573900@freestylesd.com
SUMMARY:4pm Leadership Team Meeting
DESCRIPTION:
URL:https://freestylesd.com/event/4pm-leadership-team-meeting/
CATEGORIES:Leadership Team Meetings
END:VEVENT
BEGIN:VEVENT
DTSTART;TZID=America/Los_Angeles:20211203T160000
DTEND;TZID=America/Los_Angeles:20211203T164500
DTSTAMP:20260422T214319
CREATED:20211104T230549Z
LAST-MODIFIED:20211104T230549Z
UID:7764-1638547200-1638549900@freestylesd.com
SUMMARY:4pm Leadership Meeting
DESCRIPTION:
URL:https://freestylesd.com/event/4pm-leadership-meeting-9/
CATEGORIES:Leadership Team Meetings
END:VEVENT
BEGIN:VEVENT
DTSTART;TZID=America/Los_Angeles:20211105T160000
DTEND;TZID=America/Los_Angeles:20211105T164500
DTSTAMP:20260422T214319
CREATED:20211104T230518Z
LAST-MODIFIED:20211104T230518Z
UID:7762-1636128000-1636130700@freestylesd.com
SUMMARY:4pm Leadership Meeting
DESCRIPTION:
URL:https://freestylesd.com/event/4pm-leadership-meeting-8/
CATEGORIES:Leadership Team Meetings
END:VEVENT
BEGIN:VEVENT
DTSTART;TZID=America/Los_Angeles:20211001T160000
DTEND;TZID=America/Los_Angeles:20211001T164500
DTSTAMP:20260422T214319
CREATED:20210929T011950Z
LAST-MODIFIED:20210929T011950Z
UID:7399-1633104000-1633106700@freestylesd.com
SUMMARY:4pm Leadership Meeting
DESCRIPTION:
URL:https://freestylesd.com/event/4pm-leadership-meeting-7/
CATEGORIES:Leadership Team Meetings
END:VEVENT
BEGIN:VEVENT
DTSTART;TZID=America/Los_Angeles:20210910T160000
DTEND;TZID=America/Los_Angeles:20210910T170000
DTSTAMP:20260422T214319
CREATED:20210825T000725Z
LAST-MODIFIED:20210825T000742Z
UID:7039-1631289600-1631293200@freestylesd.com
SUMMARY:Leadership Meeting\, 4pm
DESCRIPTION:Leadership meeting will be at 4pm at the dojo
URL:https://freestylesd.com/event/leadership-meeting-4pm-3/
CATEGORIES:Leadership Team Meetings
END:VEVENT
BEGIN:VEVENT
DTSTART;TZID=America/Los_Angeles:20210806T160000
DTEND;TZID=America/Los_Angeles:20210806T164500
DTSTAMP:20260422T214319
CREATED:20210720T000353Z
LAST-MODIFIED:20210720T000353Z
UID:6910-1628265600-1628268300@freestylesd.com
SUMMARY:4pm Leadership Meeting at the dojo
DESCRIPTION:
URL:https://freestylesd.com/event/4pm-leadership-meeting-at-the-dojo/
CATEGORIES:Leadership Team Meetings
END:VEVENT
BEGIN:VEVENT
DTSTART;TZID=America/Los_Angeles:20210709T160000
DTEND;TZID=America/Los_Angeles:20210709T164500
DTSTAMP:20260422T214319
CREATED:20210609T020818Z
LAST-MODIFIED:20210628T183728Z
UID:6608-1625846400-1625849100@freestylesd.com
SUMMARY:4pm Leadership Meeting at the dojo
DESCRIPTION:in person at the dojo
URL:https://freestylesd.com/event/4pm-leadership-meeting-6/
CATEGORIES:Leadership Team Meetings
END:VEVENT
BEGIN:VEVENT
DTSTART;TZID=America/Los_Angeles:20210604T160000
DTEND;TZID=America/Los_Angeles:20210604T163000
DTSTAMP:20260422T214319
CREATED:20210416T001017Z
LAST-MODIFIED:20210416T001017Z
UID:6165-1622822400-1622824200@freestylesd.com
SUMMARY:4pm Leadership Meeting
DESCRIPTION:
URL:https://freestylesd.com/event/4pm-leadership-meeting-5/
CATEGORIES:Leadership Team Meetings
END:VEVENT
BEGIN:VEVENT
DTSTART;TZID=America/Los_Angeles:20210409T160000
DTEND;TZID=America/Los_Angeles:20210409T163000
DTSTAMP:20260422T214319
CREATED:20210309T233714Z
LAST-MODIFIED:20210309T233714Z
UID:5610-1617984000-1617985800@freestylesd.com
SUMMARY:4pm Leadership Meeting
DESCRIPTION:
URL:https://freestylesd.com/event/4pm-leadership-meeting-4/
CATEGORIES:Leadership Team Meetings
END:VEVENT
BEGIN:VEVENT
DTSTART;TZID=America/Los_Angeles:20210305T160000
DTEND;TZID=America/Los_Angeles:20210305T163000
DTSTAMP:20260422T214319
CREATED:20210202T000150Z
LAST-MODIFIED:20210202T000150Z
UID:5256-1614960000-1614961800@freestylesd.com
SUMMARY:4pm Leadership Meeting
DESCRIPTION:Join Zoom Meeting\nhttps://zoom.us/j/930753197\nMeeting ID: 930 753 197﻿
URL:https://freestylesd.com/event/4pm-leadership-meeting-3/
CATEGORIES:Leadership Team Meetings
END:VEVENT
BEGIN:VEVENT
DTSTART;TZID=America/Los_Angeles:20210205T160000
DTEND;TZID=America/Los_Angeles:20210205T163000
DTSTAMP:20260422T214319
CREATED:20210106T012025Z
LAST-MODIFIED:20210202T000018Z
UID:5135-1612540800-1612542600@freestylesd.com
SUMMARY:4pm Zoom Leadership Meeting
DESCRIPTION:Join Zoom Meeting\nhttps://zoom.us/j/930753197\nMeeting ID: 930 753 197﻿
URL:https://freestylesd.com/event/4pm-zoom-leadership-meeting-9/
CATEGORIES:Leadership Team Meetings
END:VEVENT
BEGIN:VEVENT
DTSTART;TZID=America/Los_Angeles:20210108T160000
DTEND;TZID=America/Los_Angeles:20210108T163000
DTSTAMP:20260422T214319
CREATED:20201202T012722Z
LAST-MODIFIED:20201202T012722Z
UID:4966-1610121600-1610123400@freestylesd.com
SUMMARY:4pm Zoom Leadership Meeting
DESCRIPTION:
URL:https://freestylesd.com/event/4pm-zoom-leadership-meeting-8/
CATEGORIES:Leadership Team Meetings
END:VEVENT
BEGIN:VEVENT
DTSTART;TZID=America/Los_Angeles:20201204T160000
DTEND;TZID=America/Los_Angeles:20201204T163000
DTSTAMP:20260422T214319
CREATED:20201006T231832Z
LAST-MODIFIED:20201006T231832Z
UID:4487-1607097600-1607099400@freestylesd.com
SUMMARY:4pm Zoom Leadership Meeting
DESCRIPTION:https://zoom.us/j/930753197\nMeeting ID: 930 753 197
URL:https://freestylesd.com/event/4pm-zoom-leadership-meeting-7/
CATEGORIES:Leadership Team Meetings
END:VEVENT
BEGIN:VEVENT
DTSTART;TZID=America/Los_Angeles:20201106T160000
DTEND;TZID=America/Los_Angeles:20201106T163000
DTSTAMP:20260422T214319
CREATED:20201006T231734Z
LAST-MODIFIED:20201006T231734Z
UID:4485-1604678400-1604680200@freestylesd.com
SUMMARY:4pm Zoom Leadership Meeting
DESCRIPTION:https://zoom.us/j/930753197\nMeeting ID: 930 753 197
URL:https://freestylesd.com/event/4pm-zoom-leadership-meeting-6/
CATEGORIES:Leadership Team Meetings
END:VEVENT
BEGIN:VEVENT
DTSTART;TZID=America/Los_Angeles:20200911T160000
DTEND;TZID=America/Los_Angeles:20200911T163000
DTSTAMP:20260422T214319
CREATED:20200809T214717Z
LAST-MODIFIED:20200809T214717Z
UID:3495-1599840000-1599841800@freestylesd.com
SUMMARY:4pm Zoom Leadership Meeting
DESCRIPTION:
URL:https://freestylesd.com/event/4pm-zoom-leadership-meeting-5/
CATEGORIES:Leadership Team Meetings
END:VEVENT
BEGIN:VEVENT
DTSTART;TZID=America/Los_Angeles:20200807T160000
DTEND;TZID=America/Los_Angeles:20200807T170000
DTSTAMP:20260422T214319
CREATED:20200707T225716Z
LAST-MODIFIED:20200707T225716Z
UID:3311-1596816000-1596819600@freestylesd.com
SUMMARY:4pm Zoom Leadership Meeting
DESCRIPTION:
URL:https://freestylesd.com/event/4pm-zoom-leadership-meeting-4/
CATEGORIES:Leadership Team Meetings
END:VEVENT
BEGIN:VEVENT
DTSTART;TZID=America/Los_Angeles:20200710T160000
DTEND;TZID=America/Los_Angeles:20200710T163000
DTSTAMP:20260422T214319
CREATED:20200630T232417Z
LAST-MODIFIED:20200630T232417Z
UID:3117-1594396800-1594398600@freestylesd.com
SUMMARY:4pm Zoom Leadership Meeting
DESCRIPTION:
URL:https://freestylesd.com/event/4pm-zoom-leadership-meeting-3/
CATEGORIES:Leadership Team Meetings
END:VEVENT
BEGIN:VEVENT
DTSTART;TZID=America/Los_Angeles:20200605T160000
DTEND;TZID=America/Los_Angeles:20200605T163000
DTSTAMP:20260422T214319
CREATED:20200514T222807Z
LAST-MODIFIED:20200514T222807Z
UID:2748-1591372800-1591374600@freestylesd.com
SUMMARY:4pm Zoom Leadership Meeting
DESCRIPTION:Have your notebooks ready!
URL:https://freestylesd.com/event/4pm-zoom-leadership-meeting-2/
CATEGORIES:Leadership Team Meetings
END:VEVENT
END:VCALENDAR