BEGIN:VCALENDAR
VERSION:2.0
PRODID:-//Freestyle Martial Arts - ECPv6.15.20//NONSGML v1.0//EN
CALSCALE:GREGORIAN
METHOD:PUBLISH
X-WR-CALNAME:Freestyle Martial Arts
X-ORIGINAL-URL:https://freestylesd.com
X-WR-CALDESC:Events for Freestyle Martial Arts
REFRESH-INTERVAL;VALUE=DURATION:PT1H
X-Robots-Tag:noindex
X-PUBLISHED-TTL:PT1H
BEGIN:VTIMEZONE
TZID:America/Los_Angeles
BEGIN:DAYLIGHT
TZOFFSETFROM:-0800
TZOFFSETTO:-0700
TZNAME:PDT
DTSTART:20170312T100000
END:DAYLIGHT
BEGIN:STANDARD
TZOFFSETFROM:-0700
TZOFFSETTO:-0800
TZNAME:PST
DTSTART:20171105T090000
END:STANDARD
BEGIN:DAYLIGHT
TZOFFSETFROM:-0800
TZOFFSETTO:-0700
TZNAME:PDT
DTSTART:20180311T100000
END:DAYLIGHT
BEGIN:STANDARD
TZOFFSETFROM:-0700
TZOFFSETTO:-0800
TZNAME:PST
DTSTART:20181104T090000
END:STANDARD
BEGIN:DAYLIGHT
TZOFFSETFROM:-0800
TZOFFSETTO:-0700
TZNAME:PDT
DTSTART:20190310T100000
END:DAYLIGHT
BEGIN:STANDARD
TZOFFSETFROM:-0700
TZOFFSETTO:-0800
TZNAME:PST
DTSTART:20191103T090000
END:STANDARD
BEGIN:DAYLIGHT
TZOFFSETFROM:-0800
TZOFFSETTO:-0700
TZNAME:PDT
DTSTART:20200308T100000
END:DAYLIGHT
BEGIN:STANDARD
TZOFFSETFROM:-0700
TZOFFSETTO:-0800
TZNAME:PST
DTSTART:20201101T090000
END:STANDARD
END:VTIMEZONE
BEGIN:VTIMEZONE
TZID:UTC
BEGIN:STANDARD
TZOFFSETFROM:+0000
TZOFFSETTO:+0000
TZNAME:UTC
DTSTART:20160101T000000
END:STANDARD
END:VTIMEZONE
BEGIN:VTIMEZONE
TZID:America/Tijuana
BEGIN:DAYLIGHT
TZOFFSETFROM:-0800
TZOFFSETTO:-0700
TZNAME:PDT
DTSTART:20160313T100000
END:DAYLIGHT
BEGIN:STANDARD
TZOFFSETFROM:-0700
TZOFFSETTO:-0800
TZNAME:PST
DTSTART:20161106T090000
END:STANDARD
BEGIN:DAYLIGHT
TZOFFSETFROM:-0800
TZOFFSETTO:-0700
TZNAME:PDT
DTSTART:20170312T100000
END:DAYLIGHT
BEGIN:STANDARD
TZOFFSETFROM:-0700
TZOFFSETTO:-0800
TZNAME:PST
DTSTART:20171105T090000
END:STANDARD
BEGIN:DAYLIGHT
TZOFFSETFROM:-0800
TZOFFSETTO:-0700
TZNAME:PDT
DTSTART:20180311T100000
END:DAYLIGHT
BEGIN:STANDARD
TZOFFSETFROM:-0700
TZOFFSETTO:-0800
TZNAME:PST
DTSTART:20181104T090000
END:STANDARD
END:VTIMEZONE
BEGIN:VEVENT
DTSTART;TZID=America/Los_Angeles:20190929T110000
DTEND;TZID=America/Los_Angeles:20190929T170000
DTSTAMP:20260422T223109
CREATED:20190723T224547Z
LAST-MODIFIED:20190723T224547Z
UID:1537-1569754800-1569776400@freestylesd.com
SUMMARY:In House Tournament 11-5pm
DESCRIPTION:Participating in tournaments helps build confidence and improves your skills as you prepare. \nDo your best – Train hard – Learn – Improve – Have FUN! \n1:00-3: 00 pm – Brown through JBB (karate kids and youth) \n3:00-4:00 pm – Green through Blue I (karate kids and youth) and STARS students \n4:00-5:00 pm – Cool Cats and Tiger Tots and White through Orange I (karate kids and youth) \nSign up at the front desk
URL:https://freestylesd.com/event/in-house-tournament-11-5pm-2/
LOCATION:Freestyle Martial Arts\, 3760 Sports Arena Blvd. #1\, San Diego\, CA\, 92110\, United States
CATEGORIES:Special Events,Tournament
ORGANIZER;CN="Sensei Hayden":MAILTO:senseihayden@usafma.com
END:VEVENT
BEGIN:VEVENT
DTSTART;TZID=America/Los_Angeles:20190914T170000
DTEND;TZID=America/Los_Angeles:20190914T200000
DTSTAMP:20260422T223109
CREATED:20190723T223953Z
LAST-MODIFIED:20190723T223953Z
UID:1535-1568480400-1568491200@freestylesd.com
SUMMARY:Movie Night
DESCRIPTION:
URL:https://freestylesd.com/event/movie-night/
LOCATION:Freestyle Martial Arts\, 3760 Sports Arena Blvd. #1\, San Diego\, CA\, 92110\, United States
CATEGORIES:Special Events
END:VEVENT
BEGIN:VEVENT
DTSTART;TZID=America/Los_Angeles:20190811T110000
DTEND;TZID=America/Los_Angeles:20190811T130000
DTSTAMP:20260422T223109
CREATED:20190723T021433Z
LAST-MODIFIED:20190809T012903Z
UID:1516-1565521200-1565528400@freestylesd.com
SUMMARY:Women's Self Defense 11am-1pm
DESCRIPTION:Women Empowered \nLEARN FUNCTIONAL SELF DEFENSE \nDevelop knowledge and understanding of martial arts principles\, carefully synthesized for women \nCall or email to sign up (619)224-9600 – senseijackson@usafma.com \nDress code: workout clothing \nCOST $25 SPECIAL ($99 value) \nTo pay online\, please click on the link below: \nhttps://freestylesd.com/events-2/
URL:https://freestylesd.com/event/womens-self-defense-11am-1pm/
LOCATION:Freestyle Martial Arts\, 3760 Sports Arena Blvd. #1\, San Diego\, CA\, 92110\, United States
CATEGORIES:Special Events
ORGANIZER;CN="Sensei Hayden":MAILTO:senseihayden@usafma.com
END:VEVENT
BEGIN:VEVENT
DTSTART;TZID=America/Los_Angeles:20190728T100000
DTEND;TZID=America/Los_Angeles:20190728T140000
DTSTAMP:20260422T223109
CREATED:20190531T030609Z
LAST-MODIFIED:20190723T014427Z
UID:1459-1564308000-1564322400@freestylesd.com
SUMMARY:Student Appreciation Picnic 10am-2pm
DESCRIPTION:Annual Student Appreciation Picnic \nSunday\, July 28th 10:00am – 2:00pm \nGrass/Sand clean up community service 9:30-10:30am \nCrowne Point in Mission Bay \n700 Corona Oriente Road\, San Diego \nOur annual picnic is a time for all of our families to come together and share food\, fun and games! \nWe will provide the basics and Freestyle’s fabulous chefs will barbecue the hamburgers\, veggie burgers and hot dogs \nWe will have games for the kids and a giant jump for the smaller kids.  Get ready for our FAMOUS “WATER BATTLE” WITH THE SENSEI’S! \nBring a dish to share (optional). Sign up at the front desk \nAlso bring chairs\, towels\, cooler\, sunscreen\, flip filops\, bathing suits or change of clothing if you participate in the water battle and of course…WATER TOYS! \nWe also always need help bringing buckets of water for the water battle\, adults to monitor the giant jump\, volunteers for cooking and food prep \nCall 619-224-9600 or email SenseiHayden@usafma.com if you would like to help or have questions!
URL:https://freestylesd.com/event/student-appreciation-picnic-10am-2pm/
LOCATION:Crown Point in Mission Bay\, 700 Corona Oriente Rd\, San Diego\, California\, 92109
CATEGORIES:Special Events,Team Freestyle
END:VEVENT
BEGIN:VEVENT
DTSTART;TZID=America/Los_Angeles:20190728T093000
DTEND;TZID=America/Los_Angeles:20190728T103000
DTSTAMP:20260422T223109
CREATED:20190723T014811Z
LAST-MODIFIED:20190723T014811Z
UID:1514-1564306200-1564309800@freestylesd.com
SUMMARY:Grass/Sand clean up 9:30-10:30am
DESCRIPTION:Let’s give back to our community! \nHelp us clean up the grass and sand at the park before the Annual picnic \nSunday July 28\, 9:30 – 10:30am \nWe have all the equipment needed for clean up\, so all you need to do is show up!
URL:https://freestylesd.com/event/grass-sand-clean-up-930-1030am/
LOCATION:Crown Point in Mission Bay\, 700 Corona Oriente Rd\, San Diego\, California\, 92109
CATEGORIES:Special Events
ORGANIZER;CN="Sensei Hayden":MAILTO:senseihayden@usafma.com
END:VEVENT
BEGIN:VEVENT
DTSTART;TZID=America/Los_Angeles:20190714T130000
DTEND;TZID=America/Los_Angeles:20190714T170000
DTSTAMP:20260422T223109
CREATED:20190531T025636Z
LAST-MODIFIED:20190531T055911Z
UID:1457-1563109200-1563123600@freestylesd.com
SUMMARY:Annual Martial Arts Day at Petco Park\, 1:10pm
DESCRIPTION:Braves vs Padres \n1:10pm \nCome see Team Freestyle Performance on the field before the game \n$30 each ticket for Field Reserved \n(cash or check only\, written to Darren Kikuchi) \nIn partnership with the Bruce Lee Foundation\, your Martial Arts Day ticket will also include a limited-edition Bruce Lee “Flying Man” themed Padres T-shirt
URL:https://freestylesd.com/event/annual-martial-arts-day-at-petco-park/
LOCATION:Petco Park\, 100 Park Blvd\, San Diego\, CA\, 92101\, United States
CATEGORIES:Special Events,Team Freestyle
END:VEVENT
BEGIN:VEVENT
DTSTART;TZID=America/Los_Angeles:20190615T160000
DTEND;TZID=America/Los_Angeles:20190615T170000
DTSTAMP:20260422T223109
CREATED:20190531T024443Z
LAST-MODIFIED:20190531T024443Z
UID:1453-1560614400-1560618000@freestylesd.com
SUMMARY:4pm Nerf Battle
DESCRIPTION:Nerf Battle \nAges 6 and up \n4:00 – 5:00pm \n$20 per person \n$15 for Buddies \nSign up at the front desk \nSpaces are limited
URL:https://freestylesd.com/event/4pm-nerf-battle/
LOCATION:Freestyle Martial Arts\, 3760 Sports Arena Blvd. #1\, San Diego\, CA\, 92110\, United States
CATEGORIES:Special Events
END:VEVENT
BEGIN:VEVENT
DTSTART;TZID=America/Los_Angeles:20190615T083000
DTEND;TZID=America/Los_Angeles:20190615T090000
DTSTAMP:20260422T223109
CREATED:20190531T031059Z
LAST-MODIFIED:20190531T031059Z
UID:1462-1560587400-1560589200@freestylesd.com
SUMMARY:8:30 am Tiger Tots Father's Day Fun Class
DESCRIPTION:Father’s can join their kids in class! \nThe family that kicks together\, sticks together \nKarate Kids  – Friday\, June 14th 4:45pm \nFree FMA T-shirt to Dad’s \nSign up at the front desk
URL:https://freestylesd.com/event/830-am-tiger-tots-fathers-day-fun-class/
LOCATION:CA
CATEGORIES:Special Events
END:VEVENT
BEGIN:VEVENT
DTSTART;TZID=America/Los_Angeles:20190614T164500
DTEND;TZID=America/Los_Angeles:20190614T173000
DTSTAMP:20260422T223109
CREATED:20190531T030903Z
LAST-MODIFIED:20190531T030916Z
UID:1461-1560530700-1560533400@freestylesd.com
SUMMARY:4:45 pm Father's Day Fun Class
DESCRIPTION:Father’s can join their kids in class! \nThe family that kicks together\, sticks together \nKarate Kids  – Friday\, June 14th 4:45pm \nFree FMA T-shirt to Dad’s \nSign up at the front desk
URL:https://freestylesd.com/event/fathers-day-fun-class/
LOCATION:CA
CATEGORIES:In Class Events,Special Events
END:VEVENT
BEGIN:VEVENT
DTSTART;TZID=America/Los_Angeles:20190523T160000
DTEND;TZID=America/Los_Angeles:20190523T190000
DTSTAMP:20260422T223109
CREATED:20190503T190444Z
LAST-MODIFIED:20190503T190444Z
UID:1434-1558627200-1558638000@freestylesd.com
SUMMARY:Professional Photos 4-7pm
DESCRIPTION:Have your photo taken in exciting martial arts poses!\n \nWednesday May 22nd\nThursday May 23rd\n4:00-7:00 both days\n \nProofs will be shown on photo day during belt exams in the small room\nPhoto packages must be purchased on photo day.\nParents be present to view and purchase photos.
URL:https://freestylesd.com/event/professional-photos-4-7pm-2/
LOCATION:CA
CATEGORIES:Special Events
END:VEVENT
BEGIN:VEVENT
DTSTART;TZID=America/Los_Angeles:20190522T160000
DTEND;TZID=America/Los_Angeles:20190522T190000
DTSTAMP:20260422T223109
CREATED:20190503T190349Z
LAST-MODIFIED:20190503T190349Z
UID:1433-1558540800-1558551600@freestylesd.com
SUMMARY:Professional Photos 4-7pm
DESCRIPTION:Have your photo taken in exciting martial arts poses!\n \nWednesday May 22nd\nThursday May 23rd\n4:00-7:00 both days\n \nProofs will be shown on photo day during belt exams in the small room\nPhoto packages must be purchased on photo day.\nParents be present to view and purchase photos.
URL:https://freestylesd.com/event/professional-photos-4-7pm/
LOCATION:CA
CATEGORIES:Special Events
END:VEVENT
BEGIN:VEVENT
DTSTART;TZID=America/Los_Angeles:20181209T163000
DTEND;TZID=America/Los_Angeles:20181209T200000
DTSTAMP:20260422T223109
CREATED:20181122T000346Z
LAST-MODIFIED:20181128T041132Z
UID:1287-1544373000-1544385600@freestylesd.com
SUMMARY:Freestyle Martial Arts Annual Awards Banquet
DESCRIPTION:Join us in the Grand Hanalei Ballroom at the Crowne Plaza hotel in Mission Valley to celebrate our students’ accomplishments. Reserve your seats at the Dojo front desk today! Prices go up on December 1st\, so make sure to stop in soon. \nMap it!
URL:https://freestylesd.com/event/annual-banquet/
LOCATION:Crowne Plaza Hotel\, 2270 Hotel Cir N\, San Diego\, CA\, 92108
CATEGORIES:Special Events
ORGANIZER;CN="Sensei Hayden":MAILTO:senseihayden@usafma.com
END:VEVENT
BEGIN:VEVENT
DTSTART;TZID=UTC:20180609T130000
DTEND;TZID=UTC:20180609T150000
DTSTAMP:20260422T223109
CREATED:20180408T040706Z
LAST-MODIFIED:20180408T040706Z
UID:1183-1528549200-1528556400@freestylesd.com
SUMMARY:FMA Summer Party
DESCRIPTION:Join your friends at Freestyle Martial Arts as we kick off the summer with a party. More details to come\, but make sure you mark your calendars!
URL:https://freestylesd.com/event/fma-summer-party/
LOCATION:Freestyle Martial Arts\, 3760 Sports Arena Blvd. #1\, San Diego\, CA\, 92110\, United States
CATEGORIES:Special Events
ORGANIZER;CN="Joey Watson":MAILTO:Jwatson@usafma.com
END:VEVENT
BEGIN:VEVENT
DTSTART;TZID=UTC:20180210T180000
DTEND;TZID=UTC:20180210T210000
DTSTAMP:20260422T223109
CREATED:20180106T095745Z
LAST-MODIFIED:20180106T095745Z
UID:1164-1518285600-1518296400@freestylesd.com
SUMMARY:Movie Night at the Dojo!
DESCRIPTION:Hang out with all of your Martial Arts friends at Movie Night! Wear your PJ’s\, bring a pillow and blanket\, watch a great movie and fill up on pizza. \nThis is a great “date night” opportunity for parents as well! \nCost: $15.00 \n\n\n\n\n\n\nCompany\nPlanning to Join Us for Movie Night?\nLet us know you are coming by filling out the form below. \n\n\n	First name *\n	\n					\n\n\n	Last name *\n	\n					\n\n\n	Email Address *\n	\n					\n\n\n	Phone Number *\n	\n					\n\n\n	How many children will be joining us? *\n	\n					\n\nImportant: Space at Movie Night is limited! Complete your reservation by paying your $15 per child fee the next time you are at the Dojo!
URL:https://freestylesd.com/event/movie-night-at-the-dojo/
LOCATION:Freestyle Martial Arts\, 3760 Sports Arena Blvd. #1\, San Diego\, CA\, 92110\, United States
CATEGORIES:Special Events
ORGANIZER;CN="Joey Watson":MAILTO:Jwatson@usafma.com
END:VEVENT
BEGIN:VEVENT
DTSTART;TZID=UTC:20180128T130000
DTEND;TZID=UTC:20180128T150000
DTSTAMP:20260422T223109
CREATED:20180106T090348Z
LAST-MODIFIED:20180106T090348Z
UID:1167-1517144400-1517151600@freestylesd.com
SUMMARY:Play it Safe Self Defense Class: Grades 1st - 5th
DESCRIPTION:30% OFF Children’s Play It Safe Defense class for FMA families & friends!  Grades 1st-5th \n\nFreestyle Martial Arts black-belt\, Tracie Arlington\, will be here January 28th teaching a “Play It Safe Defense” class for grades 1-5th. As seen on Dr. Phil and THE DOCTORS TV! Your child will learn how to self-protect against bullying behaviors\, friendship drama\, and conflict resolution.\n\n\nOther topics covered include: appropriate touch as well as stranger awareness and physical defense. Children have a blast and learn to “Go Chihuahua Crazy!” She is offering an exclusive 30% off discount to FMA families and their friends. You Must pre-register as the class is limited to 25 spaces. Students will receive an “Awareness Award\,” all Scouts and Adventure Guides earn a patch. For more info. contact Tracie@PlayItSafeDefense.com\n\n\nOnly $21.00 per child if you use the discount code FMA30 at check-out. Register at:\nhttp://www.playitsafedefense.net/booking/
URL:https://freestylesd.com/event/play-it-safe-self-defense-class-grades-1st-5th/
LOCATION:Freestyle Martial Arts\, 3760 Sports Arena Blvd. #1\, San Diego\, CA\, 92110\, United States
CATEGORIES:Special Events
END:VEVENT
BEGIN:VEVENT
DTSTART;TZID=UTC:20180128T110000
DTEND;TZID=UTC:20180128T121500
DTSTAMP:20260422T223109
CREATED:20180106T090034Z
LAST-MODIFIED:20180106T090447Z
UID:1163-1517137200-1517141700@freestylesd.com
SUMMARY:Parent & Me Self Defense Class: Ages 4 - 6
DESCRIPTION:30% OFF Children’s Play It Safe Defense class for FMA families & friends!  Ages 4-6 years \n\nFreestyle Martial Arts black-belt\, Tracie Arlington\, will be here January 28th teaching a “Mommy & Me” class for Pre-K and Kinders. As seen on Dr. Phil and THE DOCTORS TV! Your child will learn how to self-protect against bullying behaviors\, friendship drama\, and conflict resolution.\n\n\nOther topics covered include: appropriate touch as well as stranger awareness and physical defense. Children have a blast and learn to “Go Chihuahua Crazy!” She is offering an exclusive 30% off discount to FMA families and their friends. You Must pre-register as the class is limited to 25 spaces. Students will receive an “Awareness Award\,” all Scouts and Adventure Guides earn a patch. For more info. contact Tracie@PlayItSafeDefense.com\n\n\nOnly $21.00 per child if you use the discount code FMA30 at check-out. Register at:\nhttp://www.playitsafedefense.net/booking/
URL:https://freestylesd.com/event/play-it-safe-self-defense-class-parent-me/
LOCATION:Freestyle Martial Arts\, 3760 Sports Arena Blvd. #1\, San Diego\, CA\, 92110\, United States
CATEGORIES:Special Events
END:VEVENT
BEGIN:VEVENT
DTSTART;TZID=UTC:20180120T110000
DTEND;TZID=UTC:20180120T120000
DTSTAMP:20260422T223109
CREATED:20180106T091457Z
LAST-MODIFIED:20180106T091457Z
UID:1160-1516446000-1516449600@freestylesd.com
SUMMARY:Grappling Seminar
DESCRIPTION:Coach Kory is scheduled to be back Saturday January 20th to teach some new Brazilian Jiu Jitsu skills to our black belt club members. Don’t miss this awesome class! \n\n\n\n\n\n\nTwitter\nPlanning to Join Us for the Grappling Class?\nLet us know you are coming by filling out the form below. \n\n\n	First name *\n	\n					\n\n\n	Last name *\n	\n					\n\n\n	Email Address *\n	\n					\n\n\n	Phone Number *\n	\n					\n\n\n	Current Belt Rank *
URL:https://freestylesd.com/event/grappling-seminar/
LOCATION:Freestyle Martial Arts\, 3760 Sports Arena Blvd. #1\, San Diego\, CA\, 92110\, United States
CATEGORIES:Black Belt Club,Special Events
ORGANIZER;CN="Joey Watson":MAILTO:Jwatson@usafma.com
END:VEVENT
BEGIN:VEVENT
DTSTART;VALUE=DATE:20171220
DTEND;VALUE=DATE:20180103
DTSTAMP:20260422T223109
CREATED:20171217T032628Z
LAST-MODIFIED:20171217T032628Z
UID:1128-1513728000-1514937599@freestylesd.com
SUMMARY:The Dojo is Closed for the Holidays
DESCRIPTION:Happy holidays to all of the Freestyle Martial Arts families. We look forward to seeing you in the New Year! \nFor our students: Don’t Forget to write down your 2018 Goals for Martial Arts\, Think of what you want to accomplish in 218 in these three areas: academics\, home life\, and friendships. Make sure you include: \n\nSteps to achieve your goals\nTime frame for completion\nShort term less than 1 year\nLong term greater than 1 year\n\nWhen your goal list is complete\, please turn it in to Mr. Watson or the front desk!
URL:https://freestylesd.com/event/the-dojo-is-closed-for-the-holidays/
LOCATION:CA
CATEGORIES:Special Events
END:VEVENT
BEGIN:VEVENT
DTSTART;TZID=America/Tijuana:20170806T130000
DTEND;TZID=America/Tijuana:20170806T150000
DTSTAMP:20260422T223109
CREATED:20170718T074930Z
LAST-MODIFIED:20170718T074959Z
UID:1043-1502024400-1502031600@freestylesd.com
SUMMARY:Women Empowered Self Defense Class
DESCRIPTION:Sensei Jackson’s premier women’s self defense class is scheduled for August 6th from 1 to 3 pm. It’s perfect for all ages\, and perfectly timed for young women about to head off to college. If you are interested be sure to see Vessy at the front desk to sign up as soon as possible. This class always reaches capacity weeks prior to the class!
URL:https://freestylesd.com/event/womens-self-defense-class/
LOCATION:Freestyle Martial Arts\, 3760 Sports Arena Blvd. #1\, San Diego\, CA\, 92110\, United States
CATEGORIES:Special Events
ORGANIZER;CN="Joey Watson":MAILTO:Jwatson@usafma.com
END:VEVENT
BEGIN:VEVENT
DTSTART;TZID=UTC:20170730T100000
DTEND;TZID=UTC:20170730T140000
DTSTAMP:20260422T223109
CREATED:20170718T075401Z
LAST-MODIFIED:20170718T075401Z
UID:1044-1501408800-1501423200@freestylesd.com
SUMMARY:Freestyle Martial Arts Summer Picnic
DESCRIPTION:Parents\, please mark your calendars! Our best event of the summer is Sunday\, July 30th at De’Anza Cove! It is a potluck event so bring your favorite dish to share with the entire dojo! Also we will be holding our annual super soaker fight that day which will be HUGE! Whose team will you and your children join? Team Sensei K? or Team Sensei Jackson? This is a free event and friends and family of Freestyle Martial Arts Students are invited! Don’t forget to pack your sunscreen! \nPlease see Vessy at the front desk to let us know if you are coming and the dish you would like to contribute.
URL:https://freestylesd.com/event/freestyle-martial-arts-summer-picnic/
LOCATION:CA
CATEGORIES:Special Events
ORGANIZER;CN="Joey Watson":MAILTO:Jwatson@usafma.com
END:VEVENT
END:VCALENDAR