BEGIN:VCALENDAR
VERSION:2.0
PRODID:-//Freestyle Martial Arts - ECPv6.15.20//NONSGML v1.0//EN
CALSCALE:GREGORIAN
METHOD:PUBLISH
X-ORIGINAL-URL:https://freestylesd.com
X-WR-CALDESC:Events for Freestyle Martial Arts
REFRESH-INTERVAL;VALUE=DURATION:PT1H
X-Robots-Tag:noindex
X-PUBLISHED-TTL:PT1H
BEGIN:VTIMEZONE
TZID:America/Los_Angeles
BEGIN:DAYLIGHT
TZOFFSETFROM:-0800
TZOFFSETTO:-0700
TZNAME:PDT
DTSTART:20180311T100000
END:DAYLIGHT
BEGIN:STANDARD
TZOFFSETFROM:-0700
TZOFFSETTO:-0800
TZNAME:PST
DTSTART:20181104T090000
END:STANDARD
BEGIN:DAYLIGHT
TZOFFSETFROM:-0800
TZOFFSETTO:-0700
TZNAME:PDT
DTSTART:20190310T100000
END:DAYLIGHT
BEGIN:STANDARD
TZOFFSETFROM:-0700
TZOFFSETTO:-0800
TZNAME:PST
DTSTART:20191103T090000
END:STANDARD
BEGIN:DAYLIGHT
TZOFFSETFROM:-0800
TZOFFSETTO:-0700
TZNAME:PDT
DTSTART:20200308T100000
END:DAYLIGHT
BEGIN:STANDARD
TZOFFSETFROM:-0700
TZOFFSETTO:-0800
TZNAME:PST
DTSTART:20201101T090000
END:STANDARD
BEGIN:DAYLIGHT
TZOFFSETFROM:-0800
TZOFFSETTO:-0700
TZNAME:PDT
DTSTART:20210314T100000
END:DAYLIGHT
BEGIN:STANDARD
TZOFFSETFROM:-0700
TZOFFSETTO:-0800
TZNAME:PST
DTSTART:20211107T090000
END:STANDARD
BEGIN:DAYLIGHT
TZOFFSETFROM:-0800
TZOFFSETTO:-0700
TZNAME:PDT
DTSTART:20220313T100000
END:DAYLIGHT
BEGIN:STANDARD
TZOFFSETFROM:-0700
TZOFFSETTO:-0800
TZNAME:PST
DTSTART:20221106T090000
END:STANDARD
BEGIN:DAYLIGHT
TZOFFSETFROM:-0800
TZOFFSETTO:-0700
TZNAME:PDT
DTSTART:20230312T100000
END:DAYLIGHT
BEGIN:STANDARD
TZOFFSETFROM:-0700
TZOFFSETTO:-0800
TZNAME:PST
DTSTART:20231105T090000
END:STANDARD
END:VTIMEZONE
BEGIN:VTIMEZONE
TZID:UTC
BEGIN:STANDARD
TZOFFSETFROM:+0000
TZOFFSETTO:+0000
TZNAME:UTC
DTSTART:20170101T000000
END:STANDARD
END:VTIMEZONE
BEGIN:VEVENT
DTSTART;TZID=America/Los_Angeles:20220731T130000
DTEND;TZID=America/Los_Angeles:20220731T170000
DTSTAMP:20260423T014104
CREATED:20220623T000147Z
LAST-MODIFIED:20220628T012418Z
UID:8289-1659272400-1659286800@freestylesd.com
SUMMARY:1:10pm Martial Arts Day at Petco Park
DESCRIPTION:Join us for Martial Arts Day at Petco Park\, Sunday July 31st at 1:10pm.  San Diego Padres vs the Minnesota Twins\nJunior Team Freestyle will be performing at Gallagher Square before the game!\nGroup tickets are $41 per person.\nWe will be sitting in Right Field Lower Reserve\nAll attendees will receive a Bruce Lee Tribute Baseball Cap\nPlease sign up at the front desk. Clearly print your email\, we will be sending your tickets electronically\nPlease pay cash or check made payable to Darren Kikuchi by July 15th
URL:https://freestylesd.com/event/110pm-martial-arts-day-at-petco-park/
LOCATION:Petco Park\, 100 Park Blvd\, San Diego\, CA\, 92101\, United States
CATEGORIES:Special Events,Team Freestyle
END:VEVENT
BEGIN:VEVENT
DTSTART;TZID=America/Los_Angeles:20220422T183000
DTEND;TZID=America/Los_Angeles:20220422T203000
DTSTAMP:20260423T014104
CREATED:20220415T013203Z
LAST-MODIFIED:20220415T013203Z
UID:8110-1650652200-1650659400@freestylesd.com
SUMMARY:6:30 TFC Event
DESCRIPTION:
URL:https://freestylesd.com/event/630-tfc-event/
CATEGORIES:Dojo Schedule,Team Freestyle,Tournament
END:VEVENT
BEGIN:VEVENT
DTSTART;TZID=America/Los_Angeles:20201115T120000
DTEND;TZID=America/Los_Angeles:20201115T140000
DTSTAMP:20260423T014104
CREATED:20201109T230815Z
LAST-MODIFIED:20201110T234659Z
UID:4666-1605441600-1605448800@freestylesd.com
SUMMARY:12-2pm Demo Team In-House Tournament
DESCRIPTION:This is an in person event \nPlease go to the Eventbrite link for all information \nClick here for Eventbrite website \nOn November 15th (actual day)\, students will be accompanied by the judges and fellow competitors to compete in person\, then they will undergo scoring one-by-one. Competition will take place outside the dojo on provided mats. Masks are required and social distancing will be enforced. We encourage spectators to bring their own chairs. In the event of rain\, the competition will take place inside the dojo\, with one student performing at a time alongside the three judges. Spectators are welcome to watch from outside. \n  \n1st place trophies will be available for pick-up on the following Saturday\, Nov 21 at the Dojo\, 12pm-1pm.
URL:https://freestylesd.com/event/12-2pm-demo-team-in-house-tournament/
LOCATION:Freestyle Martial Arts\, 3760 Sports Arena Blvd. #1\, San Diego\, CA\, 92110\, United States
CATEGORIES:Team Freestyle,Tournament
END:VEVENT
BEGIN:VEVENT
DTSTART;TZID=America/Los_Angeles:20190824T150000
DTEND;TZID=America/Los_Angeles:20190824T170000
DTSTAMP:20260423T014104
CREATED:20190723T022231Z
LAST-MODIFIED:20190723T022231Z
UID:1519-1566658800-1566666000@freestylesd.com
SUMMARY:Demo team tryout 3pm (by invitation only)
DESCRIPTION:Demo team tryouts (by invitation only) \nShow up prepared.  Private lessons with Claudio and Cameron are available. \n 
URL:https://freestylesd.com/event/demo-team-tryout-3pm-by-invitation-only/
CATEGORIES:Team Freestyle
END:VEVENT
BEGIN:VEVENT
DTSTART;TZID=America/Los_Angeles:20190728T100000
DTEND;TZID=America/Los_Angeles:20190728T140000
DTSTAMP:20260423T014104
CREATED:20190531T030609Z
LAST-MODIFIED:20190723T014427Z
UID:1459-1564308000-1564322400@freestylesd.com
SUMMARY:Student Appreciation Picnic 10am-2pm
DESCRIPTION:Annual Student Appreciation Picnic \nSunday\, July 28th 10:00am – 2:00pm \nGrass/Sand clean up community service 9:30-10:30am \nCrowne Point in Mission Bay \n700 Corona Oriente Road\, San Diego \nOur annual picnic is a time for all of our families to come together and share food\, fun and games! \nWe will provide the basics and Freestyle’s fabulous chefs will barbecue the hamburgers\, veggie burgers and hot dogs \nWe will have games for the kids and a giant jump for the smaller kids.  Get ready for our FAMOUS “WATER BATTLE” WITH THE SENSEI’S! \nBring a dish to share (optional). Sign up at the front desk \nAlso bring chairs\, towels\, cooler\, sunscreen\, flip filops\, bathing suits or change of clothing if you participate in the water battle and of course…WATER TOYS! \nWe also always need help bringing buckets of water for the water battle\, adults to monitor the giant jump\, volunteers for cooking and food prep \nCall 619-224-9600 or email SenseiHayden@usafma.com if you would like to help or have questions!
URL:https://freestylesd.com/event/student-appreciation-picnic-10am-2pm/
LOCATION:Crown Point in Mission Bay\, 700 Corona Oriente Rd\, San Diego\, California\, 92109
CATEGORIES:Special Events,Team Freestyle
END:VEVENT
BEGIN:VEVENT
DTSTART;TZID=America/Los_Angeles:20190714T130000
DTEND;TZID=America/Los_Angeles:20190714T170000
DTSTAMP:20260423T014104
CREATED:20190531T025636Z
LAST-MODIFIED:20190531T055911Z
UID:1457-1563109200-1563123600@freestylesd.com
SUMMARY:Annual Martial Arts Day at Petco Park\, 1:10pm
DESCRIPTION:Braves vs Padres \n1:10pm \nCome see Team Freestyle Performance on the field before the game \n$30 each ticket for Field Reserved \n(cash or check only\, written to Darren Kikuchi) \nIn partnership with the Bruce Lee Foundation\, your Martial Arts Day ticket will also include a limited-edition Bruce Lee “Flying Man” themed Padres T-shirt
URL:https://freestylesd.com/event/annual-martial-arts-day-at-petco-park/
LOCATION:Petco Park\, 100 Park Blvd\, San Diego\, CA\, 92101\, United States
CATEGORIES:Special Events,Team Freestyle
END:VEVENT
BEGIN:VEVENT
DTSTART;TZID=America/Los_Angeles:20190309T150000
DTEND;TZID=America/Los_Angeles:20190309T170000
DTSTAMP:20260423T014104
CREATED:20190308T203337Z
LAST-MODIFIED:20190308T203337Z
UID:1394-1552143600-1552150800@freestylesd.com
SUMMARY:Demo Team Tryout (by invitation only)
DESCRIPTION:
URL:https://freestylesd.com/event/demo-team-tryout-by-invitation-only/
LOCATION:Freestyle Martial Arts\, 3760 Sports Arena Blvd. #1\, San Diego\, CA\, 92110\, United States
CATEGORIES:Team Freestyle
END:VEVENT
BEGIN:VEVENT
DTSTART;VALUE=DATE:20180223
DTEND;VALUE=DATE:20180226
DTSTAMP:20260423T014104
CREATED:20171229T070509Z
LAST-MODIFIED:20171229T070509Z
UID:1158-1519344000-1519603199@freestylesd.com
SUMMARY:2018 Compete Nationals
DESCRIPTION:Team Freestyle and other individual competitors from Freestyle Martial Arts are headed to Ontario\, California for the 2018 Compete Nationals. Come check out some awesome Martial Artists and cheer on your classmates!
URL:https://freestylesd.com/event/2018-compete-nationals/
CATEGORIES:Team Freestyle,Tournament
END:VEVENT
END:VCALENDAR