BEGIN:VCALENDAR
VERSION:2.0
PRODID:-//Freestyle Martial Arts - ECPv6.15.20//NONSGML v1.0//EN
CALSCALE:GREGORIAN
METHOD:PUBLISH
X-WR-CALNAME:Freestyle Martial Arts
X-ORIGINAL-URL:https://freestylesd.com
X-WR-CALDESC:Events for Freestyle Martial Arts
REFRESH-INTERVAL;VALUE=DURATION:PT1H
X-Robots-Tag:noindex
X-PUBLISHED-TTL:PT1H
BEGIN:VTIMEZONE
TZID:America/Los_Angeles
BEGIN:DAYLIGHT
TZOFFSETFROM:-0800
TZOFFSETTO:-0700
TZNAME:PDT
DTSTART:20200308T100000
END:DAYLIGHT
BEGIN:STANDARD
TZOFFSETFROM:-0700
TZOFFSETTO:-0800
TZNAME:PST
DTSTART:20201101T090000
END:STANDARD
BEGIN:DAYLIGHT
TZOFFSETFROM:-0800
TZOFFSETTO:-0700
TZNAME:PDT
DTSTART:20210314T100000
END:DAYLIGHT
BEGIN:STANDARD
TZOFFSETFROM:-0700
TZOFFSETTO:-0800
TZNAME:PST
DTSTART:20211107T090000
END:STANDARD
BEGIN:DAYLIGHT
TZOFFSETFROM:-0800
TZOFFSETTO:-0700
TZNAME:PDT
DTSTART:20220313T100000
END:DAYLIGHT
BEGIN:STANDARD
TZOFFSETFROM:-0700
TZOFFSETTO:-0800
TZNAME:PST
DTSTART:20221106T090000
END:STANDARD
BEGIN:DAYLIGHT
TZOFFSETFROM:-0800
TZOFFSETTO:-0700
TZNAME:PDT
DTSTART:20230312T100000
END:DAYLIGHT
BEGIN:STANDARD
TZOFFSETFROM:-0700
TZOFFSETTO:-0800
TZNAME:PST
DTSTART:20231105T090000
END:STANDARD
END:VTIMEZONE
BEGIN:VEVENT
DTSTART;VALUE=DATE:20220119
DTEND;VALUE=DATE:20220121
DTSTAMP:20260423T102130
CREATED:20211203T020255Z
LAST-MODIFIED:20211203T020255Z
UID:7820-1642550400-1642723199@freestylesd.com
SUMMARY:Karate Kids Pre-Exam in class
DESCRIPTION:
URL:https://freestylesd.com/event/karate-kids-pre-exam-in-class/
CATEGORIES:Pre-Exams,Testing and Pre-Exams
END:VEVENT
BEGIN:VEVENT
DTSTART;TZID=America/Los_Angeles:20220108T150000
DTEND;TZID=America/Los_Angeles:20220108T160000
DTSTAMP:20260423T102130
CREATED:20211203T020056Z
LAST-MODIFIED:20211203T020056Z
UID:7818-1641654000-1641657600@freestylesd.com
SUMMARY:3pm Make Up Pre-Exam via Zoom
DESCRIPTION:If you missed the December pre exam\, plan to attend the make up pre exam at 3pm via Zoom\nhttps://us02web.zoom.us/j/87884079218
URL:https://freestylesd.com/event/3pm-make-up-pre-exam-via-zoom-4/
CATEGORIES:Pre-Exams,Testing and Pre-Exams
END:VEVENT
BEGIN:VEVENT
DTSTART;VALUE=DATE:20211215
DTEND;VALUE=DATE:20211217
DTSTAMP:20260423T102130
CREATED:20211203T015346Z
LAST-MODIFIED:20211203T015346Z
UID:7810-1639526400-1639699199@freestylesd.com
SUMMARY:Karate Kids Pre-Exams In Class
DESCRIPTION:
URL:https://freestylesd.com/event/karate-kids-pre-exams-in-class/
CATEGORIES:Pre-Exams,Testing and Pre-Exams
END:VEVENT
BEGIN:VEVENT
DTSTART;TZID=America/Los_Angeles:20211204T150000
DTEND;TZID=America/Los_Angeles:20211204T160000
DTSTAMP:20260423T102130
CREATED:20211104T230909Z
LAST-MODIFIED:20211104T230940Z
UID:7766-1638630000-1638633600@freestylesd.com
SUMMARY:3pm Make Up Belt Exam via Zoom
DESCRIPTION:If you missed the last belt exam\, plan to attend the make up belt exam at 3pm via Zoom\nhttps://us02web.zoom.us/j/87884079218 \nYou are not able to attend the make up belt exam if you are testing for Red and above.
URL:https://freestylesd.com/event/3pm-make-up-belt-exam-via-zoom-2/
CATEGORIES:Belt Testing,Testing and Pre-Exams
END:VEVENT
BEGIN:VEVENT
DTSTART;VALUE=DATE:20211115
DTEND;VALUE=DATE:20211119
DTSTAMP:20260423T102130
CREATED:20211104T005341Z
LAST-MODIFIED:20211104T005604Z
UID:7748-1636934400-1637279999@freestylesd.com
SUMMARY:BELT EXAMS
DESCRIPTION:Click on the link below for the belt exam times \nnov 2021 belt exams pdf
URL:https://freestylesd.com/event/belt-exams-4/
CATEGORIES:Belt Testing,Testing and Pre-Exams
END:VEVENT
BEGIN:VEVENT
DTSTART;TZID=America/Los_Angeles:20211106T150000
DTEND;TZID=America/Los_Angeles:20211106T160000
DTSTAMP:20260423T102130
CREATED:20211104T004007Z
LAST-MODIFIED:20211104T004007Z
UID:7746-1636210800-1636214400@freestylesd.com
SUMMARY:3pm Make up Pre-exam via Zoom
DESCRIPTION:click on the following link for the Make Up Pre Exam via Zoom\nhttps://us02web.zoom.us/j/87884079218
URL:https://freestylesd.com/event/3pm-make-up-pre-exam-via-zoom-3/
CATEGORIES:Pre-Exams,Testing and Pre-Exams
END:VEVENT
BEGIN:VEVENT
DTSTART;TZID=America/Los_Angeles:20211002T150000
DTEND;TZID=America/Los_Angeles:20211002T160000
DTSTAMP:20260423T102130
CREATED:20210929T014026Z
LAST-MODIFIED:20210929T014026Z
UID:7471-1633186800-1633190400@freestylesd.com
SUMMARY:3pm Make up Pre Exam via Zoom
DESCRIPTION:via Zoom\nclick here click here https://us02web.zoom.us/j/87884079218
URL:https://freestylesd.com/event/3pm-make-up-pre-exam-via-zoom-2/
CATEGORIES:Pre-Exams,Testing and Pre-Exams
END:VEVENT
BEGIN:VEVENT
DTSTART;TZID=America/Los_Angeles:20210911T150000
DTEND;TZID=America/Los_Angeles:20210911T160000
DTSTAMP:20260423T102130
CREATED:20210903T203230Z
LAST-MODIFIED:20210903T203336Z
UID:7276-1631372400-1631376000@freestylesd.com
SUMMARY:Cool Cat Make Up Belt Exam\, 3pm\, at the dojo
DESCRIPTION:COOL CAT MAKE UP EXAM \nMake Up Belt Exam\nSept 11 at 3pm\nat the dojo
URL:https://freestylesd.com/event/cool-cat-make-up-exam-3pm-at-the-dojo/
CATEGORIES:Belt Testing,Testing and Pre-Exams
END:VEVENT
BEGIN:VEVENT
DTSTART;TZID=America/Los_Angeles:20210911T150000
DTEND;TZID=America/Los_Angeles:20210911T160000
DTSTAMP:20260423T102130
CREATED:20210825T000616Z
LAST-MODIFIED:20210903T202927Z
UID:7037-1631372400-1631376000@freestylesd.com
SUMMARY:Karate Kid Make up Belt Exam\, 3pm\, via Zoom
DESCRIPTION:KARATE KID MAKE UP BELT EXAM \nMake up Belt Exam\nSat Sept 11 at 3pm\nvia Zoom \nJoin Zoom Meeting https://us02web.zoom.us/j/87884079218 \n*Red Belts & above cannot earn a belt at a Make Up Belt Exam\, they can only earn a stripe
URL:https://freestylesd.com/event/make-up-belt-exam-3pm/
CATEGORIES:Belt Testing,Testing and Pre-Exams
END:VEVENT
BEGIN:VEVENT
DTSTART;VALUE=DATE:20210823
DTEND;VALUE=DATE:20210827
DTSTAMP:20260423T102130
CREATED:20210609T233316Z
LAST-MODIFIED:20210609T233316Z
UID:6639-1629676800-1630022399@freestylesd.com
SUMMARY:BELT EXAMS
DESCRIPTION:
URL:https://freestylesd.com/event/belt-exams-3/
CATEGORIES:Belt Testing,Testing and Pre-Exams
END:VEVENT
BEGIN:VEVENT
DTSTART;TZID=America/Los_Angeles:20210807T150000
DTEND;TZID=America/Los_Angeles:20210807T160000
DTSTAMP:20260423T102130
CREATED:20210720T005847Z
LAST-MODIFIED:20210720T010105Z
UID:6982-1628348400-1628352000@freestylesd.com
SUMMARY:3pm Make up Pre Exam via Zoom
DESCRIPTION:via Zoomhttps://us02web.zoom.us/j/87884079218
URL:https://freestylesd.com/event/3pm-make-up-pre-exam-via-zoom/
CATEGORIES:Pre-Exams,Testing and Pre-Exams
END:VEVENT
BEGIN:VEVENT
DTSTART;TZID=America/Los_Angeles:20210722T180000
DTEND;TZID=America/Los_Angeles:20210722T190000
DTSTAMP:20260423T102130
CREATED:20210701T232835Z
LAST-MODIFIED:20210720T010444Z
UID:6836-1626976800-1626980400@freestylesd.com
SUMMARY:6pm Jr Black Belts (inside) PRE-EXAM
DESCRIPTION:
URL:https://freestylesd.com/event/6pm-jr-black-belts-inside-12/
CATEGORIES:Dojo Schedule,Pre-Exams,Testing and Pre-Exams
END:VEVENT
BEGIN:VEVENT
DTSTART;TZID=America/Los_Angeles:20210722T171500
DTEND;TZID=America/Los_Angeles:20210722T180000
DTSTAMP:20260423T102130
CREATED:20210701T232623Z
LAST-MODIFIED:20210720T010506Z
UID:6824-1626974100-1626976800@freestylesd.com
SUMMARY:5:15pm Brown-Red I (OUTSIDE) PRE EXAM
DESCRIPTION:
URL:https://freestylesd.com/event/515pm-brown-red-i-outside-12/
CATEGORIES:Dojo Schedule,Pre-Exams,Testing and Pre-Exams
END:VEVENT
BEGIN:VEVENT
DTSTART;TZID=America/Los_Angeles:20210722T171500
DTEND;TZID=America/Los_Angeles:20210722T180000
DTSTAMP:20260423T102130
CREATED:20210701T232126Z
LAST-MODIFIED:20210720T010518Z
UID:6812-1626974100-1626976800@freestylesd.com
SUMMARY:5:15 Youth White-Brown I (inside) PRE EXAM
DESCRIPTION:
URL:https://freestylesd.com/event/515-youth-white-brown-i-inside-12/
CATEGORIES:Dojo Schedule,Pre-Exams,Testing and Pre-Exams
END:VEVENT
BEGIN:VEVENT
DTSTART;TZID=America/Los_Angeles:20210722T163000
DTEND;TZID=America/Los_Angeles:20210722T171500
DTSTAMP:20260423T102130
CREATED:20210701T231844Z
LAST-MODIFIED:20210720T010527Z
UID:6800-1626971400-1626974100@freestylesd.com
SUMMARY:4:30pm White-Orange I (OUTSIDE) PRE EXAM
DESCRIPTION:
URL:https://freestylesd.com/event/430pm-white-orange-i-outside-12/
CATEGORIES:Dojo Schedule,Pre-Exams,Testing and Pre-Exams
END:VEVENT
BEGIN:VEVENT
DTSTART;TZID=America/Los_Angeles:20210722T163000
DTEND;TZID=America/Los_Angeles:20210722T171500
DTSTAMP:20260423T102130
CREATED:20210701T231506Z
LAST-MODIFIED:20210720T010536Z
UID:6788-1626971400-1626974100@freestylesd.com
SUMMARY:4:30pm Green-Blue I (inside) PRE EXAM
DESCRIPTION:
URL:https://freestylesd.com/event/430pm-green-blue-i-inside-12/
CATEGORIES:Dojo Schedule,Pre-Exams,Testing and Pre-Exams
END:VEVENT
BEGIN:VEVENT
DTSTART;TZID=America/Los_Angeles:20210721T180000
DTEND;TZID=America/Los_Angeles:20210721T184500
DTSTAMP:20260423T102130
CREATED:20210701T230759Z
LAST-MODIFIED:20210720T010554Z
UID:6752-1626890400-1626893100@freestylesd.com
SUMMARY:6pm Red I-BBC (inside) PRE EXAM
DESCRIPTION:
URL:https://freestylesd.com/event/6pm-red-i-bbc-inside-11/
CATEGORIES:Dojo Schedule,Pre-Exams,Testing and Pre-Exams
END:VEVENT
BEGIN:VEVENT
DTSTART;TZID=America/Los_Angeles:20210721T171500
DTEND;TZID=America/Los_Angeles:20210721T180000
DTSTAMP:20260423T102130
CREATED:20210701T223856Z
LAST-MODIFIED:20210720T010602Z
UID:6740-1626887700-1626890400@freestylesd.com
SUMMARY:5:15pm BBC-Jr BB (OUTSIDE) PRE EXAM
DESCRIPTION:
URL:https://freestylesd.com/event/515pm-bbc-jr-bb-outside-11/
CATEGORIES:Dojo Schedule,Pre-Exams,Testing and Pre-Exams
END:VEVENT
BEGIN:VEVENT
DTSTART;TZID=America/Los_Angeles:20210721T171500
DTEND;TZID=America/Los_Angeles:20210721T180000
DTSTAMP:20260423T102130
CREATED:20210701T013359Z
LAST-MODIFIED:20210720T010616Z
UID:6724-1626887700-1626890400@freestylesd.com
SUMMARY:5:15pm Brown-Red (inside) PRE EXAM
DESCRIPTION:
URL:https://freestylesd.com/event/515pm-brown-red-inside-4/
CATEGORIES:Dojo Schedule,Pre-Exams,Testing and Pre-Exams
END:VEVENT
BEGIN:VEVENT
DTSTART;TZID=America/Los_Angeles:20210721T163000
DTEND;TZID=America/Los_Angeles:20210721T171500
DTSTAMP:20260423T102130
CREATED:20210701T013114Z
LAST-MODIFIED:20210720T010626Z
UID:6712-1626885000-1626887700@freestylesd.com
SUMMARY:4:30pm Green-Blue I (OUTSIDE) PRE EXAM
DESCRIPTION:
URL:https://freestylesd.com/event/430pm-green-blue-i-outside-11/
CATEGORIES:Dojo Schedule,Pre-Exams,Testing and Pre-Exams
END:VEVENT
BEGIN:VEVENT
DTSTART;TZID=America/Los_Angeles:20210721T163000
DTEND;TZID=America/Los_Angeles:20210721T171500
DTSTAMP:20260423T102130
CREATED:20210701T012802Z
LAST-MODIFIED:20210720T010636Z
UID:6700-1626885000-1626887700@freestylesd.com
SUMMARY:4:30pm White-Orange I (inside) PRE EXAM
DESCRIPTION:
URL:https://freestylesd.com/event/430pm-white-orange-i-inside-11/
CATEGORIES:Dojo Schedule,Pre-Exams,Testing and Pre-Exams
END:VEVENT
BEGIN:VEVENT
DTSTART;TZID=America/Los_Angeles:20210710T150000
DTEND;TZID=America/Los_Angeles:20210710T160000
DTSTAMP:20260423T102130
CREATED:20210609T020644Z
LAST-MODIFIED:20210628T183646Z
UID:6604-1625929200-1625932800@freestylesd.com
SUMMARY:3pm Make up Pre Exam via Zoom
DESCRIPTION:via Zoomhttps://us02web.zoom.us/j/87884079218
URL:https://freestylesd.com/event/3pm-make-up-pre-exam-4/
CATEGORIES:Pre-Exams,Testing and Pre-Exams
END:VEVENT
BEGIN:VEVENT
DTSTART;TZID=America/Los_Angeles:20210605T150000
DTEND;TZID=America/Los_Angeles:20210605T160000
DTSTAMP:20260423T102130
CREATED:20210415T234533Z
LAST-MODIFIED:20210415T234533Z
UID:6155-1622905200-1622908800@freestylesd.com
SUMMARY:3pm Make Up BELT EXAM
DESCRIPTION:Make-up Belt Exam via Zoom for Brown belts and below\nJoin Zoom Meeting https://us02web.zoom.us/j/87884079218
URL:https://freestylesd.com/event/3pm-make-up-belt-exam-2/
CATEGORIES:Belt Testing,Testing and Pre-Exams
END:VEVENT
BEGIN:VEVENT
DTSTART;TZID=America/Los_Angeles:20210520T180000
DTEND;TZID=America/Los_Angeles:20210520T190000
DTSTAMP:20260423T102130
CREATED:20210415T224929Z
LAST-MODIFIED:20210516T204300Z
UID:6143-1621533600-1621537200@freestylesd.com
SUMMARY:6pm In Person BELT EXAM BBC - Jr Black Belts
DESCRIPTION:Come to this class prepared for your belt exam.  \nFind belt testing material under Resources\, Student Resources on this website \nBe prepared with all required extra materials like speeches\, essays. Please mail essays to SenseiKikuchi@usafma.com \nChoose the belt exam for the belt level above your current rank. If you have any questions\, please call us! \nMake sure your uniform is clean\, fingernails are clean\, hair is clean and combed \nIf you are testing for a belt\, you can purchase your boards at Dixieline or Home Depot. Record a video executing the appropriate breaks and email that to SenseiHayden@usafma.com before May 20th. Board sizes are dependent on age\, please refer to the Board Breaking sheet under Resources\, Student Resources
URL:https://freestylesd.com/event/530-in-person-belt-exam-jr-black-belts/
LOCATION:Freestyle Martial Arts\, 3760 Sports Arena Blvd. #1\, San Diego\, CA\, 92110\, United States
CATEGORIES:Belt Testing,Testing and Pre-Exams
END:VEVENT
BEGIN:VEVENT
DTSTART;TZID=America/Los_Angeles:20210520T170000
DTEND;TZID=America/Los_Angeles:20210520T180000
DTSTAMP:20260423T102130
CREATED:20210415T224252Z
LAST-MODIFIED:20210516T204059Z
UID:6141-1621530000-1621533600@freestylesd.com
SUMMARY:5pm In Person BELT EXAM Green - Blue
DESCRIPTION:Come to this class prepared for your belt exam. \nFind belt testing material under Resources\, Student Resources on this website \nChoose the belt exam for the belt level above your current rank. If you have any questions\, please call us! \nMake sure your uniform is clean\, fingernails are clean\, hair is clean and combed
URL:https://freestylesd.com/event/445-in-person-belt-exam-green-blue/
LOCATION:Freestyle Martial Arts\, 3760 Sports Arena Blvd. #1\, San Diego\, CA\, 92110\, United States
CATEGORIES:Belt Testing,Testing and Pre-Exams
END:VEVENT
BEGIN:VEVENT
DTSTART;TZID=America/Los_Angeles:20210520T160000
DTEND;TZID=America/Los_Angeles:20210520T163000
DTSTAMP:20260423T102130
CREATED:20210415T005240Z
LAST-MODIFIED:20210415T225145Z
UID:6119-1621526400-1621528200@freestylesd.com
SUMMARY:4pm In Person BELT EXAM Cool Cats
DESCRIPTION:Come to this class prepared for your belt exam.  \nFind belt testing material under Resources\, Student Resources on this website \nChoose the belt exam for the belt level above your current rank. If you have any questions\, please call us! \nMake sure your uniform is clean\, fingernails are clean\, hair is clean and combed
URL:https://freestylesd.com/event/4pm-in-person-belt-exam-cool-cats/
LOCATION:Freestyle Martial Arts\, 3760 Sports Arena Blvd. #1\, San Diego\, CA\, 92110\, United States
CATEGORIES:Belt Testing,Testing and Pre-Exams
END:VEVENT
BEGIN:VEVENT
DTSTART;TZID=America/Los_Angeles:20210519T190000
DTEND;TZID=America/Los_Angeles:20210519T200000
DTSTAMP:20260423T102130
CREATED:20210414T225817Z
LAST-MODIFIED:20210415T231614Z
UID:6115-1621450800-1621454400@freestylesd.com
SUMMARY:7pm In Person & Zoom BELT EXAM Adults
DESCRIPTION:Come to this class prepared for your belt exam. Use the usual Zoom class code link \nFind belt testing material under Resources\, Student Resources on this website \nChoose the belt exam for the belt level above your current rank. If you have any questions\, please call us! \nMake sure your uniform is clean\, fingernails are clean\, hair is clean and combed \nIf you are testing for Red or above\, you can purchase your boards at Dixieline or Home Depot. Record a video executing the appropriate breaks and email that to SenseiHayden@usafma.com before May 19th. Board sizes are 12 x 12 for adults \nIf you need further assistance\, please review the Freestyle TV videos\, or schedule a zoom private lesson
URL:https://freestylesd.com/event/7pm-in-person-zoom-belt-exam-adults/
CATEGORIES:Belt Testing,Testing and Pre-Exams
END:VEVENT
BEGIN:VEVENT
DTSTART;TZID=America/Los_Angeles:20210519T180000
DTEND;TZID=America/Los_Angeles:20210519T190000
DTSTAMP:20260423T102130
CREATED:20210414T225520Z
LAST-MODIFIED:20210516T204230Z
UID:6111-1621447200-1621450800@freestylesd.com
SUMMARY:6pm In Person BELT EXAM Red – Red I
DESCRIPTION:Come to this class prepared for your belt exam.  \nFind belt testing material under Resources\, Student Resources on this website \nChoose the belt exam for the belt level above your current rank. If you have any questions\, please call us! \nMake sure your uniform is clean\, fingernails are clean\, hair is clean and combed \nIf you are testing for a belt\, you can purchase your boards at Dixieline or Home Depot. Record a video executing the appropriate breaks and email that to SenseiHayden@usafma.com before May 19th. Board sizes are dependent on age\, please refer to the Board Breaking sheet under Resources\, Student Resources
URL:https://freestylesd.com/event/6pm-in-person-belt-exam-red-bbc/
LOCATION:Freestyle Martial Arts\, 3760 Sports Arena Blvd. #1\, San Diego\, CA\, 92110\, United States
CATEGORIES:Belt Testing,Testing and Pre-Exams
END:VEVENT
BEGIN:VEVENT
DTSTART;TZID=America/Los_Angeles:20210519T170000
DTEND;TZID=America/Los_Angeles:20210519T180000
DTSTAMP:20260423T102130
CREATED:20210414T225401Z
LAST-MODIFIED:20210516T204327Z
UID:6107-1621443600-1621447200@freestylesd.com
SUMMARY:5pm In Person BELT EXAM Blue I – Brown I
DESCRIPTION:Come to this class prepared for your belt exam.  \nFind belt testing material under Resources\, Student Resources on this website \nChoose the belt exam for the belt level above your current rank. If you have any questions\, please call us! \nMake sure your uniform is clean\, fingernails are clean\, hair is clean and combed \nIf you are Brown I testing for Red\, you can purchase your boards at Dixieline or Home Depot. Record a video executing the appropriate breaks and email that to SenseiHayden@usafma.com before May 19th. Board sizes are dependent on age\, please refer to the Board Breaking sheet under Resources\, Student Resources.
URL:https://freestylesd.com/event/5pm-in-person-belt-exam-blue-i-brown-i/
LOCATION:Freestyle Martial Arts\, 3760 Sports Arena Blvd. #1\, San Diego\, CA\, 92110\, United States
CATEGORIES:Belt Testing,Testing and Pre-Exams
END:VEVENT
BEGIN:VEVENT
DTSTART;TZID=America/Los_Angeles:20210519T160000
DTEND;TZID=America/Los_Angeles:20210519T164500
DTSTAMP:20260423T102130
CREATED:20210414T225252Z
LAST-MODIFIED:20210415T231350Z
UID:6103-1621440000-1621442700@freestylesd.com
SUMMARY:4 pm In Person BELT EXAM Karate Kids/Youth White – Orange I
DESCRIPTION:Come to this class prepared for your belt exam.  \nFind belt testing material under Resources\, Student Resources on this website \nChoose the belt exam for the belt level above your current rank. If you have any questions\, please call us! \nMake sure your uniform is clean\, fingernails are clean\, hair is clean and combed
URL:https://freestylesd.com/event/4-pm-in-person-belt-exam-karate-kids-youth-white-orange-i/
LOCATION:Freestyle Martial Arts\, 3760 Sports Arena Blvd. #1\, San Diego\, CA\, 92110\, United States
CATEGORIES:Belt Testing,Testing and Pre-Exams
END:VEVENT
END:VCALENDAR