BEGIN:VCALENDAR
VERSION:2.0
PRODID:-//Freestyle Martial Arts - ECPv6.15.20//NONSGML v1.0//EN
CALSCALE:GREGORIAN
METHOD:PUBLISH
X-ORIGINAL-URL:https://freestylesd.com
X-WR-CALDESC:Events for Freestyle Martial Arts
REFRESH-INTERVAL;VALUE=DURATION:PT1H
X-Robots-Tag:noindex
X-PUBLISHED-TTL:PT1H
BEGIN:VTIMEZONE
TZID:America/Los_Angeles
BEGIN:DAYLIGHT
TZOFFSETFROM:-0800
TZOFFSETTO:-0700
TZNAME:PDT
DTSTART:20190310T100000
END:DAYLIGHT
BEGIN:STANDARD
TZOFFSETFROM:-0700
TZOFFSETTO:-0800
TZNAME:PST
DTSTART:20191103T090000
END:STANDARD
BEGIN:DAYLIGHT
TZOFFSETFROM:-0800
TZOFFSETTO:-0700
TZNAME:PDT
DTSTART:20200308T100000
END:DAYLIGHT
BEGIN:STANDARD
TZOFFSETFROM:-0700
TZOFFSETTO:-0800
TZNAME:PST
DTSTART:20201101T090000
END:STANDARD
BEGIN:DAYLIGHT
TZOFFSETFROM:-0800
TZOFFSETTO:-0700
TZNAME:PDT
DTSTART:20210314T100000
END:DAYLIGHT
BEGIN:STANDARD
TZOFFSETFROM:-0700
TZOFFSETTO:-0800
TZNAME:PST
DTSTART:20211107T090000
END:STANDARD
BEGIN:DAYLIGHT
TZOFFSETFROM:-0800
TZOFFSETTO:-0700
TZNAME:PDT
DTSTART:20220313T100000
END:DAYLIGHT
BEGIN:STANDARD
TZOFFSETFROM:-0700
TZOFFSETTO:-0800
TZNAME:PST
DTSTART:20221106T090000
END:STANDARD
END:VTIMEZONE
BEGIN:VEVENT
DTSTART;TZID=America/Los_Angeles:20210325T164500
DTEND;TZID=America/Los_Angeles:20210325T173000
DTSTAMP:20260423T105008
CREATED:20210303T020911Z
LAST-MODIFIED:20210318T012713Z
UID:5540-1616690700-1616693400@freestylesd.com
SUMMARY:4:45 In Person PRE EXAM Green - Blue
DESCRIPTION:
URL:https://freestylesd.com/event/445-in-person-pre-exam-green-blue/
LOCATION:Freestyle Martial Arts\, 3760 Sports Arena Blvd. #1\, San Diego\, CA\, 92110\, United States
CATEGORIES:Dojo Schedule,In Class Events,Pre-Exams
END:VEVENT
BEGIN:VEVENT
DTSTART;TZID=America/Los_Angeles:20210324T190000
DTEND;TZID=America/Los_Angeles:20210324T200000
DTSTAMP:20260423T105008
CREATED:20210203T013212Z
LAST-MODIFIED:20210318T012824Z
UID:5427-1616612400-1616616000@freestylesd.com
SUMMARY:7 pm Zoom PRE EXAM Adults and All Parents invited!
DESCRIPTION:
URL:https://freestylesd.com/event/7-pm-zoom-pre-exam-adults-and-all-parents-invited/
LOCATION:CA
CATEGORIES:Dojo Schedule,Pre-Exams,Testing and Pre-Exams
END:VEVENT
BEGIN:VEVENT
DTSTART;TZID=America/Los_Angeles:20210324T180000
DTEND;TZID=America/Los_Angeles:20210324T183000
DTSTAMP:20260423T105008
CREATED:20210203T012159Z
LAST-MODIFIED:20210318T012903Z
UID:5389-1616608800-1616610600@freestylesd.com
SUMMARY:6 pm Zoom PRE EXAM Karate Kids/Youth Red – Black Belt Candidate
DESCRIPTION:
URL:https://freestylesd.com/event/6-pm-zoom-pre-exam-karate-kids-youth-red-black-belt-candidate-2/
LOCATION:CA
CATEGORIES:Dojo Schedule,Pre-Exams,Testing and Pre-Exams
END:VEVENT
BEGIN:VEVENT
DTSTART;TZID=America/Los_Angeles:20210324T173000
DTEND;TZID=America/Los_Angeles:20210324T181500
DTSTAMP:20260423T105008
CREATED:20210303T020231Z
LAST-MODIFIED:20210318T012940Z
UID:5534-1616607000-1616609700@freestylesd.com
SUMMARY:5:30 In Person PRE EXAM Red - BBC
DESCRIPTION:
URL:https://freestylesd.com/event/530-in-person-pre-exam-red-bbc/
LOCATION:Freestyle Martial Arts\, 3760 Sports Arena Blvd. #1\, San Diego\, CA\, 92110\, United States
CATEGORIES:Dojo Schedule,In Class Events,Pre-Exams
END:VEVENT
BEGIN:VEVENT
DTSTART;TZID=America/Los_Angeles:20210324T170000
DTEND;TZID=America/Los_Angeles:20210324T173000
DTSTAMP:20260423T105008
CREATED:20210203T012123Z
LAST-MODIFIED:20210318T013030Z
UID:5387-1616605200-1616607000@freestylesd.com
SUMMARY:5 pm Zoom PRE EXAM Karate Kids/Youth Blue I – Brown I
DESCRIPTION:
URL:https://freestylesd.com/event/5-pm-zoom-pre-exam-karate-kids-youth-blue-i-brown-i-2/
LOCATION:CA
CATEGORIES:Dojo Schedule,Pre-Exams,Testing and Pre-Exams
END:VEVENT
BEGIN:VEVENT
DTSTART;TZID=America/Los_Angeles:20210324T164500
DTEND;TZID=America/Los_Angeles:20210324T173000
DTSTAMP:20260423T105008
CREATED:20210303T015857Z
LAST-MODIFIED:20210318T013123Z
UID:5521-1616604300-1616607000@freestylesd.com
SUMMARY:4:45 In Person PRE EXAM Blue I - Brown I
DESCRIPTION:
URL:https://freestylesd.com/event/445-in-person-blue-i-brown-i/
LOCATION:Freestyle Martial Arts\, 3760 Sports Arena Blvd. #1\, San Diego\, CA\, 92110\, United States
CATEGORIES:Dojo Schedule,In Class Events,Pre-Exams
END:VEVENT
BEGIN:VEVENT
DTSTART;TZID=America/Los_Angeles:20210324T160000
DTEND;TZID=America/Los_Angeles:20210324T164500
DTSTAMP:20260423T105008
CREATED:20210303T012858Z
LAST-MODIFIED:20210318T013216Z
UID:5503-1616601600-1616604300@freestylesd.com
SUMMARY:4pm In Person PRE EXAM White - Orange I
DESCRIPTION:
URL:https://freestylesd.com/event/4pm-new-in-person-white-orange-i-3/
LOCATION:Freestyle Martial Arts\, 3760 Sports Arena Blvd. #1\, San Diego\, CA\, 92110\, United States
CATEGORIES:Dojo Schedule,In Class Events,Pre-Exams
END:VEVENT
BEGIN:VEVENT
DTSTART;TZID=America/Los_Angeles:20210324T160000
DTEND;TZID=America/Los_Angeles:20210324T163000
DTSTAMP:20260423T105008
CREATED:20210203T012044Z
LAST-MODIFIED:20210318T013418Z
UID:5385-1616601600-1616603400@freestylesd.com
SUMMARY:4 pm Zoom PRE EXAM Karate Kids/Youth White – Orange I
DESCRIPTION:
URL:https://freestylesd.com/event/4-pm-zoom-pre-exam-karate-kids-youth-white-orange-i-2/
LOCATION:CA
CATEGORIES:Dojo Schedule,Pre-Exams,Testing and Pre-Exams
END:VEVENT
BEGIN:VEVENT
DTSTART;TZID=America/Los_Angeles:20210206T150000
DTEND;TZID=America/Los_Angeles:20210206T160000
DTSTAMP:20260423T105008
CREATED:20210202T003802Z
LAST-MODIFIED:20210202T003802Z
UID:5279-1612623600-1612627200@freestylesd.com
SUMMARY:3pm Make Up Pre Exam
DESCRIPTION:3 pm\nvia Zoom\nhttps://us02web.zoom.us/j/87884079218
URL:https://freestylesd.com/event/3pm-make-up-pre-exam/
LOCATION:CA
CATEGORIES:Pre-Exams,Testing and Pre-Exams
END:VEVENT
BEGIN:VEVENT
DTSTART;TZID=America/Los_Angeles:20210121T180000
DTEND;TZID=America/Los_Angeles:20210121T183000
DTSTAMP:20260423T105008
CREATED:20201202T012605Z
LAST-MODIFIED:20201202T012605Z
UID:4964-1611252000-1611253800@freestylesd.com
SUMMARY:6 pm Zoom PRE EXAM Jr Black Belts: All Levels
DESCRIPTION:
URL:https://freestylesd.com/event/6-pm-zoom-pre-exam-jr-black-belts-all-levels/
LOCATION:CA
CATEGORIES:Dojo Schedule,Pre-Exams,Testing and Pre-Exams
END:VEVENT
BEGIN:VEVENT
DTSTART;TZID=America/Los_Angeles:20210121T170000
DTEND;TZID=America/Los_Angeles:20210121T173000
DTSTAMP:20260423T105008
CREATED:20201202T012419Z
LAST-MODIFIED:20201202T012419Z
UID:4956-1611248400-1611250200@freestylesd.com
SUMMARY:5 pm Zoom PRE EXAM Karate Kids/Youth Green – Blue
DESCRIPTION:
URL:https://freestylesd.com/event/5-pm-zoom-pre-exam-karate-kids-youth-green-blue/
LOCATION:CA
CATEGORIES:Dojo Schedule,Pre-Exams,Testing and Pre-Exams
END:VEVENT
BEGIN:VEVENT
DTSTART;TZID=America/Los_Angeles:20210120T180000
DTEND;TZID=America/Los_Angeles:20210120T183000
DTSTAMP:20260423T105008
CREATED:20201202T011020Z
LAST-MODIFIED:20201202T011020Z
UID:4932-1611165600-1611167400@freestylesd.com
SUMMARY:6 pm Zoom PRE EXAM Karate Kids/Youth Red – Black Belt Candidate
DESCRIPTION:
URL:https://freestylesd.com/event/6-pm-zoom-pre-exam-karate-kids-youth-red-black-belt-candidate/
LOCATION:CA
CATEGORIES:Dojo Schedule,Pre-Exams,Testing and Pre-Exams
END:VEVENT
BEGIN:VEVENT
DTSTART;TZID=America/Los_Angeles:20210120T170000
DTEND;TZID=America/Los_Angeles:20210120T173000
DTSTAMP:20260423T105008
CREATED:20201202T010808Z
LAST-MODIFIED:20201202T010808Z
UID:4924-1611162000-1611163800@freestylesd.com
SUMMARY:5 pm Zoom PRE EXAM Karate Kids/Youth Blue I – Brown I
DESCRIPTION:
URL:https://freestylesd.com/event/5-pm-zoom-pre-exam-karate-kids-youth-blue-i-brown-i/
LOCATION:CA
CATEGORIES:Dojo Schedule,Pre-Exams,Testing and Pre-Exams
END:VEVENT
BEGIN:VEVENT
DTSTART;TZID=America/Los_Angeles:20210120T160000
DTEND;TZID=America/Los_Angeles:20210120T163000
DTSTAMP:20260423T105008
CREATED:20201202T010319Z
LAST-MODIFIED:20201202T010319Z
UID:4916-1611158400-1611160200@freestylesd.com
SUMMARY:4 pm Zoom PRE EXAM Karate Kids/Youth White – Orange I
DESCRIPTION:
URL:https://freestylesd.com/event/4-pm-zoom-pre-exam-karate-kids-youth-white-orange-i/
LOCATION:CA
CATEGORIES:Dojo Schedule,Pre-Exams,Testing and Pre-Exams
END:VEVENT
BEGIN:VEVENT
DTSTART;TZID=America/Los_Angeles:20210109T150000
DTEND;TZID=America/Los_Angeles:20210109T160000
DTSTAMP:20260423T105008
CREATED:20201202T015023Z
LAST-MODIFIED:20201202T015132Z
UID:5008-1610204400-1610208000@freestylesd.com
SUMMARY:3pm Zoom Make Up Pre-Exam
DESCRIPTION:Join Zoom Meeting \nhttps://us02web.zoom.us/j/87884079218
URL:https://freestylesd.com/event/3pm-zoom-make-up-belt-exam-2/
LOCATION:CA
CATEGORIES:Pre-Exams,Testing and Pre-Exams
END:VEVENT
BEGIN:VEVENT
DTSTART;TZID=America/Los_Angeles:20201217T180000
DTEND;TZID=America/Los_Angeles:20201217T183000
DTSTAMP:20260423T105008
CREATED:20201125T020233Z
LAST-MODIFIED:20201125T021819Z
UID:4801-1608228000-1608229800@freestylesd.com
SUMMARY:6 pm Zoom PRE EXAM Jr Black Belts: All Levels
DESCRIPTION:
URL:https://freestylesd.com/event/6-pm-zoom-jr-black-belts-all-levels-30/
LOCATION:CA
CATEGORIES:Dojo Schedule,Pre-Exams,Testing and Pre-Exams
END:VEVENT
BEGIN:VEVENT
DTSTART;TZID=America/Los_Angeles:20201217T170000
DTEND;TZID=America/Los_Angeles:20201217T173000
DTSTAMP:20260423T105008
CREATED:20201125T020059Z
LAST-MODIFIED:20201125T021838Z
UID:4795-1608224400-1608226200@freestylesd.com
SUMMARY:5 pm Zoom PRE EXAM Karate Kids/Youth Green – Blue
DESCRIPTION:
URL:https://freestylesd.com/event/5-pm-zoom-karate-kids-youth-green-blue-30/
LOCATION:CA
CATEGORIES:Dojo Schedule,Pre-Exams,Testing and Pre-Exams
END:VEVENT
BEGIN:VEVENT
DTSTART;TZID=America/Los_Angeles:20201216T180000
DTEND;TZID=America/Los_Angeles:20201216T183000
DTSTAMP:20260423T105008
CREATED:20201125T013211Z
LAST-MODIFIED:20201125T021903Z
UID:4777-1608141600-1608143400@freestylesd.com
SUMMARY:6 pm Zoom PRE EXAM Karate Kids/Youth Red – Black Belt Candidate
DESCRIPTION:
URL:https://freestylesd.com/event/6-pm-zoom-karate-kids-youth-red-black-belt-candidate-31/
LOCATION:CA
CATEGORIES:Dojo Schedule,Pre-Exams,Testing and Pre-Exams
END:VEVENT
BEGIN:VEVENT
DTSTART;TZID=America/Los_Angeles:20201216T170000
DTEND;TZID=America/Los_Angeles:20201216T173000
DTSTAMP:20260423T105008
CREATED:20201125T013019Z
LAST-MODIFIED:20201125T021921Z
UID:4771-1608138000-1608139800@freestylesd.com
SUMMARY:5 pm Zoom PRE EXAM Karate Kids/Youth Blue I – Brown I
DESCRIPTION:
URL:https://freestylesd.com/event/5-pm-zoom-karate-kids-youth-blue-i-brown-i-29/
LOCATION:CA
CATEGORIES:Dojo Schedule,Pre-Exams,Testing and Pre-Exams
END:VEVENT
BEGIN:VEVENT
DTSTART;TZID=America/Los_Angeles:20201216T160000
DTEND;TZID=America/Los_Angeles:20201216T163000
DTSTAMP:20260423T105008
CREATED:20201125T012853Z
LAST-MODIFIED:20201125T021936Z
UID:4765-1608134400-1608136200@freestylesd.com
SUMMARY:4 pm Zoom PRE EXAM Karate Kids/Youth White – Orange I
DESCRIPTION:
URL:https://freestylesd.com/event/4-pm-zoom-karate-kids-youth-white-orange-i-30/
LOCATION:CA
CATEGORIES:Dojo Schedule,Pre-Exams,Testing and Pre-Exams
END:VEVENT
BEGIN:VEVENT
DTSTART;TZID=America/Los_Angeles:20201107T150000
DTEND;TZID=America/Los_Angeles:20201107T160000
DTSTAMP:20260423T105008
CREATED:20200906T014609Z
LAST-MODIFIED:20200906T014609Z
UID:4156-1604761200-1604764800@freestylesd.com
SUMMARY:3pm Zoom Make Up Pre Exam
DESCRIPTION:Karate Kids! \nIf you missed your pre-exam stripe for September or October\, please plan to attend the Zoom Make up Pre-Exam this Saturday\, Nov 7 at 3pm \nWhite – Brown belts must have 2 stripes to test in November \nBrown I – JBB must have 5 stripes to test in November \n\nJoin Zoom Meeting\nhttps://us02web.zoom.us/j/87884079218\n\nMeeting ID: 878 8407 9218
URL:https://freestylesd.com/event/3pm-zoom-make-up-pre-exam-3/
LOCATION:CA
CATEGORIES:Pre-Exams,Testing and Pre-Exams
END:VEVENT
BEGIN:VEVENT
DTSTART;TZID=America/Los_Angeles:20201022T180000
DTEND;TZID=America/Los_Angeles:20201022T183000
DTSTAMP:20260423T105008
CREATED:20200905T185431Z
LAST-MODIFIED:20200906T022126Z
UID:4046-1603389600-1603391400@freestylesd.com
SUMMARY:6 pm Zoom PRE EXAM Jr Black Belts: All Levels
DESCRIPTION:Join us on zoom and earn your pre-exam stripe
URL:https://freestylesd.com/event/6-pm-zoom-jr-black-belts-all-levels-24/
LOCATION:CA
CATEGORIES:Dojo Schedule,Pre-Exams,Testing and Pre-Exams
END:VEVENT
BEGIN:VEVENT
DTSTART;TZID=America/Los_Angeles:20201022T170000
DTEND;TZID=America/Los_Angeles:20201022T173000
DTSTAMP:20260423T105008
CREATED:20200905T184413Z
LAST-MODIFIED:20200906T022037Z
UID:4026-1603386000-1603387800@freestylesd.com
SUMMARY:5 pm Zoom PRE EXAM Karate Kids/Youth Green – Blue
DESCRIPTION:Join us on zoom and earn your pre-exam stripe
URL:https://freestylesd.com/event/5-pm-zoom-karate-kids-youth-green-blue-24/
LOCATION:CA
CATEGORIES:Dojo Schedule,Pre-Exams,Testing and Pre-Exams
END:VEVENT
BEGIN:VEVENT
DTSTART;TZID=America/Los_Angeles:20201021T190000
DTEND;TZID=America/Los_Angeles:20201021T200000
DTSTAMP:20260423T105008
CREATED:20200906T021131Z
LAST-MODIFIED:20200906T021953Z
UID:4187-1603306800-1603310400@freestylesd.com
SUMMARY:7 pm Zoom PRE EXAM Adults and All Parents invited!
DESCRIPTION:Join us on zoom and earn your pre-exam stripe
URL:https://freestylesd.com/event/7-pm-zoom-adults-and-all-parents-invited-24/
LOCATION:CA
CATEGORIES:Dojo Schedule,Pre-Exams,Testing and Pre-Exams
END:VEVENT
BEGIN:VEVENT
DTSTART;TZID=America/Los_Angeles:20201021T180000
DTEND;TZID=America/Los_Angeles:20201021T183000
DTSTAMP:20260423T105008
CREATED:20200906T020324Z
LAST-MODIFIED:20200906T021907Z
UID:4167-1603303200-1603305000@freestylesd.com
SUMMARY:6 pm Zoom PRE EXAM Karate Kids/Youth Red – Black Belt Candidate
DESCRIPTION:Join us on zoom and earn your pre-exam stripe
URL:https://freestylesd.com/event/6-pm-zoom-karate-kids-youth-red-black-belt-candidate-25/
LOCATION:CA
CATEGORIES:Dojo Schedule,Pre-Exams,Testing and Pre-Exams
END:VEVENT
BEGIN:VEVENT
DTSTART;TZID=America/Los_Angeles:20201021T170000
DTEND;TZID=America/Los_Angeles:20201021T173000
DTSTAMP:20260423T105008
CREATED:20200819T013302Z
LAST-MODIFIED:20200906T021814Z
UID:3942-1603299600-1603301400@freestylesd.com
SUMMARY:5 pm Zoom PRE EXAM Karate Kids/Youth Blue I – Brown I
DESCRIPTION:Join us on zoom and earn your pre-exam stripe
URL:https://freestylesd.com/event/5-pm-zoom-karate-kids-youth-blue-i-brown-i-23/
LOCATION:CA
CATEGORIES:Dojo Schedule,Pre-Exams,Testing and Pre-Exams
END:VEVENT
BEGIN:VEVENT
DTSTART;TZID=America/Los_Angeles:20201021T160000
DTEND;TZID=America/Los_Angeles:20201021T163000
DTSTAMP:20260423T105008
CREATED:20200818T000744Z
LAST-MODIFIED:20200906T021642Z
UID:3793-1603296000-1603297800@freestylesd.com
SUMMARY:4 pm Zoom PRE EXAM Karate Kids/Youth White – Orange I
DESCRIPTION:Join us on zoom and earn your pre-exam stripe
URL:https://freestylesd.com/event/4-pm-zoom-karate-kids-youth-white-orange-i-24/
LOCATION:CA
CATEGORIES:Dojo Schedule,Pre-Exams,Testing and Pre-Exams
END:VEVENT
BEGIN:VEVENT
DTSTART;TZID=America/Los_Angeles:20201003T150000
DTEND;TZID=America/Los_Angeles:20201003T160000
DTSTAMP:20260423T105008
CREATED:20200906T014357Z
LAST-MODIFIED:20200906T014357Z
UID:4154-1601737200-1601740800@freestylesd.com
SUMMARY:3pm Zoom Make Up Pre Exam
DESCRIPTION:Karate Kids! \nIf you missed your pre-exam stripe for September\, please plan to attend the Zoom Make up Pre-Exam this Saturday\, Oct 3 at 3pm \nWhite – Brown belts must have 2 stripes to test in November \nBrown I – JBB must have 5 stripes to test in November \n\nJoin Zoom Meeting\nhttps://us02web.zoom.us/j/87884079218\n\nMeeting ID: 878 8407 9218
URL:https://freestylesd.com/event/3pm-zoom-make-up-pre-exam-2/
LOCATION:CA
CATEGORIES:Pre-Exams,Testing and Pre-Exams
END:VEVENT
BEGIN:VEVENT
DTSTART;TZID=America/Los_Angeles:20200924T180000
DTEND;TZID=America/Los_Angeles:20200924T183000
DTSTAMP:20260423T105008
CREATED:20200905T185112Z
LAST-MODIFIED:20200906T015943Z
UID:4038-1600970400-1600972200@freestylesd.com
SUMMARY:6 pm Zoom PRE EXAM Jr Black Belts: All Levels
DESCRIPTION:Join us on zoom and earn your pre-exam stripe
URL:https://freestylesd.com/event/6-pm-zoom-jr-black-belts-all-levels-20/
LOCATION:CA
CATEGORIES:Dojo Schedule,Pre-Exams,Testing and Pre-Exams
END:VEVENT
BEGIN:VEVENT
DTSTART;TZID=America/Los_Angeles:20200924T170000
DTEND;TZID=America/Los_Angeles:20200924T173000
DTSTAMP:20260423T105008
CREATED:20200905T184233Z
LAST-MODIFIED:20200906T015854Z
UID:4018-1600966800-1600968600@freestylesd.com
SUMMARY:5 pm Zoom PRE EXAM Karate Kids/Youth Green – Blue
DESCRIPTION:Join us on zoom and earn your pre-exam stripe
URL:https://freestylesd.com/event/5-pm-zoom-karate-kids-youth-green-blue-20/
LOCATION:CA
CATEGORIES:Dojo Schedule,Pre-Exams,Testing and Pre-Exams
END:VEVENT
END:VCALENDAR