BEGIN:VCALENDAR
VERSION:2.0
PRODID:-//Freestyle Martial Arts - ECPv6.15.20//NONSGML v1.0//EN
CALSCALE:GREGORIAN
METHOD:PUBLISH
X-WR-CALNAME:Freestyle Martial Arts
X-ORIGINAL-URL:https://freestylesd.com
X-WR-CALDESC:Events for Freestyle Martial Arts
REFRESH-INTERVAL;VALUE=DURATION:PT1H
X-Robots-Tag:noindex
X-PUBLISHED-TTL:PT1H
BEGIN:VTIMEZONE
TZID:America/Los_Angeles
BEGIN:DAYLIGHT
TZOFFSETFROM:-0800
TZOFFSETTO:-0700
TZNAME:PDT
DTSTART:20210314T100000
END:DAYLIGHT
BEGIN:STANDARD
TZOFFSETFROM:-0700
TZOFFSETTO:-0800
TZNAME:PST
DTSTART:20211107T090000
END:STANDARD
BEGIN:DAYLIGHT
TZOFFSETFROM:-0800
TZOFFSETTO:-0700
TZNAME:PDT
DTSTART:20220313T100000
END:DAYLIGHT
BEGIN:STANDARD
TZOFFSETFROM:-0700
TZOFFSETTO:-0800
TZNAME:PST
DTSTART:20221106T090000
END:STANDARD
BEGIN:DAYLIGHT
TZOFFSETFROM:-0800
TZOFFSETTO:-0700
TZNAME:PDT
DTSTART:20230312T100000
END:DAYLIGHT
BEGIN:STANDARD
TZOFFSETFROM:-0700
TZOFFSETTO:-0800
TZNAME:PST
DTSTART:20231105T090000
END:STANDARD
BEGIN:DAYLIGHT
TZOFFSETFROM:-0800
TZOFFSETTO:-0700
TZNAME:PDT
DTSTART:20240310T100000
END:DAYLIGHT
BEGIN:STANDARD
TZOFFSETFROM:-0700
TZOFFSETTO:-0800
TZNAME:PST
DTSTART:20241103T090000
END:STANDARD
END:VTIMEZONE
BEGIN:VEVENT
DTSTART;TZID=America/Los_Angeles:20230908T160000
DTEND;TZID=America/Los_Angeles:20230908T170000
DTSTAMP:20260422T150633
CREATED:20230908T050711Z
LAST-MODIFIED:20230908T050711Z
UID:9155-1694188800-1694192400@freestylesd.com
SUMMARY:Karate Kid Leadership Meeting
DESCRIPTION:Leadership Meeting \nFriday\, September 8th 4pm \nAt the dojo
URL:https://freestylesd.com/event/karate-kid-leadership-meeting/
LOCATION:Freestyle Martial Arts\, 3760 Sports Arena Blvd. #1\, San Diego\, CA\, 92110\, United States
CATEGORIES:Leadership Team Meetings
END:VEVENT
BEGIN:VEVENT
DTSTART;TZID=America/Los_Angeles:20221211T163000
DTEND;TZID=America/Los_Angeles:20221211T200000
DTSTAMP:20260422T150633
CREATED:20241002T233147Z
LAST-MODIFIED:20241003T000312Z
UID:8312-1670776200-1670788800@freestylesd.com
SUMMARY:Annual Awards Dinner Banquet\, Dec 7th
DESCRIPTION:Honesty and Integrity\nSaturday\, December 7th\, 4:30 -8:00 pm\nLegacy International Resort\, 875 Hotel Circle South\, San Diego\nAwards~Performances~Prizes~Dancing~Dinner\nClass Performances start at 5 pm\nGet your tickets early for the best pricing
URL:https://freestylesd.com/event/430-awards-dinner-banquet/
LOCATION:Legacy International Resort\, 875 Hotel Circle South\, San Diego\, CA\, 92108\, United States
CATEGORIES:Dojo Schedule,Special Events
END:VEVENT
BEGIN:VEVENT
DTSTART;TZID=America/Los_Angeles:20221203T150000
DTEND;TZID=America/Los_Angeles:20221203T160000
DTSTAMP:20260422T150633
CREATED:20221012T011353Z
LAST-MODIFIED:20221012T011353Z
UID:8522-1670079600-1670083200@freestylesd.com
SUMMARY:3pm Karate Kid Make Up Belt Exam via Zoom
DESCRIPTION:If you missed the belt exam in November\, plan to attend the Make up Belt Exam Saturday Dec 3rd at 3pm via zoom\nhttps://us02web.zoom.us/j/87884079218\nClick HERE to go directly to zoom\nIf you are testing for red and above\, you cannot do a make up belt exam
URL:https://freestylesd.com/event/3pm-karate-kid-make-up-belt-exam-via-zoom-2/
CATEGORIES:Belt Testing,Testing and Pre-Exams
END:VEVENT
BEGIN:VEVENT
DTSTART;TZID=America/Los_Angeles:20221202T160000
DTEND;TZID=America/Los_Angeles:20221202T163000
DTSTAMP:20260422T150633
CREATED:20220719T005038Z
LAST-MODIFIED:20220719T005038Z
UID:8377-1669996800-1669998600@freestylesd.com
SUMMARY:4pm Leadership Meeting
DESCRIPTION:
URL:https://freestylesd.com/event/4pm-leadership-meeting-20/
CATEGORIES:Leadership Team Meetings
END:VEVENT
BEGIN:VEVENT
DTSTART;VALUE=DATE:20221123
DTEND;VALUE=DATE:20221128
DTSTAMP:20260422T150633
CREATED:20221012T014220Z
LAST-MODIFIED:20221013T225752Z
UID:8542-1669161600-1669593599@freestylesd.com
SUMMARY:Happy Thanksgiving - Dojo CLOSED
DESCRIPTION:Have a great Thanksgiving with your families\, we will see you after the holiday!
URL:https://freestylesd.com/event/happy-thanksgiving-dojo-closed/
CATEGORIES:Dojo Schedule
END:VEVENT
BEGIN:VEVENT
DTSTART;VALUE=DATE:20221121
DTEND;VALUE=DATE:20221123
DTSTAMP:20260422T150633
CREATED:20221012T013752Z
LAST-MODIFIED:20221012T013752Z
UID:8538-1668988800-1669161599@freestylesd.com
SUMMARY:Parent Workout
DESCRIPTION:Wear something comfortable and join your student in class! Go at your own pace\nHave fun and learn how to help your student become a better martial artist
URL:https://freestylesd.com/event/parent-workout-8/
CATEGORIES:Dojo Schedule,In Class Events
END:VEVENT
BEGIN:VEVENT
DTSTART;VALUE=DATE:20221114
DTEND;VALUE=DATE:20221118
DTSTAMP:20260422T150633
CREATED:20221012T013358Z
LAST-MODIFIED:20221012T013358Z
UID:8536-1668384000-1668729599@freestylesd.com
SUMMARY:BELT EXAM WEEK
DESCRIPTION:
URL:https://freestylesd.com/event/belt-exam-week-3/
LOCATION:Freestyle Martial Arts\, 3760 Sports Arena Blvd. #1\, San Diego\, CA\, 92110\, United States
CATEGORIES:Belt Testing,Testing and Pre-Exams
END:VEVENT
BEGIN:VEVENT
DTSTART;TZID=America/Los_Angeles:20221113T130000
DTEND;TZID=America/Los_Angeles:20221113T170000
DTSTAMP:20260422T150633
CREATED:20221012T014004Z
LAST-MODIFIED:20221012T014004Z
UID:8540-1668344400-1668358800@freestylesd.com
SUMMARY:In-House Tournament
DESCRIPTION:1:00 – 3:00 – Brown through Jr Black Belts (Karate Kids\, Youth and Teens)\n3:00 – 4:00 – White through Orange I (Karate Kids and Youth)\n3:30 – 4:00 – Cool Cats\n4:00 – 4:30 – Tiger Tots\n4:00 – 5:00 – Green through Blue I (Karate Kids and Youth) \nFees\n$35 – Tiger Tots & Cool Cats – 1 event\, Martial Arts Basics – all earn awards\n$55 – White through Orange I – 2 events\, Martial Arts Basics & Grappling – top 3 earn awards per event\n$70 – Green through Jr Black Belt – 3 events\, Traditional Forms\, Sparring & Grappling – top 3 earn awards per event
URL:https://freestylesd.com/event/in-house-tournament-2/
LOCATION:Freestyle Martial Arts\, 3760 Sports Arena Blvd. #1\, San Diego\, CA\, 92110\, United States
CATEGORIES:Tournament
END:VEVENT
BEGIN:VEVENT
DTSTART;TZID=America/Los_Angeles:20221105T150000
DTEND;TZID=America/Los_Angeles:20221105T160000
DTSTAMP:20260422T150633
CREATED:20221012T010951Z
LAST-MODIFIED:20221012T011527Z
UID:8520-1667660400-1667664000@freestylesd.com
SUMMARY:3pm Karate Kid Make Up Pre-Exam via Zoom
DESCRIPTION:If you are missing a pre-exam stripe\, plan to attend the make up pre-exam class via zoom on Saturday November 5th at 3pm\nhttps://us02web.zoom.us/j/87884079218\nclick HERE to join make up exam
URL:https://freestylesd.com/event/3pm-karate-kid-make-up-pre-exam-via-zoom-4/
CATEGORIES:Pre-Exams,Testing and Pre-Exams
END:VEVENT
BEGIN:VEVENT
DTSTART;TZID=America/Los_Angeles:20221104T160000
DTEND;TZID=America/Los_Angeles:20221104T163000
DTSTAMP:20260422T150633
CREATED:20220719T005009Z
LAST-MODIFIED:20220719T005009Z
UID:8375-1667577600-1667579400@freestylesd.com
SUMMARY:4pm Leadership Meeting
DESCRIPTION:
URL:https://freestylesd.com/event/4pm-leadership-meeting-19/
CATEGORIES:Leadership Team Meetings
END:VEVENT
BEGIN:VEVENT
DTSTART;VALUE=DATE:20221031
DTEND;VALUE=DATE:20221101
DTSTAMP:20260422T150633
CREATED:20221012T012231Z
LAST-MODIFIED:20221012T012231Z
UID:8529-1667174400-1667260799@freestylesd.com
SUMMARY:Happy Halloween - Dojo Closed
DESCRIPTION:Enjoy Halloween with your friends and family\nDojo is closed
URL:https://freestylesd.com/event/happy-halloween-dojo-closed/
CATEGORIES:Dojo Schedule
END:VEVENT
BEGIN:VEVENT
DTSTART;TZID=America/Los_Angeles:20221030T140000
DTEND;TZID=America/Los_Angeles:20221030T153000
DTSTAMP:20260422T150633
CREATED:20221012T012117Z
LAST-MODIFIED:20221012T012117Z
UID:8527-1667138400-1667143800@freestylesd.com
SUMMARY:Halloween Costume Party
DESCRIPTION:Join us for trick or treating at the dojo\nCome dressed in your Halloween costume\nBring a bag for candy\nWatch demo team performances\nBring a friend and earn 5 raffle tickets!
URL:https://freestylesd.com/event/halloween-costume-party/
LOCATION:Freestyle Martial Arts\, 3760 Sports Arena Blvd. #1\, San Diego\, CA\, 92110\, United States
CATEGORIES:Special Events
END:VEVENT
BEGIN:VEVENT
DTSTART;VALUE=DATE:20221026
DTEND;VALUE=DATE:20221028
DTSTAMP:20260422T150633
CREATED:20221021T014047Z
LAST-MODIFIED:20221021T014047Z
UID:8557-1666742400-1666915199@freestylesd.com
SUMMARY:Buddy Day
DESCRIPTION:Give your friend your Golden Ticket.  Your friend will join you in class. \nYour friend earns a prize.  Your earn 5 Raffle tickets! \n 
URL:https://freestylesd.com/event/buddy-day-6/
CATEGORIES:Dojo Schedule,Special Events
END:VEVENT
BEGIN:VEVENT
DTSTART;VALUE=DATE:20221019
DTEND;VALUE=DATE:20221021
DTSTAMP:20260422T150633
CREATED:20221012T011716Z
LAST-MODIFIED:20221012T011716Z
UID:8525-1666137600-1666310399@freestylesd.com
SUMMARY:Karate Kids Pre-Exams in class
DESCRIPTION:
URL:https://freestylesd.com/event/karate-kids-pre-exams-in-class-3/
CATEGORIES:Pre-Exams,Testing and Pre-Exams
END:VEVENT
BEGIN:VEVENT
DTSTART;TZID=America/Los_Angeles:20221011T080000
DTEND;TZID=America/Los_Angeles:20221011T170000
DTSTAMP:20260422T150633
CREATED:20221012T015802Z
LAST-MODIFIED:20221012T015802Z
UID:8544-1665475200-1665507600@freestylesd.com
SUMMARY:Prize Raffle Winners Announced
DESCRIPTION:Winners for raffle prizes will be announced at 7pm on November 13th
URL:https://freestylesd.com/event/prize-raffle-winners-announced/
CATEGORIES:Dojo Schedule
END:VEVENT
BEGIN:VEVENT
DTSTART;TZID=America/Los_Angeles:20221007T160000
DTEND;TZID=America/Los_Angeles:20221007T163000
DTSTAMP:20260422T150633
CREATED:20220719T004936Z
LAST-MODIFIED:20220719T004936Z
UID:8373-1665158400-1665160200@freestylesd.com
SUMMARY:4pm Leadership Meeting
DESCRIPTION:
URL:https://freestylesd.com/event/4pm-leadership-meeting-18/
CATEGORIES:Leadership Team Meetings
END:VEVENT
BEGIN:VEVENT
DTSTART;TZID=America/Los_Angeles:20221001T150000
DTEND;TZID=America/Los_Angeles:20221001T160000
DTSTAMP:20260422T150633
CREATED:20221012T005602Z
LAST-MODIFIED:20221012T005602Z
UID:8518-1664636400-1664640000@freestylesd.com
SUMMARY:3pm Karate Kid Make Up Pre-Exam via Zoom
DESCRIPTION:If you are missing a pre-exam stripe\, plan to attend the make up pre-exam class via zoom on Saturday October 1 at 3pm\nhttps://us02web.zoom.us/j/87884079218\nclick HERE to join make up exam
URL:https://freestylesd.com/event/3pm-karate-kid-make-up-pre-exam-via-zoom-3/
CATEGORIES:Pre-Exams,Testing and Pre-Exams
END:VEVENT
BEGIN:VEVENT
DTSTART;TZID=America/Los_Angeles:20220925T100000
DTEND;TZID=America/Los_Angeles:20220925T140000
DTSTAMP:20260422T150633
CREATED:20220812T014727Z
LAST-MODIFIED:20220812T014727Z
UID:8443-1664100000-1664114400@freestylesd.com
SUMMARY:Annual Student Appreciation Picnic 10-2pm
DESCRIPTION:Our annual picnic is back!\n**New location**\n2590 East Mission Bay Drive \nOur annual picnic is a time for all our FMA families to come together and share food\, fun and games \nFreestyle Martial Arts provides the basics and our fabulous chefs will BBQ hamburgers\, veggie burgers and hot dogs \nWe will have games for all ages\nBe ready for our FAMOUS “WATER BATTLE” WITH THE SENSEI’S \nFreestyle families can bring a ﻿dish to share and your own drinks (we provide water)\nSign up in the binder at the front desk
URL:https://freestylesd.com/event/annual-student-appreciation-picnic-10-2pm/
CATEGORIES:Dojo Schedule,Special Events
END:VEVENT
BEGIN:VEVENT
DTSTART;TZID=America/Los_Angeles:20220910T150000
DTEND;TZID=America/Los_Angeles:20220910T160000
DTSTAMP:20260422T150633
CREATED:20220719T004052Z
LAST-MODIFIED:20220719T004144Z
UID:8365-1662822000-1662825600@freestylesd.com
SUMMARY:3pm Karate Kid Make Up Belt Exam via Zoom
DESCRIPTION:If you missed the belt exam in August\, plan to attend the Make up Belt Exam Saturday Sept 10th at 3pm via zoom\nhttps://us02web.zoom.us/j/87884079218\nIf you are testing for red and above\, you cannot do a make up belt exam
URL:https://freestylesd.com/event/3pm-karate-kid-make-up-belt-exam-via-zoom/
CATEGORIES:Belt Testing,Testing and Pre-Exams
END:VEVENT
BEGIN:VEVENT
DTSTART;TZID=America/Los_Angeles:20220909T160000
DTEND;TZID=America/Los_Angeles:20220909T163000
DTSTAMP:20260422T150633
CREATED:20220719T002811Z
LAST-MODIFIED:20220719T004520Z
UID:8363-1662739200-1662741000@freestylesd.com
SUMMARY:4pm Leadership Meeting
DESCRIPTION:
URL:https://freestylesd.com/event/4pm-leadership-meeting-17/
CATEGORIES:Leadership Team Meetings
END:VEVENT
BEGIN:VEVENT
DTSTART;VALUE=DATE:20220902
DTEND;VALUE=DATE:20220906
DTSTAMP:20260422T150633
CREATED:20220719T004655Z
LAST-MODIFIED:20220719T004655Z
UID:8369-1662076800-1662422399@freestylesd.com
SUMMARY:Labor Day Holiday - DOJO CLOSED
DESCRIPTION:Dojo closed in honor of Labor Day.\nClasses resume Tuesday\, September 6th
URL:https://freestylesd.com/event/labor-day-holiday-dojo-closed/
CATEGORIES:Dojo Schedule
END:VEVENT
BEGIN:VEVENT
DTSTART;VALUE=DATE:20220831
DTEND;VALUE=DATE:20220902
DTSTAMP:20260422T150633
CREATED:20220727T233442Z
LAST-MODIFIED:20220727T233442Z
UID:8404-1661904000-1662076799@freestylesd.com
SUMMARY:Buddy Day
DESCRIPTION:Invite a friend (or two!) to class! Share the fun of martial arts
URL:https://freestylesd.com/event/buddy-day-5/
CATEGORIES:Dojo Schedule
END:VEVENT
BEGIN:VEVENT
DTSTART;VALUE=DATE:20220829
DTEND;VALUE=DATE:20220831
DTSTAMP:20260422T150633
CREATED:20220727T232812Z
LAST-MODIFIED:20220727T233256Z
UID:8401-1661731200-1661903999@freestylesd.com
SUMMARY:Parent Workout
DESCRIPTION:Wear something comfortable and join your student in class! Go at your own pace\nHave fun and learn how to help your student become a better martial artist
URL:https://freestylesd.com/event/parent-workout-9/
CATEGORIES:Dojo Schedule
END:VEVENT
BEGIN:VEVENT
DTSTART;VALUE=DATE:20220822
DTEND;VALUE=DATE:20220826
DTSTAMP:20260422T150633
CREATED:20220617T000906Z
LAST-MODIFIED:20220719T001035Z
UID:8273-1661126400-1661471999@freestylesd.com
SUMMARY:BELT EXAM WEEK
DESCRIPTION:
URL:https://freestylesd.com/event/belt-exam-week-2/
CATEGORIES:Belt Testing
END:VEVENT
BEGIN:VEVENT
DTSTART;TZID=America/Los_Angeles:20220820T183000
DTEND;TZID=America/Los_Angeles:20220820T210000
DTSTAMP:20260422T150633
CREATED:20220727T235224Z
LAST-MODIFIED:20220727T235224Z
UID:8406-1661020200-1661029200@freestylesd.com
SUMMARY:Movie Night
DESCRIPTION:
URL:https://freestylesd.com/event/movie-night-2/
CATEGORIES:Dojo Schedule,Special Events
END:VEVENT
BEGIN:VEVENT
DTSTART;VALUE=DATE:20220817
DTEND;VALUE=DATE:20220819
DTSTAMP:20260422T150633
CREATED:20220805T002526Z
LAST-MODIFIED:20220805T011920Z
UID:8418-1660694400-1660867199@freestylesd.com
SUMMARY:Practice Board Breaking for Brown I & up
DESCRIPTION:If you are Brown I and up and testing for a belt in August\, plan to bring boards to class to practice your board break.\nBoard sizing is based on age.\nClick here for board sizing information STUDENT RESOURCES
URL:https://freestylesd.com/event/practice-board-breaking-in-class-2/
CATEGORIES:Dojo Schedule
END:VEVENT
BEGIN:VEVENT
DTSTART;TZID=America/Los_Angeles:20220806T150000
DTEND;TZID=America/Los_Angeles:20220806T160000
DTSTAMP:20260422T150633
CREATED:20220617T001141Z
LAST-MODIFIED:20220617T001203Z
UID:8277-1659798000-1659801600@freestylesd.com
SUMMARY:3pm Karate Kid Make Up Pre-Exam via Zoom
DESCRIPTION:If you are missing a pre-exam stripe\, plan to attend the make up pre-exam class via zoom on Saturday July 9 at 3pm\nhttps://us02web.zoom.us/j/87884079218\nclick HERE to join make up exam
URL:https://freestylesd.com/event/3pm-karate-kid-make-up-pre-exam-via-zoom-2/
CATEGORIES:Pre-Exams
END:VEVENT
BEGIN:VEVENT
DTSTART;TZID=America/Los_Angeles:20220805T160000
DTEND;TZID=America/Los_Angeles:20220805T163000
DTSTAMP:20260422T150633
CREATED:20220617T001027Z
LAST-MODIFIED:20220617T001027Z
UID:8275-1659715200-1659717000@freestylesd.com
SUMMARY:4pm Leadership Meeting
DESCRIPTION:
URL:https://freestylesd.com/event/4pm-leadership-meeting-16/
CATEGORIES:Leadership Team Meetings
END:VEVENT
BEGIN:VEVENT
DTSTART;TZID=America/Los_Angeles:20220731T130000
DTEND;TZID=America/Los_Angeles:20220731T170000
DTSTAMP:20260422T150633
CREATED:20220623T000147Z
LAST-MODIFIED:20220628T012418Z
UID:8289-1659272400-1659286800@freestylesd.com
SUMMARY:1:10pm Martial Arts Day at Petco Park
DESCRIPTION:Join us for Martial Arts Day at Petco Park\, Sunday July 31st at 1:10pm.  San Diego Padres vs the Minnesota Twins\nJunior Team Freestyle will be performing at Gallagher Square before the game!\nGroup tickets are $41 per person.\nWe will be sitting in Right Field Lower Reserve\nAll attendees will receive a Bruce Lee Tribute Baseball Cap\nPlease sign up at the front desk. Clearly print your email\, we will be sending your tickets electronically\nPlease pay cash or check made payable to Darren Kikuchi by July 15th
URL:https://freestylesd.com/event/110pm-martial-arts-day-at-petco-park/
LOCATION:Petco Park\, 100 Park Blvd\, San Diego\, CA\, 92101\, United States
CATEGORIES:Special Events,Team Freestyle
END:VEVENT
BEGIN:VEVENT
DTSTART;TZID=America/Los_Angeles:20220731T070000
DTEND;TZID=America/Los_Angeles:20220731T120000
DTSTAMP:20260422T150633
CREATED:20220727T003314Z
LAST-MODIFIED:20220727T003314Z
UID:8399-1659250800-1659268800@freestylesd.com
SUMMARY:7-12noon Blackbelt Exam - closed to public
DESCRIPTION:
URL:https://freestylesd.com/event/7-12noon-blackbelt-exam-closed-to-public/
CATEGORIES:Belt Testing,Testing and Pre-Exams
END:VEVENT
END:VCALENDAR