BEGIN:VCALENDAR
VERSION:2.0
PRODID:-//Freestyle Martial Arts - ECPv6.15.20//NONSGML v1.0//EN
CALSCALE:GREGORIAN
METHOD:PUBLISH
X-WR-CALNAME:Freestyle Martial Arts
X-ORIGINAL-URL:https://freestylesd.com
X-WR-CALDESC:Events for Freestyle Martial Arts
REFRESH-INTERVAL;VALUE=DURATION:PT1H
X-Robots-Tag:noindex
X-PUBLISHED-TTL:PT1H
BEGIN:VTIMEZONE
TZID:America/Los_Angeles
BEGIN:DAYLIGHT
TZOFFSETFROM:-0800
TZOFFSETTO:-0700
TZNAME:PDT
DTSTART:20210314T100000
END:DAYLIGHT
BEGIN:STANDARD
TZOFFSETFROM:-0700
TZOFFSETTO:-0800
TZNAME:PST
DTSTART:20211107T090000
END:STANDARD
BEGIN:DAYLIGHT
TZOFFSETFROM:-0800
TZOFFSETTO:-0700
TZNAME:PDT
DTSTART:20220313T100000
END:DAYLIGHT
BEGIN:STANDARD
TZOFFSETFROM:-0700
TZOFFSETTO:-0800
TZNAME:PST
DTSTART:20221106T090000
END:STANDARD
BEGIN:DAYLIGHT
TZOFFSETFROM:-0800
TZOFFSETTO:-0700
TZNAME:PDT
DTSTART:20230312T100000
END:DAYLIGHT
BEGIN:STANDARD
TZOFFSETFROM:-0700
TZOFFSETTO:-0800
TZNAME:PST
DTSTART:20231105T090000
END:STANDARD
END:VTIMEZONE
BEGIN:VEVENT
DTSTART;TZID=America/Los_Angeles:20220730T140000
DTEND;TZID=America/Los_Angeles:20220730T190000
DTSTAMP:20260423T031321
CREATED:20220727T003221Z
LAST-MODIFIED:20220727T003221Z
UID:8397-1659189600-1659207600@freestylesd.com
SUMMARY:2-7pm Blackbelt Exam - closed to public
DESCRIPTION:
URL:https://freestylesd.com/event/2-7pm-blackbelt-exam-closed-to-public/
CATEGORIES:Belt Testing,Testing and Pre-Exams
END:VEVENT
BEGIN:VEVENT
DTSTART;TZID=America/Los_Angeles:20220729T190000
DTEND;TZID=America/Los_Angeles:20220729T220000
DTSTAMP:20260423T031321
CREATED:20220727T002943Z
LAST-MODIFIED:20220727T003113Z
UID:8394-1659121200-1659132000@freestylesd.com
SUMMARY:7-10pm Blackbelt Exam - open to all to watch
DESCRIPTION:Blackbelt Exam\, Friday 7/29 7-10pm\, Saturday 2-7pm\, and Sunday 7-12noon\nFriday 7/29 is the first night of blackbelt exam.  It is open to all students to watch and learn.\nSaturday and Sunday parts of the blackbelt exam are closed\, only parents are allowed to attend.
URL:https://freestylesd.com/event/7-10pm-blackbelt-exam/
CATEGORIES:Belt Testing,Testing and Pre-Exams
END:VEVENT
BEGIN:VEVENT
DTSTART;VALUE=DATE:20220720
DTEND;VALUE=DATE:20220722
DTSTAMP:20260423T031321
CREATED:20220617T000831Z
LAST-MODIFIED:20220617T000831Z
UID:8271-1658275200-1658447999@freestylesd.com
SUMMARY:Karate Kids Pre-Exams in class
DESCRIPTION:
URL:https://freestylesd.com/event/karate-kids-pre-exams-in-class-2/
CATEGORIES:Dojo Schedule,Pre-Exams
END:VEVENT
BEGIN:VEVENT
DTSTART;TZID=America/Los_Angeles:20220709T150000
DTEND;TZID=America/Los_Angeles:20220709T160000
DTSTAMP:20260423T031321
CREATED:20220617T000741Z
LAST-MODIFIED:20220617T000741Z
UID:8269-1657378800-1657382400@freestylesd.com
SUMMARY:3pm Karate Kid Make Up Pre Exam via Zoom
DESCRIPTION:If you are missing a pre-exam stripe\, plan to attend the make up pre-exam class via zoom on Saturday July 9 at 3pm\nhttps://us02web.zoom.us/j/87884079218\nclick HERE to join make up exam
URL:https://freestylesd.com/event/3pm-karate-kid-make-up-pre-exam-via-zoom/
CATEGORIES:Pre-Exams
END:VEVENT
BEGIN:VEVENT
DTSTART;TZID=America/Los_Angeles:20220708T160000
DTEND;TZID=America/Los_Angeles:20220708T163000
DTSTAMP:20260423T031321
CREATED:20220617T000535Z
LAST-MODIFIED:20220617T000535Z
UID:8266-1657296000-1657297800@freestylesd.com
SUMMARY:4pm Leadership Meeting
DESCRIPTION:
URL:https://freestylesd.com/event/4pm-leadership-meeting-15/
CATEGORIES:Leadership Team Meetings
END:VEVENT
BEGIN:VEVENT
DTSTART;VALUE=DATE:20220701
DTEND;VALUE=DATE:20220705
DTSTAMP:20260423T031321
CREATED:20220617T000456Z
LAST-MODIFIED:20220617T000456Z
UID:8264-1656633600-1656979199@freestylesd.com
SUMMARY:4th of July Holiday - Dojo Closed
DESCRIPTION:
URL:https://freestylesd.com/event/4th-of-july-holiday-dojo-closed/
CATEGORIES:Dojo Schedule
END:VEVENT
BEGIN:VEVENT
DTSTART;VALUE=DATE:20220622
DTEND;VALUE=DATE:20220624
DTSTAMP:20260423T031321
CREATED:20220617T000345Z
LAST-MODIFIED:20220617T000345Z
UID:8261-1655856000-1656028799@freestylesd.com
SUMMARY:Karate Kid Pre-Exams in class
DESCRIPTION:
URL:https://freestylesd.com/event/karate-kid-pre-exams-in-class-2/
CATEGORIES:Dojo Schedule,Pre-Exams
END:VEVENT
BEGIN:VEVENT
DTSTART;TZID=America/Los_Angeles:20220610T183000
DTEND;TZID=America/Los_Angeles:20220610T203000
DTSTAMP:20260423T031321
CREATED:20220524T021132Z
LAST-MODIFIED:20220524T022912Z
UID:8210-1654885800-1654893000@freestylesd.com
SUMMARY:6:30pm TFC 2
DESCRIPTION:Undercard:\nTyler Yee Vs Jordan Alexandrov\nNorah Belverud Vs Leopold Aramovich\nPiper Jones vs Natalie Martinez\nHannah Jones Vs Katarina Hoehn\nDarian Alexandrov vs Sara McRae \nMain event:\nAbi Hunck vs Anderson Belverud\nChristian Quinlan Vs Judah Sagawa
URL:https://freestylesd.com/event/630pm-tfc-2/
CATEGORIES:Dojo Schedule
END:VEVENT
BEGIN:VEVENT
DTSTART;TZID=America/Los_Angeles:20220604T150000
DTEND;TZID=America/Los_Angeles:20220604T160000
DTSTAMP:20260423T031321
CREATED:20220510T232259Z
LAST-MODIFIED:20220511T020354Z
UID:8183-1654354800-1654358400@freestylesd.com
SUMMARY:3pm Make Up Belt Exam via Zoom
DESCRIPTION:If you missed the belt exam last week\, plan to attend the Make up Belt Exam Saturday June 4th at 3pm via zoom\nhttps://us02web.zoom.us/j/87884079218\nIf you are testing for red and above\, you cannot do a make up belt exam
URL:https://freestylesd.com/event/3pm-make-up-belt-exam-via-zoom-3/
CATEGORIES:Belt Testing,Testing and Pre-Exams
END:VEVENT
BEGIN:VEVENT
DTSTART;TZID=America/Los_Angeles:20220603T160000
DTEND;TZID=America/Los_Angeles:20220603T170000
DTSTAMP:20260423T031321
CREATED:20220510T232103Z
LAST-MODIFIED:20220510T232103Z
UID:8181-1654272000-1654275600@freestylesd.com
SUMMARY:4pm Leadership Meeting
DESCRIPTION:
URL:https://freestylesd.com/event/4pm-leadership-meeting-14/
CATEGORIES:Dojo Schedule,Leadership Team Meetings
END:VEVENT
BEGIN:VEVENT
DTSTART;VALUE=DATE:20220601
DTEND;VALUE=DATE:20220602
DTSTAMP:20260423T031321
CREATED:20220524T020903Z
LAST-MODIFIED:20220524T020903Z
UID:8208-1654041600-1654127999@freestylesd.com
SUMMARY:June FREE for Dad's
DESCRIPTION:
URL:https://freestylesd.com/event/june-free-for-dads/
CATEGORIES:Dojo Schedule
END:VEVENT
BEGIN:VEVENT
DTSTART;VALUE=DATE:20220531
DTEND;VALUE=DATE:20220602
DTSTAMP:20260423T031321
CREATED:20220524T020813Z
LAST-MODIFIED:20220524T020813Z
UID:8206-1653955200-1654127999@freestylesd.com
SUMMARY:Parent Workout
DESCRIPTION:
URL:https://freestylesd.com/event/parent-workout-7/
CATEGORIES:Dojo Schedule
END:VEVENT
BEGIN:VEVENT
DTSTART;VALUE=DATE:20220527
DTEND;VALUE=DATE:20220531
DTSTAMP:20260423T031321
CREATED:20220413T012814Z
LAST-MODIFIED:20220413T012814Z
UID:8101-1653609600-1653955199@freestylesd.com
SUMMARY:Memorial Day Holiday - Dojo CLOSED
DESCRIPTION:
URL:https://freestylesd.com/event/memorial-day-holiday-dojo-closed/
CATEGORIES:Dojo Schedule
END:VEVENT
BEGIN:VEVENT
DTSTART;VALUE=DATE:20220523
DTEND;VALUE=DATE:20220525
DTSTAMP:20260423T031321
CREATED:20220425T234617Z
LAST-MODIFIED:20220425T235141Z
UID:8141-1653264000-1653436799@freestylesd.com
SUMMARY:Professional Photo Day
DESCRIPTION:3:30 – 8:00 pm Both Days\nProofs will be shown on Photo Day\nPhoto Packages must be purchased on Photo Day!\nPlease have parents present to view and purchase photos.\nDon’t miss out!\nFor information please call 619-737-6116\, www.gekaratephoto.com
URL:https://freestylesd.com/event/professional-photo-day/
CATEGORIES:Dojo Schedule,Special Events
END:VEVENT
BEGIN:VEVENT
DTSTART;VALUE=DATE:20220523
DTEND;VALUE=DATE:20220527
DTSTAMP:20260423T031321
CREATED:20220413T011626Z
LAST-MODIFIED:20220413T013735Z
UID:8095-1653264000-1653609599@freestylesd.com
SUMMARY:BELT EXAM WEEK
DESCRIPTION:BELT EXAM WEEK\nNo regular classes during belt exam week\nOnly come to your scheduled belt exam\nClick here to find your belt exam time MAY 2022 BELT EXAM SCHEDULE\nYou can also find it in the weekly email and at the front desk
URL:https://freestylesd.com/event/belt-exam-week/
CATEGORIES:Belt Testing,Testing and Pre-Exams
END:VEVENT
BEGIN:VEVENT
DTSTART;TZID=America/Los_Angeles:20220521T093000
DTEND;TZID=America/Los_Angeles:20220521T100000
DTSTAMP:20260423T031321
CREATED:20220413T005316Z
LAST-MODIFIED:20220413T005316Z
UID:8093-1653125400-1653127200@freestylesd.com
SUMMARY:9:30am Tiger Tot Belt Exam
DESCRIPTION:
URL:https://freestylesd.com/event/930am-tiger-tot-belt-exam/
CATEGORIES:Belt Testing,Testing and Pre-Exams
END:VEVENT
BEGIN:VEVENT
DTSTART;VALUE=DATE:20220518
DTEND;VALUE=DATE:20220520
DTSTAMP:20260423T031321
CREATED:20220413T013135Z
LAST-MODIFIED:20220413T014006Z
UID:8103-1652832000-1653004799@freestylesd.com
SUMMARY:Board Breaking Practice for Brown I & up
DESCRIPTION:If you are Brown I and up and testing for a belt in May\, plan to bring boards to class to practice your board break.\nBoard sizing is based on age.\nClick here for board sizing information STUDENT RESOURCES
URL:https://freestylesd.com/event/board-breaking-practice-for-brown-i-up/
CATEGORIES:Dojo Schedule
END:VEVENT
BEGIN:VEVENT
DTSTART;TZID=America/Los_Angeles:20220514T130000
DTEND;TZID=America/Los_Angeles:20220514T170000
DTSTAMP:20260423T031321
CREATED:20220420T234419Z
LAST-MODIFIED:20220420T234419Z
UID:8126-1652533200-1652547600@freestylesd.com
SUMMARY:1pm In-House Tournament
DESCRIPTION:1:00 – 3:00 – Brown through Jr Black Belts (Karate Kids\, Youth and Teens)\n3:00 – 4:00 – White through Orange I (Karate Kids and Youth)\n3:30 – 4:00 – Cool Cats\n4:00 – 4:30 – Tiger Tots\n4:00 – 5:00 – Green through Blue I (Karate Kids and Youth) \nFees\n$35 – Tiger Tots & Cool Cats – 1 event\, Martial Arts Basics – all earn awards\n$55 – White through Orange I – 2 events\, Martial Arts Basics & Grappling – top 3 earn awards per event\n$70 – Green through Jr Black Belt – 3 events\, Traditional Forms\, Sparring & Grappling – top 3 earn awards per event
URL:https://freestylesd.com/event/1pm-in-house-tournament/
CATEGORIES:Tournament
END:VEVENT
BEGIN:VEVENT
DTSTART;TZID=America/Los_Angeles:20220507T150000
DTEND;TZID=America/Los_Angeles:20220507T160000
DTSTAMP:20260423T031321
CREATED:20220413T004714Z
LAST-MODIFIED:20220413T005150Z
UID:8089-1651935600-1651939200@freestylesd.com
SUMMARY:3pm Make up Pre Exam on Zoom
DESCRIPTION:click HERE to join make up exam\nhttps://us02web.zoom.us/j/87884079218
URL:https://freestylesd.com/event/3pm-make-up-pre-exam-on-zoom-3/
CATEGORIES:Pre-Exams,Testing and Pre-Exams
END:VEVENT
BEGIN:VEVENT
DTSTART;TZID=America/Los_Angeles:20220506T160000
DTEND;TZID=America/Los_Angeles:20220506T163000
DTSTAMP:20260423T031321
CREATED:20220413T004603Z
LAST-MODIFIED:20220413T004603Z
UID:8087-1651852800-1651854600@freestylesd.com
SUMMARY:4pm Leadership Meeting
DESCRIPTION:
URL:https://freestylesd.com/event/4pm-leadership-meeting-13/
CATEGORIES:Leadership Team Meetings
END:VEVENT
BEGIN:VEVENT
DTSTART;TZID=America/Los_Angeles:20220422T183000
DTEND;TZID=America/Los_Angeles:20220422T203000
DTSTAMP:20260423T031321
CREATED:20220415T013203Z
LAST-MODIFIED:20220415T013203Z
UID:8110-1650652200-1650659400@freestylesd.com
SUMMARY:6:30 TFC Event
DESCRIPTION:
URL:https://freestylesd.com/event/630-tfc-event/
CATEGORIES:Dojo Schedule,Team Freestyle,Tournament
END:VEVENT
BEGIN:VEVENT
DTSTART;VALUE=DATE:20220420
DTEND;VALUE=DATE:20220422
DTSTAMP:20260423T031321
CREATED:20220316T014503Z
LAST-MODIFIED:20220316T014503Z
UID:8033-1650412800-1650585599@freestylesd.com
SUMMARY:Karate Kid Pre-Exams
DESCRIPTION:In class pre-exams.\nIf you have a stripe turned the wrong way\, make sure you practice that skill and show one of the sensei’s to get it turned the correct way BEFORE the pre-exam\nWhite belts need one stripe to test in May\nYellow – Brown belts need 2 stripes to test in May\nBrown I – JBB need 5 stripes to test in May
URL:https://freestylesd.com/event/karate-kid-pre-exams/
CATEGORIES:Pre-Exams,Testing and Pre-Exams
END:VEVENT
BEGIN:VEVENT
DTSTART;VALUE=DATE:20220415
DTEND;VALUE=DATE:20220418
DTSTAMP:20260423T031321
CREATED:20220321T230834Z
LAST-MODIFIED:20220321T230834Z
UID:8040-1649980800-1650239999@freestylesd.com
SUMMARY:April 15-17 Dojo Closed
DESCRIPTION:Dojo closed April 15-17 Friday-Sunday for Easter.  Enjoy this time with your family and friends
URL:https://freestylesd.com/event/april-15-17-dojo-closed/
CATEGORIES:Dojo Schedule
END:VEVENT
BEGIN:VEVENT
DTSTART;TZID=America/Los_Angeles:20220402T150000
DTEND;TZID=America/Los_Angeles:20220402T160000
DTSTAMP:20260423T031321
CREATED:20220316T013512Z
LAST-MODIFIED:20220316T014011Z
UID:8024-1648911600-1648915200@freestylesd.com
SUMMARY:3pm Make up Pre Exam on Zoom
DESCRIPTION:click HERE to join make up exam\nhttps://us02web.zoom.us/j/87884079218
URL:https://freestylesd.com/event/3pm-make-up-pre-exam-on-zoom-2/
CATEGORIES:Pre-Exams,Testing and Pre-Exams
END:VEVENT
BEGIN:VEVENT
DTSTART;TZID=America/Los_Angeles:20220402T130000
DTEND;TZID=America/Los_Angeles:20220402T140000
DTSTAMP:20260423T031321
CREATED:20220306T192651Z
LAST-MODIFIED:20220331T225001Z
UID:8004-1648904400-1648908000@freestylesd.com
SUMMARY:Easter Egg Hunt\, 1-2pm
DESCRIPTION:Bring a basket and join the fun as you search for easter eggs with treasures inside!\nMeet at the FMA tent in the back parking lot\nEaster Egg Hunt is by ages\nDon’t miss the Demo Team performances following the Easter Egg Hunt!
URL:https://freestylesd.com/event/easter-egg-hunt-2/
CATEGORIES:Dojo Schedule,Special Events
END:VEVENT
BEGIN:VEVENT
DTSTART;TZID=America/Los_Angeles:20220401T160000
DTEND;TZID=America/Los_Angeles:20220401T163000
DTSTAMP:20260423T031321
CREATED:20220316T014059Z
LAST-MODIFIED:20220316T014059Z
UID:8031-1648828800-1648830600@freestylesd.com
SUMMARY:4pm Leadership Meeting
DESCRIPTION:
URL:https://freestylesd.com/event/4pm-leadership-meeting-12/
CATEGORIES:Leadership Team Meetings
END:VEVENT
BEGIN:VEVENT
DTSTART;VALUE=DATE:20220323
DTEND;VALUE=DATE:20220325
DTSTAMP:20260423T031321
CREATED:20220306T223153Z
LAST-MODIFIED:20220306T223153Z
UID:8008-1647993600-1648166399@freestylesd.com
SUMMARY:Karate Kid Pre-Exams in class
DESCRIPTION:
URL:https://freestylesd.com/event/karate-kid-pre-exams-in-class/
CATEGORIES:Dojo Schedule
END:VEVENT
BEGIN:VEVENT
DTSTART;VALUE=DATE:20220316
DTEND;VALUE=DATE:20220318
DTSTAMP:20260423T031321
CREATED:20220306T192527Z
LAST-MODIFIED:20220306T192527Z
UID:8002-1647388800-1647561599@freestylesd.com
SUMMARY:Buddy Day
DESCRIPTION:Invite a friend (or two!) to class!  Share the fun of martial arts
URL:https://freestylesd.com/event/buddy-day-4/
CATEGORIES:Dojo Schedule
END:VEVENT
BEGIN:VEVENT
DTSTART;TZID=America/Los_Angeles:20220312T150000
DTEND;TZID=America/Los_Angeles:20220312T170000
DTSTAMP:20260423T031321
CREATED:20220306T192400Z
LAST-MODIFIED:20220306T223041Z
UID:8000-1647097200-1647104400@freestylesd.com
SUMMARY:3pm Make up Belt Exam via zoom
DESCRIPTION:If you missed the belt exam last week\, plan to attend the Make up Belt Exam Saturday March 12 at 3pm via zoom\nhttps://us02web.zoom.us/j/87884079218\nIf you are testing for red and above\, you cannot do a make up belt exam
URL:https://freestylesd.com/event/make-up-belt-exam/
CATEGORIES:Belt Testing,Testing and Pre-Exams
END:VEVENT
BEGIN:VEVENT
DTSTART;TZID=America/Los_Angeles:20220311T160000
DTEND;TZID=America/Los_Angeles:20220311T170000
DTSTAMP:20260423T031321
CREATED:20220306T192045Z
LAST-MODIFIED:20220306T192045Z
UID:7998-1647014400-1647018000@freestylesd.com
SUMMARY:4pm Leadership Meeting
DESCRIPTION:
URL:https://freestylesd.com/event/4pm-leadership-meeting-11/
CATEGORIES:Leadership Team Meetings
END:VEVENT
END:VCALENDAR